Workbook

Sheet 様式１
A1: 【様式１】
H2: 46321 | K2: ←適宜修正してください
A4: 大阪府教育長 様
G6: 学校(園)名 | K6: ←プルダウンから選択してください
G7: 設置者名 | H7: =INDEX(学校番号一覧!$G$12:$G$194,MATCH(H6,学校番号一覧!$F$12:$F$194,0)) -> #N/A | K7: ←上記選択後、自動入力されます
G8: 代表者名 | K8: ←入力してください
A10: 令和８年度大阪府私立学校物価高騰対策一時支援金 支給申請書 | K10: ※自動入力される内容に誤りがある場合、担当者までご連絡ください
B12: 標記について、以下のとおり申請します。
C14: 令和８年５月１日時点の生徒（園児・児童）数 | H14: =INDEX(学校番号一覧!$Q$12:$Q$194,MATCH(H6,学校番号一覧!$F$12:$F$194,0)) -> #N/A | I14: 人 | K14: ←学校(園)名を選択後、自動入力されます
C15: 一時支援金申請額 | H15: =INDEX(学校番号一覧!$R$12:$R$194,MATCH(H6,学校番号一覧!$F$12:$F$194,0)) -> #N/A | I15: 円 | K15: ←学校(園)名を選択後、自動入力されます
B17: 誓約・同意事項
B19: 私は、大阪府私立学校物価高騰対策一時支援金の支給を申請するにあたり、下記の内容について誓約・同意します。
B20: ※各項目を確認し、誓約・同意するものにチェックしてください。すべてにチェックがない場合、支給できません。
B22: 申請要件をすべて満たしています。また、申請書に記載した事項については事実と相違ありません。 | K22: ←以下、漏れなくチェックしてください
B23: 申請時点において対象学校を休止・廃止していません。
B24: 申請内容に虚偽や不正等が判明した場合は、一時支援金の全部又は一部の返還と違約金及び返還に要する費用の支払いに応じます。
B25: 教育長から設置者の活動状況に関する調査、報告又は是正のために措置の求めがあった場合は、これに応じます。また、申請内容に疑義があった場合に、大阪府が設置者の関係者に対して本申請の内容について調査することに同意します。
B26: 申請内容の不備が、教育長が指定する期限までに解消しなかった場合は、教育長が当該申請は取り下げられたものとみなすことについて同意します。
B27: 支給又は不支給に関する情報並びに申請書類に記載した情報について、税務情報として使用することがあるほか、国・市町村等他の行政機関から求めがあった場合は、税務情報として提供することについて同意します。
B28: 支給又は不支給に関する情報並びに申請書類に記載した情報について、大阪府の他の支援金等の事業（支援金、協力金その他申請者の事業継続に資するものに限る。）における審査・支給等の事務のために使用することがあるほか、国・市町村等他の行政機関から求めがあった場合にも、当該行政機関の実施する同趣旨の支援金等における審査・支給等の事務のために提供することについて同意します。
B29: 申請書類に記載された情報を、大阪府暴力団排除条例第26条に基づき、大阪府警察本部に提供することに同意します。
B30: 代表者、役員又は使用人その他の従業員若しくは構成員等が、大阪府暴力団排除条例第２条第１号に規定する暴力団、同条第２号に規定する暴力団員、同条第３号に規定する暴力団員等及び同条第４号に規定する暴力団密接関係者には、該当せず、かつ将来にわたっても該当しません。また、上記の暴力団、暴力団員、暴力団員等及び暴力団密接関係者が経営に事実上参画していません。
G32: 学校(幼稚園)番号 | K32: ←入力してください
G33: 担当者名 | K33: ←入力してください
G34: 電話番号 | K34: ←入力してください

Sheet 学校番号一覧
L1: 学種コード | M1: 校種 | N1: 校数
B2: 学校番号一覧 （令和2年7月1日作成） | L2: 1 | M2: 高等学校 | N2: 96 | P2: 小学校, 中学校,義務教育学校（前期課程）, 義務教育学校（後期課程）, 中等教育学校（前期課程）, 中等教育学校（後期課程）, 高等学校, 特別支援学校（高等部のみ）, 専修学校（高等課程）, 特別支援学校, 高等学校（通信制課程のみ）
L3: 3 | M3: 高等学校（通信制課程のみ） | N3: 12
C4: ※「Accessアプリケーション（シンクライアント）」フォルダに格納された「学校台帳.mdb」から作成 | G4: 改変履歴 | L4: 4 | M4: 中学校 | N4: 61
G5: 2020/7/9 精華高等学校の学校番号を「新旧学校コード」と一致させるために変更（37012→37011） | L5: 5 | M5: 小学校 | N5: 17
G6: 2020/7/16 香里ケ丘、帝塚山泉ケ丘の「ケ」を「ヶ」に変更 | L6: 6 | M6: 中等教育学校（前期課程） | N6: 1
G7: 2020/10/23 学校名カナを修正 | L7: 7 | M7: 中等教育学校（後期課程） | N7: 1
G8: 2026/10/9 非表示箇所は更新してない | N8: 188
A9: 旧番号 | B9: 新番号 | D9: 旧番号 | F9: 1 | G9: 2 | H9: 3 | I9: 4 | J9: 5 | K9: 6 | L9: 7 | M9: 8 | N9: 9 | O9: 10 | P9: 11 | Q9: 12 | R9: 13 | S9: 14
A10: 学校コード | B10: 新学校番号 | C10: 休廃校コード | D10: 法人コード | E10: 学校名カナ | F10: 学校名 | G10: 法人名 | H10: 電話番号 | I10: ＦＡＸ番号 | J10: 郵便番号 | K10: 所在地 | L10: 市区町村コード | M10: 学校名略称 | N10: 学種 | O10: 学校コード | P10: 対象学校又は過程 | Q10: 生徒数 | R10: 申請額 | S10: 学校コード
F11: 選択してください | G11: 自動反映 | O11: 自動反映 | P11: 自動反映 | Q11: 自動反映 | R11: 自動反映 | S11: 自動反映
A12: 01011 | B12: 1001011 | C12: 0 | D12: 010 | E12: ｶｵﾘｶﾞｵｶﾘﾍﾞﾙﾃ | F12: 香ヶ丘リベルテ高等学校 | G12: 学校法人 愛泉学園 | H12: 072(238)7881 | I12: 072(227)4191 | J12: 590-0012 | K12: 堺市浅香山町1-2-20 | L12: 201 | M12: 香ヶ丘リベルテ | N12: 1 | O12: 1011 | P12: 高等学校 | Q12: =VLOOKUP(A12,'R8生徒数'!$A$5:$D$190,4,FALSE) -> 591 | R12: =VLOOKUP(A12,'R8生徒数'!$A$5:$E$190,5,FALSE) -> 165000 | S12: 01011
A13: 01012 | B13: 1001012 | C13: 0 | D13: 010 | E13: ｻｶｲﾘﾍﾞﾗﾙ | F13: 堺リベラル高等学校 | G13: 学校法人 愛泉学園 | H13: 072(238)8188 | I13: 072(238)8187 | J13: 590-0012 | K13: 堺市浅香山町1-2-20 | L13: 201 | M13: 堺リベラル | N13: 1 | O13: 1012 | P13: 高等学校 | Q13: =VLOOKUP(A13,'R8生徒数'!$A$5:$D$190,4,FALSE) -> 186 | R13: =VLOOKUP(A13,'R8生徒数'!$A$5:$E$190,5,FALSE) -> 60000 | S13: 01012
A14: 01041 | B14: 1001041 | C14: 0 | D14: 010 | E14: ｻｶｲﾘﾍﾞﾗﾙ | F14: 堺リベラル中学校 | G14: 学校法人 愛泉学園 | H14: 072(238)8188 | I14: 072(238)8187 | J14: 590-0012 | K14: 堺市浅香山町1-2-20 | L14: 201 | M14: 堺リベラル | N14: 4 | O14: 1041 | P14: 中学校 | Q14: =VLOOKUP(A14,'R8生徒数'!$A$5:$D$190,4,FALSE) -> 155 | R14: =VLOOKUP(A14,'R8生徒数'!$A$5:$E$190,5,FALSE) -> 45000 | S14: 01041
A15: 02011 | B15: 1002011 | C15: 0 | D15: 020 | E15: ｳｴﾉﾐﾔ | F15: 上宮高等学校 | G15: 学校法人 上宮学園 | H15: 06(6771)5701 | I15: 06(6771)4678 | J15: 543-0037 | K15: 天王寺区上之宮町3-16 | L15: 109 | M15: 上宮 | N15: 1 | O15: 2011 | P15: 高等学校 | Q15: =VLOOKUP(A15,'R8生徒数'!$A$5:$D$190,4,FALSE) -> 1751 | R15: =VLOOKUP(A15,'R8生徒数'!$A$5:$E$190,5,FALSE) -> 366000 | S15: 02011
A16: 02012 | B16: 1002012 | C16: 0 | D16: 020 | E16: ｳｴﾉﾐﾔﾀｲｼ | F16: 上宮太子高等学校 | G16: 学校法人 上宮学園 | H16: 0721(98)3611 | I16: 0721(98)1725 | J16: 583-0995 | K16: 南河内郡太子町字太子1053 | L16: 381 | M16: 上宮太子 | N16: 1 | O16: 2012 | P16: 高等学校 | Q16: =VLOOKUP(A16,'R8生徒数'!$A$5:$D$190,4,FALSE) -> 584 | R16: =VLOOKUP(A16,'R8生徒数'!$A$5:$E$190,5,FALSE) -> 165000 | S16: 02012
A17: 02041 | B17: 1002041 | C17: 0 | D17: 020 | E17: ｳｴﾉﾐﾔｶﾞｸｴﾝ | F17: 上宮学園中学校 | G17: 学校法人 上宮学園 | H17: 06(6771)5701 | I17: 06(6771)4678 | J17: 543-0037 | K17: 天王寺区上之宮町3-16 | L17: 109 | M17: 上宮 | N17: 4 | O17: 2041 | P17: 中学校 | Q17: =VLOOKUP(A17,'R8生徒数'!$A$5:$D$190,4,FALSE) -> 358 | R17: =VLOOKUP(A17,'R8生徒数'!$A$5:$E$190,5,FALSE) -> 120000 | S17: 02041
A18: 03011 | B18: 1003011 | C18: 0 | D18: 030 | E18: ｵｵｻｶｶﾞｸｲﾝﾀﾞｲｶﾞｸ | F18: 大阪学院大学高等学校 | G18: 学校法人 大阪学院大学 | H18: 06(6381)6661 | I18: 06(6382)1191 | J18: 564-0012 | K18: 吹田市南正雀3-12-1 | L18: 205 | M18: 大阪学院 | N18: 1 | O18: 3011 | P18: 高等学校 | Q18: =VLOOKUP(A18,'R8生徒数'!$A$5:$D$190,4,FALSE) -> 1912 | R18: =VLOOKUP(A18,'R8生徒数'!$A$5:$E$190,5,FALSE) -> 366000 | S18: 03011
A19: 04011 | B19: 1004011 | C19: 0 | D19: 040 | E19: ｵｵｻｶ | F19: 大阪高等学校 | G19: 学校法人 大阪学園 | H19: 06(6340)3031 | I19: 06(6349)3719 | J19: 533-0007 | K19: 東淀川区相川2-18-51 | L19: 114 | M19: 大阪 | N19: 1 | O19: 4011 | P19: 高等学校 | Q19: =VLOOKUP(A19,'R8生徒数'!$A$5:$D$190,4,FALSE) -> 1750 | R19: =VLOOKUP(A19,'R8生徒数'!$A$5:$E$190,5,FALSE) -> 366000 | S19: 04011
A20: 05011 | B20: 1005011 | C20: 0 | D20: 050 | E20: ｼﾞｮｳｼｮｳｶﾞｸｴﾝ | F20: 常翔学園高等学校 | G20: 学校法人 常翔学園 | H20: 06(6954)4435 | I20: 06(6953)9497 | J20: 535-8585 | K20: 旭区大宮5-16-1 | L20: 117 | M20: 常翔 | N20: 1 | O20: 5011 | P20: 高等学校 | Q20: =VLOOKUP(A20,'R8生徒数'!$A$5:$D$190,4,FALSE) -> 1920 | R20: =VLOOKUP(A20,'R8生徒数'!$A$5:$E$190,5,FALSE) -> 366000 | S20: 05011
A21: 05012 | B21: 1005012 | C21: 0 | D21: 050 | E21: ｼﾞｮｳｼｮｳｹｲｺｳｶﾞｸｴﾝ | F21: 常翔啓光学園高等学校 | G21: 学校法人 常翔学園 | H21: 072(848)0521 | I21: 072(848)2969 | J21: 573-1197 | K21: 枚方市禁野本町1-13-21 | L21: 210 | M21: 常翔 | N21: 1 | O21: 5012 | P21: 高等学校 | Q21: =VLOOKUP(A21,'R8生徒数'!$A$5:$D$190,4,FALSE) -> 1294 | R21: =VLOOKUP(A21,'R8生徒数'!$A$5:$E$190,5,FALSE) -> 366000 | S21: 05012
A22: 05041 | B22: 1005041 | C22: 0 | D22: 050 | E22: ｼﾞｮｳｼｮｳｶﾞｸｴﾝ | F22: 常翔学園中学校 | G22: 学校法人 常翔学園 | H22: 06(6954)4435 | I22: 06(6953)9497 | J22: 535-8585 | K22: 旭区大宮5-16-1 | L22: 117 | M22: 常翔 | N22: 4 | O22: 5041 | P22: 中学校 | Q22: =VLOOKUP(A22,'R8生徒数'!$A$5:$D$190,4,FALSE) -> 452 | R22: =VLOOKUP(A22,'R8生徒数'!$A$5:$E$190,5,FALSE) -> 120000 | S22: 05041
A23: 05042 | B23: 1005042 | C23: 0 | D23: 050 | E23: ｼﾞｮｳｼｮｳｹｲｺｳｶﾞｸｴﾝ | F23: 常翔啓光学園中学校 | G23: 学校法人 常翔学園 | H23: 072(848)0521 | I23: 072(848)2969 | J23: 573-1197 | K23: 枚方市禁野本町1-13-21 | L23: 210 | M23: 常翔 | N23: 4 | O23: 5042 | P23: 中学校 | Q23: =VLOOKUP(A23,'R8生徒数'!$A$5:$D$190,4,FALSE) -> 207 | R23: =VLOOKUP(A23,'R8生徒数'!$A$5:$E$190,5,FALSE) -> 45000 | S23: 05042
... A65: 22043 | B65: 42243 | C65: 0 | D65: 220 | E65: ｶﾝｻｲﾀﾞｲｶﾞｸﾁｭｳﾄｳﾌﾞ | F65: 関西大学中等部 | G65: 学校法人 関西大学 | H65: 072(684)4326 | I65: 072(684)4347 | J65: 569-1098 | K65: 高槻市白梅町7-1 | L65: 207 | M65: 関大中等 | N65: 4 | O65: 22043 | P65: 中学校 | Q65: =VLOOKUP(A65,'R8生徒数'!$A$5:$D$190,4,FALSE) -> 346 | R65: =VLOOKUP(A65,'R8生徒数'!$A$5:$E$190,5,FALSE) -> 120000 | S65: 22043
A66: 22053 | B66: 42253 | C66: 0 | D66: 220 | E66: ｶﾝｻｲﾀﾞｲｶﾞｸｼｮﾄｳﾌﾞ | F66: 関西大学初等部 | G66: 学校法人 関西大学 | H66: 072(684)4312 | J66: 569-1098 | K66: 高槻市白梅町7-1 | L66: 207 | M66: 関大初 | N66: 5 | O66: 22053 | P66: 小学校 | Q66: =VLOOKUP(A66,'R8生徒数'!$A$5:$D$190,4,FALSE) -> 369 | R66: =VLOOKUP(A66,'R8生徒数'!$A$5:$E$190,5,FALSE) -> 120000 | S66: 22053
A67: 23011 | B67: 42911 | C67: 0 | D67: 230 | E67: ｷﾝｷﾀﾞｲｶﾞｸﾌｿﾞｸ | F67: 近畿大学附属高等学校 | G67: 学校法人 近畿大学 | H67: 06(6722)1261 | I67: 06(6729)7385 | J67: 578-0944 | K67: 東大阪市若江西新町5-3-1 | L67: 227 | M67: 近大附属 | N67: 1 | O67: 23011 | P67: 高等学校 | Q67: =VLOOKUP(A67,'R8生徒数'!$A$5:$D$190,4,FALSE) -> 2832 | R67: =VLOOKUP(A67,'R8生徒数'!$A$5:$E$190,5,FALSE) -> 366000 | S67: 23011
A68: 23041 | B68: 42941 | C68: 0 | D68: 230 | E68: ｷﾝｷﾀﾞｲｶﾞｸﾌｿﾞｸ | F68: 近畿大学附属中学校 | G68: 学校法人 近畿大学 | H68: 06(6722)2830 | I68: 06(6722)1430 | J68: 578-0944 | K68: 東大阪市若江西新町5-3-1 | L68: 227 | M68: 近大附属 | N68: 4 | O68: 23041 | P68: 中学校 | Q68: =VLOOKUP(A68,'R8生徒数'!$A$5:$D$190,4,FALSE) -> 859 | R68: =VLOOKUP(A68,'R8生徒数'!$A$5:$E$190,5,FALSE) -> 228000 | S68: 23041
A69: 24011 | B69: 1024011 | C69: 0 | D69: 240 | E69: ｷﾝﾗﾝｶｲ | F69: 金蘭会高等学校 | G69: 学校法人 金蘭会学園 | H69: 06(6453)0281 | I69: 06(6455)7531 | J69: 531-0075 | K69: 北区大淀南3-3-7 | L69: 127 | M69: 金蘭会 | N69: 1 | O69: 24011 | P69: 高等学校 | Q69: =VLOOKUP(A69,'R8生徒数'!$A$5:$D$190,4,FALSE) -> 396 | R69: =VLOOKUP(A69,'R8生徒数'!$A$5:$E$190,5,FALSE) -> 60000 | S69: 24011
A70: 24041 | B70: 1024041 | C70: 0 | D70: 240 | E70: ｷﾝﾗﾝｶｲ | F70: 金蘭会中学校 | G70: 学校法人 金蘭会学園 | H70: 06(6453)0281 | I70: 06(6455)7531 | J70: 531-0075 | K70: 北区大淀南3-3-7 | L70: 127 | M70: 金蘭会 | N70: 4 | O70: 24041 | P70: 中学校 | Q70: =VLOOKUP(A70,'R8生徒数'!$A$5:$D$190,4,FALSE) -> 112 | R70: =VLOOKUP(A70,'R8生徒数'!$A$5:$E$190,5,FALSE) -> 45000 | S70: 24041
A71: 25011 | B71: 42511 | C71: 0 | D71: 250 | E71: ｵｵｻｶｸﾝｴｲｼﾞｮｶﾞｸｲﾝ | F71: 大阪薫英女学院高等学校 | G71: 学校法人 薫英学園 | H71: 06(6381)5381 | I71: 06(6317)3212 | J71: 566-8501 | K71: 摂津市正雀1-4-1 | L71: 224 | M71: 大阪薫英 | N71: 1 | O71: 25011 | P71: 高等学校 | Q71: =VLOOKUP(A71,'R8生徒数'!$A$5:$D$190,4,FALSE) -> 548 | R71: =VLOOKUP(A71,'R8生徒数'!$A$5:$E$190,5,FALSE) -> 165000 | S71: 25011
A72: 25041 | B72: 42541 | C72: 0 | D72: 250 | E72: ｵｵｻｶｸﾝｴｲｼﾞｮｶﾞｸｲﾝ | F72: 大阪薫英女学院中学校 | G72: 学校法人 薫英学園 | H72: 06(6381)2345 | I72: 06(6382)1110 | J72: 566-8501 | K72: 摂津市正雀1-4-1 | L72: 224 | M72: 大阪薫英 | N72: 4 | O72: 25041 | P72: 中学校 | Q72: =VLOOKUP(A72,'R8生徒数'!$A$5:$D$190,4,FALSE) -> 123 | R72: =VLOOKUP(A72,'R8生徒数'!$A$5:$E$190,5,FALSE) -> 45000 | S72: 25041
A73: 27011 | B73: 40411 | C73: 0 | D73: 270 | E73: ｹﾝﾒｲｶﾞｸｲﾝ | F73: 賢明学院高等学校（全日制） | G73: 学校法人 賢明学院 | H73: 072(241)1679 | I73: 072(241)1529 | J73: 590-0812 | K73: 堺市霞ｹ丘町4-3-30 | L73: 201 | M73: 賢明 | N73: 1 | O73: 27011 | P73: 高等学校（全日制） | Q73: =VLOOKUP(A73,'R8生徒数'!$A$5:$D$190,4,FALSE) -> 554 | R73: =VLOOKUP(A73,'R8生徒数'!$A$5:$E$190,5,FALSE) -> 165000 | S73: 27011
A74: 27031 | B74: 40431 | C74: 0 | D74: 270 | E74: ｹﾝﾒｲｶﾞｸｲﾝ | F74: 賢明学院高等学校（通信制課程） | G74: 学校法人 賢明学院 | H74: 072(241)1679 | I74: 072(241)1529 | J74: 590-0812 | K74: 堺市霞ｹ丘町4-3-30 | L74: 201 | M74: 賢明 | N74: 1 | O74: 27031 | P74: 高等学校（通信制課程） | Q74: =VLOOKUP(A74,'R8生徒数'!$A$5:$D$190,4,FALSE) -> 190 | R74: =VLOOKUP(A74,'R8生徒数'!$A$5:$E$190,5,FALSE) -> 45000 | S74: 27031
A75: 27041 | B75: 40441 | C75: 0 | D75: 270 | E75: ｹﾝﾒｲｶﾞｸｲﾝ | F75: 賢明学院中学校 | G75: 学校法人 賢明学院 | H75: 072(241)1679 | I75: 072(241)1529 | J75: 590-0812 | K75: 堺市霞ｹ丘町4-3-30 | L75: 201 | M75: 賢明 | N75: 4 | O75: 27041 | P75: 中学校 | Q75: =VLOOKUP(A75,'R8生徒数'!$A$5:$D$190,4,FALSE) -> 247 | R75: =VLOOKUP(A75,'R8生徒数'!$A$5:$E$190,5,FALSE) -> 45000 | S75: 27041
A76: 27051 | B76: 40451 | C76: 0 | D76: 270 | E76: ｹﾝﾒｲｶﾞｸｲﾝ | F76: 賢明学院小学校 | G76: 学校法人 賢明学院 | H76: 072(241)2657 | I76: 072(241)5059 | J76: 590-0812 | K76: 堺市霞ｹ丘町4-3-30 | L76: 201 | M76: 賢明 | N76: 5 | O76: 27051 | P76: 小学校 | Q76: =VLOOKUP(A76,'R8生徒数'!$A$5:$D$190,4,FALSE) -> 216 | R76: =VLOOKUP(A76,'R8生徒数'!$A$5:$E$190,5,FALSE) -> 45000 | S76: 27051
A77: 28011 | B77: 1028011 | C77: 0 | D77: 280 | E77: ｺｳｺｸ | F77: 興國高等学校 | G77: 学校法人 興國学園 | H77: 06(6779)8151 | I77: 06(6779)8174 | J77: 543-0045 | K77: 天王寺区寺田町1-4-26 | L77: 109 | M77: 興国 | N77: 1 | O77: 28011 | P77: 高等学校 | Q77: =VLOOKUP(A77,'R8生徒数'!$A$5:$D$190,4,FALSE) -> 2352 | R77: =VLOOKUP(A77,'R8生徒数'!$A$5:$E$190,5,FALSE) -> 366000 | S77: 28011
A78: 29011 | B78: 1029011 | C78: 0 | D78: 290 | E78: ｵｵｻｶｶｲｾｲｶﾞｸｴﾝ | F78: 大阪偕星学園高等学校 | G78: 学校法人 偕星学園 | H78: 06(6716)0003 | I78: 06(6716)0009 | J78: 544-0021 | K78: 生野区勝山南2-6-38 | L78: 116 | M78: 此花 | N78: 1 | O78: 29011 | P78: 高等学校 | Q78: =VLOOKUP(A78,'R8生徒数'!$A$5:$D$190,4,FALSE) -> 1219 | R78: =VLOOKUP(A78,'R8生徒数'!$A$5:$E$190,5,FALSE) -> 366000 | S78: 29011
A79: 30011 | B79: 42811 | C79: 0 | D79: 300 | E79: ｼｼﾞﾖｳﾅﾜﾃｶﾞｸｴﾝ | F79: 四條畷学園高等学校 | G79: 学校法人 四條畷学園 | H79: 072(876)1321 | I79: 072(876)4515 | J79: 574-0001 | K79: 大東市学園町6-45 | L79: 218 | M79: 四條畷 | N79: 1 | O79: 30011 | P79: 高等学校 | Q79: =VLOOKUP(A79,'R8生徒数'!$A$5:$D$190,4,FALSE) -> 1680 | R79: =VLOOKUP(A79,'R8生徒数'!$A$5:$E$190,5,FALSE) -> 366000 | S79: 30011
A80: 30041 | B80: 42841 | C80: 0 | D80: 300 | E80: ｼｼﾞﾖｳﾅﾜﾃｶﾞｸｴﾝ | F80: 四條畷学園中学校 | G80: 学校法人 四條畷学園 | H80: 072(879)7232 | I80: 072(876)4515 | J80: 574-0001 | K80: 大東市学園町6-45 | L80: 218 | M80: 四條畷 | N80: 4 | O80: 30041 | P80: 中学校 | Q80: =VLOOKUP(A80,'R8生徒数'!$A$5:$D$190,4,FALSE) -> 415 | R80: =VLOOKUP(A80,'R8生徒数'!$A$5:$E$190,5,FALSE) -> 120000 | S80: 30041
A81: 30051 | B81: 42851 | C81: 0 | D81: 300 | E81: ｼｼﾞﾖｳﾅﾜﾃｶﾞｸｴﾝ | F81: 四條畷学園小学校 | G81: 学校法人 四條畷学園 | H81: 072(876)1321 | I81: 072(876)4515 | J81: 574-0001 | K81: 大東市学園町6-45 | L81: 218 | M81: 四條畷 | N81: 5 | O81: 30051 | P81: 小学校 | Q81: =VLOOKUP(A81,'R8生徒数'!$A$5:$D$190,4,FALSE) -> 446 | R81: =VLOOKUP(A81,'R8生徒数'!$A$5:$E$190,5,FALSE) -> 120000 | S81: 30051
A82: 31011 | B82: 1031011 | C82: 0 | D82: 310 | E82: ｼﾃﾝﾉｳｼﾞ | F82: 四天王寺高等学校 | G82: 学校法人 四天王寺学園 | H82: 06(6772)6201 | I82: 06(6773)4113 | J82: 543-0051 | K82: 天王寺区四天王寺1-11-73 | L82: 109 | M82: 四天王寺 | N82: 1 | O82: 31011 | P82: 高等学校 | Q82: =VLOOKUP(A82,'R8生徒数'!$A$5:$D$190,4,FALSE) -> 1294 | R82: =VLOOKUP(A82,'R8生徒数'!$A$5:$E$190,5,FALSE) -> 366000 | S82: 31011
A83: 31013 | B83: 1031013 | C83: 0 | D83: 310 | E83: ｼﾃﾝﾉｳｼﾞｶﾞｸｴﾝｺｳﾄｳｶﾞｯｺｳ | F83: 四天王寺東高等学校 | G83: 学校法人 四天王寺学園 | H83: 072(937)2855 | I83: 072(937)2877 | J83: 583-0026 | K83: 藤井寺市春日丘３－１－７８ | M83: 四天王寺 | N83: 1 | O83: 31013 | P83: 高等学校 | Q83: =VLOOKUP(A83,'R8生徒数'!$A$5:$D$190,4,FALSE) -> 560 | R83: =VLOOKUP(A83,'R8生徒数'!$A$5:$E$190,5,FALSE) -> 165000 | S83: 31013
A84: 31041 | B84: 1031041 | C84: 0 | D84: 310 | E84: ｼﾃﾝﾉｳｼﾞ | F84: 四天王寺中学校 | G84: 学校法人 四天王寺学園 | H84: 06(6772)6201 | I84: 06(6773)4113 | J84: 543-0051 | K84: 天王寺区四天王寺1-11-73 | L84: 109 | M84: 四天王寺 | N84: 4 | O84: 31041 | P84: 中学校 | Q84: =VLOOKUP(A84,'R8生徒数'!$A$5:$D$190,4,FALSE) -> 990 | R84: =VLOOKUP(A84,'R8生徒数'!$A$5:$E$190,5,FALSE) -> 228000 | S84: 31041
A85: 31043 | B85: 1031043 | C85: 0 | D85: 310 | E85: ｼﾃﾝﾉｳｼﾞｶﾞｸｴﾝ | F85: 四天王寺東中学校 | G85: 学校法人 四天王寺学園 | H85: 072(937)2855 | I85: 072(937)2877 | J85: 583-0026 | K85: 藤井寺市春日丘３丁目１－７８ | L85: 226 | M85: 四天王寺 | N85: 4 | O85: 31043 | P85: 中学校 | Q85: =VLOOKUP(A85,'R8生徒数'!$A$5:$D$190,4,FALSE) -> 180 | R85: =VLOOKUP(A85,'R8生徒数'!$A$5:$E$190,5,FALSE) -> 45000 | S85: 31043
A86: 31051 | B86: 1031051 | C86: 0 | D86: 310 | E86: ｼﾃﾝﾉｳｼﾞｼｮｳｶﾞｯｺｳ | F86: 四天王寺小学校 | G86: 学校法人 四天王寺学園 | H86: 072(937)4811 | J86: 583-0026 | K86: 藤井寺市春日丘3-1-78 | L86: 226 | M86: 四天王寺 | N86: 5 | O86: 31051 | P86: 小学校 | Q86: =VLOOKUP(A86,'R8生徒数'!$A$5:$D$190,4,FALSE) -> 301 | R86: =VLOOKUP(A86,'R8生徒数'!$A$5:$E$190,5,FALSE) -> 120000 | S86: 31051
A87: 32011 | B87: 43011 | C87: 0 | D87: 320 | E87: ｼﾖｳｲﾝ | F87: 樟蔭高等学校 | G87: 学校法人 樟蔭学園 | H87: 06(6723)8185 | I87: 06(6723)8881 | J87: 577-8550 | K87: 東大阪市菱屋西4-2-26 | L87: 227 | M87: 樟蔭 | N87: 1 | O87: 32011 | P87: 高等学校 | Q87: =VLOOKUP(A87,'R8生徒数'!$A$5:$D$190,4,FALSE) -> 455 | R87: =VLOOKUP(A87,'R8生徒数'!$A$5:$E$190,5,FALSE) -> 165000 | S87: 32011
A88: 32041 | B88: 43041 | C88: 0 | D88: 320 | E88: ｼﾖｳｲﾝ | F88: 樟蔭中学校 | G88: 学校法人 樟蔭学園 | H88: 06(6723)8185 | I88: 06(6723)8881 | J88: 577-8550 | K88: 東大阪市菱屋西4-2-26 | L88: 227 | M88: 樟蔭 | N88: 4 | O88: 32041 | P88: 中学校 | Q88: =VLOOKUP(A88,'R8生徒数'!$A$5:$D$190,4,FALSE) -> 197 | R88: =VLOOKUP(A88,'R8生徒数'!$A$5:$E$190,5,FALSE) -> 45000 | S88: 32041
A89: 33011 | B89: 1033011 | C89: 0 | D89: 330 | E89: ｱﾅﾝｶﾞｸｴﾝ | F89: アナン学園高等学校 | G89: 学校法人 アナン学園 | H89: 06(6723)5511 | I89: 06(6732)1209 | J89: 578-0944 | K89: 東大阪市若江西新町3-1-8 | L89: 227 | M89: アナン | N89: 1 | O89: 33011 | P89: 高等学校 | Q89: =VLOOKUP(A89,'R8生徒数'!$A$5:$D$190,4,FALSE) -> 185 | R89: =VLOOKUP(A89,'R8生徒数'!$A$5:$E$190,5,FALSE) -> 60000 | S89: 33011
A90: 34011 | B90: 40211 | C90: 0 | D90: 340 | E90: ｼﾞﾖｳｾｲｶﾞｸｴﾝ | F90: ヴェリタス城星学園高等学校 | G90: 学校法人 城星学園 | H90: 06(6941)5977 | I90: 06(6944)2662 | J90: 540-0004 | K90: 中央区玉造2-23-26 | L90: 128 | M90: 城星 | N90: 1 | O90: 34011 | P90: 高等学校 | Q90: =VLOOKUP(A90,'R8生徒数'!$A$5:$D$190,4,FALSE) -> 251 | R90: =VLOOKUP(A90,'R8生徒数'!$A$5:$E$190,5,FALSE) -> 60000 | S90: 34011
A91: 34051 | B91: 40251 | C91: 0 | D91: 340 | E91: ｼﾞﾖｳｾｲｶﾞｸｴﾝ | F91: 城星学園小学校 | G91: 学校法人 城星学園 | H91: 06(6941)5977 | I91: 06(6944)2662 | J91: 540-0004 | K91: 中央区玉造2-23-26 | L91: 128 | M91: 城星 | N91: 5 | O91: 34051 | P91: 小学校 | Q91: =VLOOKUP(A91,'R8生徒数'!$A$5:$D$190,4,FALSE) -> 683 | R91: =VLOOKUP(A91,'R8生徒数'!$A$5:$E$190,5,FALSE) -> 189000 | S91: 34051
A92: 35011 | B92: 41711 | C92: 0 | D92: 350 | E92: ｼﾞﾖｳﾅﾝｶﾞｸｴﾝ | F92: 城南学園高等学校 | G92: 学校法人 城南学園 | H92: 06(6702)9781 | I92: 06(6704)5622 | J92: 546-0021 | K92: 東住吉区照ｹ丘矢田2-14-10 | L92: 121 | M92: 城南 | N92: 1 | O92: 35011 | P92: 高等学校 | Q92: =VLOOKUP(A92,'R8生徒数'!$A$5:$D$190,4,FALSE) -> 378 | R92: =VLOOKUP(A92,'R8生徒数'!$A$5:$E$190,5,FALSE) -> 60000 | S92: 35011
A93: 35041 | B93: 41741 | C93: 0 | D93: 350 | E93: ｼﾞﾖｳﾅﾝｶﾞｸｴﾝ | F93: 城南学園中学校 | G93: 学校法人 城南学園 | H93: 06(6702)9766 | I93: 06(6702)9866 | J93: 546-0021 | K93: 東住吉区照ｹ丘矢田2-14-10 | L93: 121 | M93: 城南 | N93: 4 | O93: 35041 | P93: 中学校 | Q93: =VLOOKUP(A93,'R8生徒数'!$A$5:$D$190,4,FALSE) -> 96 | R93: =VLOOKUP(A93,'R8生徒数'!$A$5:$E$190,5,FALSE) -> 45000 | S93: 35041
A94: 35051 | B94: 41751 | C94: 0 | D94: 350 | E94: ｼﾞﾖｳﾅﾝｶﾞｸｴﾝ | F94: 城南学園小学校 | G94: 学校法人 城南学園 | H94: 06(6702)5007 | I94: 06(6702)5330 | J94: 546-0021 | K94: 東住吉区照ｹ丘矢田2-14-10 | L94: 121 | M94: 城南 | N94: 5 | O94: 35051 | P94: 小学校 | Q94: =VLOOKUP(A94,'R8生徒数'!$A$5:$D$190,4,FALSE) -> 179 | R94: =VLOOKUP(A94,'R8生徒数'!$A$5:$E$190,5,FALSE) -> 45000 | S94: 35051
A95: 36011 | B95: 1036011 | C95: 0 | D95: 360 | E95: ｾｲﾒｲｶﾞｸｲﾝ | F95: 清明学院高等学校 | G95: 学校法人 住吉学園 | H95: 06(6673)8181 | I95: 06(6675)6816 | J95: 558-0043 | K95: 住吉区墨江2-4-4 | L95: 120 | M95: 清明 | N95: 1 | O95: 36011 | P95: 高等学校 | Q95: =VLOOKUP(A95,'R8生徒数'!$A$5:$D$190,4,FALSE) -> 653 | R95: =VLOOKUP(A95,'R8生徒数'!$A$5:$E$190,5,FALSE) -> 165000 | S95: 36011
A96: 37011 | B96: 1037011 | C96: 0 | D96: 370 | E96: ｾｲｶ | F96: 精華高等学校 | G96: 学校法人 精華学園 | H96: 072(234)3391 | I96: 072(234)3399 | J96: 599-8425 | K96: 堺市中区辻之1517 | L96: 201 | M96: 精華 | N96: 1 | O96: 37011 | P96: 高等学校 | Q96: =VLOOKUP(A96,'R8生徒数'!$A$5:$D$190,4,FALSE) -> 758 | R96: =VLOOKUP(A96,'R8生徒数'!$A$5:$E$190,5,FALSE) -> 366000 | S96: 37011
A97: 38011 | B97: 1038011 | C97: 0 | D97: 380 | E97: ｵｵｻｶｶﾞｸｹﾞｲ | F97: 大阪学芸高等学校 | G97: 学校法人 大阪学芸 | H97: 06(6693)6301 | I97: 06(6693)5173 | J97: 558-0003 | K97: 住吉区長居1-4-15 | L97: 120 | M97: 大阪学芸 | N97: 1 | O97: 38011 | P97: 高等学校 | Q97: =VLOOKUP(A97,'R8生徒数'!$A$5:$D$190,4,FALSE) -> 1849 | R97: =VLOOKUP(A97,'R8生徒数'!$A$5:$E$190,5,FALSE) -> 366000 | S97: 38011
A98: 38041 | B98: 1038041 | C98: 0 | D98: 380 | E98: ｵｵｻｶｶﾞｸｹﾞｲ | F98: 大阪学芸高等学校附属中学校 | G98: 学校法人 大阪学芸 | H98: 06(6693)6301 | I98: 06(6693)5173 | J98: 558-0003 | K98: 住吉区長居1-4-15 | L98: 120 | M98: 大阪学芸 | N98: 4 | O98: 38041 | P98: 中学校 | Q98: =VLOOKUP(A98,'R8生徒数'!$A$5:$D$190,4,FALSE) -> 213 | R98: =VLOOKUP(A98,'R8生徒数'!$A$5:$E$190,5,FALSE) -> 45000 | S98: 38041
A99: 39011 | B99: 40911 | C99: 0 | D99: 390 | E99: ｾｲｷﾖｳｶﾞｸｴﾝ | F99: 清教学園高等学校 | G99: 学校法人 清教学園 | H99: 0721(62)6828 | I99: 0721(63)5048 | J99: 586-8585 | K99: 河内長野市末広町623 | L99: 216 | M99: 清教 | N99: 1 | O99: 39011 | P99: 高等学校 | Q99: =VLOOKUP(A99,'R8生徒数'!$A$5:$D$190,4,FALSE) -> 1284 | R99: =VLOOKUP(A99,'R8生徒数'!$A$5:$E$190,5,FALSE) -> 366000 | S99: 39011
A100: 39041 | B100: 40941 | C100: 0 | D100: 390 | E100: ｾｲｷﾖｳｶﾞｸｴﾝ | F100: 清教学園中学校 | G100: 学校法人 清教学園 | H100: 0721(62)6828 | I100: 0721(63)5048 | J100: 586-8585 | K100: 河内長野市末広町623 | L100: 216 | M100: 清教 | N100: 4 | O100: 39041 | P100: 中学校 | Q100: =VLOOKUP(A100,'R8生徒数'!$A$5:$D$190,4,FALSE) -> 461 | R100: =VLOOKUP(A100,'R8生徒数'!$A$5:$E$190,5,FALSE) -> 120000 | S100: 39041
A101: 40011 | B101: 1040011 | C101: 0 | D101: 400 | E101: ｾｲﾌｳ | F101: 清風高等学校 | G101: 学校法人 清風学園 | H101: 06(6771)5757 | I101: 06(6773)3615 | J101: 543-0031 | K101: 天王寺区石ｹ辻町12-16 | L101: 109 | M101: 清風 | N101: 1 | O101: 40011 | P101: 高等学校 | Q101: =VLOOKUP(A101,'R8生徒数'!$A$5:$D$190,4,FALSE) -> 1626 | R101: =VLOOKUP(A101,'R8生徒数'!$A$5:$E$190,5,FALSE) -> 366000 | S101: 40011
A102: 40041 | B102: 1040041 | C102: 0 | D102: 400 | E102: ｾｲﾌｳ | F102: 清風中学校 | G102: 学校法人 清風学園 | H102: 06(6771)5757 | I102: 06(6773)3615 | J102: 543-0031 | K102: 天王寺区石ｹ辻町12-16 | L102: 109 | M102: 清風 | N102: 4 | O102: 40041 | P102: 中学校 | Q102: =VLOOKUP(A102,'R8生徒数'!$A$5:$D$190,4,FALSE) -> 963 | R102: =VLOOKUP(A102,'R8生徒数'!$A$5:$E$190,5,FALSE) -> 228000 | S102: 40041
A103: 41011 | B103: 1041011 | C103: 0 | D103: 410 | E103: ｾｲﾌｳﾅﾝｶｲ | F103: 清風南海高等学校 | G103: 学校法人 清風南海学園 | H103: 072(261)7761 | I103: 072(265)1762 | J103: 592-0014 | K103: 高石市綾園5-7-64 | L103: 225 | M103: 清風南海 | N103: 1 | O103: 41011 | P103: 高等学校 | Q103: =VLOOKUP(A103,'R8生徒数'!$A$5:$D$190,4,FALSE) -> 918 | R103: =VLOOKUP(A103,'R8生徒数'!$A$5:$E$190,5,FALSE) -> 366000 | S103: 41011
A104: 41041 | B104: 1041041 | C104: 0 | D104: 410 | E104: ｾｲﾌｳﾅﾝｶｲ | F104: 清風南海中学校 | G104: 学校法人 清風南海学園 | H104: 072(261)7761 | I104: 072(265)1762 | J104: 592-0014 | K104: 高石市綾園5-7-64 | L104: 225 | M104: 清風南海 | N104: 4 | O104: 41041 | P104: 中学校 | Q104: =VLOOKUP(A104,'R8生徒数'!$A$5:$D$190,4,FALSE) -> 871 | R104: =VLOOKUP(A104,'R8生徒数'!$A$5:$E$190,5,FALSE) -> 228000 | S104: 41041
A105: 42011 | B105: 1042011 | C105: 0 | D105: 420 | E105: ｺｳﾘﾇｳﾞｪｰﾙｶﾞｸｲﾝ | F105: 香里ヌヴェール学院高等学校 | G105: 学校法人 聖母女学院 | H105: 072(831)1381 | I105: 072(831)5610 | J105: 572-8531 | K105: 寝屋川市美井町18-10 | L105: 215 | M105: 聖母 | N105: 1 | O105: 42011 | P105: 高等学校 | Q105: =VLOOKUP(A105,'R8生徒数'!$A$5:$D$190,4,FALSE) -> 876 | R105: =VLOOKUP(A105,'R8生徒数'!$A$5:$E$190,5,FALSE) -> 366000 | S105: 42011
A106: 42041 | B106: 1042041 | C106: 0 | D106: 420 | E106: ｺｳﾘﾇｳﾞｪｰﾙｶﾞｸｲﾝ | F106: 香里ヌヴェール学院中学校 | G106: 学校法人 聖母女学院 | H106: 072(831)1381 | I106: 072(831)5610 | J106: 572-8531 | K106: 寝屋川市美井町18-10 | L106: 215 | M106: 聖母 | N106: 4 | O106: 42041 | P106: 中学校 | Q106: =VLOOKUP(A106,'R8生徒数'!$A$5:$D$190,4,FALSE) -> 233 | R106: =VLOOKUP(A106,'R8生徒数'!$A$5:$E$190,5,FALSE) -> 45000 | S106: 42041
A107: 42051 | B107: 1042051 | C107: 0 | D107: 420 | E107: ｺｳﾘﾇｳﾞｪｰﾙｶﾞｸｲﾝ | F107: 香里ヌヴェール学院小学校 | G107: 学校法人 聖母女学院 | H107: 072(831)8451 | I107: 072(831)5610 | J107: 572-8531 | K107: 寝屋川市美井町18-10 | L107: 215 | M107: 聖母 | N107: 5 | O107: 42051 | P107: 小学校 | Q107: =VLOOKUP(A107,'R8生徒数'!$A$5:$D$190,4,FALSE) -> 284 | R107: =VLOOKUP(A107,'R8生徒数'!$A$5:$E$190,5,FALSE) -> 45000 | S107: 42051
A108: 44011 | B108: 1044011 | C108: 0 | D108: 440 | E108: ｷﾝｷﾀﾞｲｶﾞｸｾﾝｼｭｳ | F108: 近畿大学泉州高等学校 | G108: 学校法人 泉州学園 | H108: 0724(79)1231 | I108: 0724(79)1960 | J108: 596-0105 | K108: 岸和田市内畑町3558 | L108: 202 | M108: 飛翔館 | N108: 1 | O108: 44011 | P108: 高等学校 | Q108: =VLOOKUP(A108,'R8生徒数'!$A$5:$D$190,4,FALSE) -> 448 | R108: =VLOOKUP(A108,'R8生徒数'!$A$5:$E$190,5,FALSE) -> 165000 | S108: 44011
... A184: 83031 | B184: 1083031 | C184: 0 | D184: 830 | E184: ﾜｲｴﾑｼｰｴｲ | F184: ＹＭＣＡ学院高等学校 | G184: 学校法人 大阪ＹＭＣＡ | H184: 06（6779）5690 | I184: 06（6779）1831 | J184: 543-0073 | K184: 天王寺区生玉寺町1－3 | L184: 109 | M184: YMCA学院 | N184: 3 | O184: 83031 | P184: 高等学校（通信制課程のみ） | Q184: =VLOOKUP(A184,'R8生徒数'!$A$5:$D$190,4,FALSE) -> 739 | R184: =VLOOKUP(A184,'R8生徒数'!$A$5:$E$190,5,FALSE) -> 45000 | S184: 83031
A185: 84031 | B185: 13231 | C185: 0 | D185: 840 | E185: ｼﾕｳｵｳ | F185: 秋桜高等学校 | G185: 学校法人 山椿学園 | H185: 0724（32）6007 | I185: 0724（32）1996 | J185: 597-0083 | K185: 貝塚市加治北作10-1 | M185: 秋桜 | N185: 3 | O185: 84031 | P185: 高等学校（通信制課程のみ） | Q185: =VLOOKUP(A185,'R8生徒数'!$A$5:$D$190,4,FALSE) -> 536 | R185: =VLOOKUP(A185,'R8生徒数'!$A$5:$E$190,5,FALSE) -> 45000 | S185: 84031
A186: 85011 | B186: 1085011 | C186: 0 | D186: 850 | E186: ｷﾝﾗﾝｾﾝﾘ | F186: 金蘭千里高等学校 | G186: 学校法人 金蘭千里学園 | H186: 06(6872)0263 | I186: 06(6872)7134 | J186: 565-0873 | K186: 吹田市藤白台5-25-2 | L186: 205 | M186: 金蘭千里 | N186: 1 | O186: 85011 | P186: 高等学校 | Q186: =VLOOKUP(A186,'R8生徒数'!$A$5:$D$190,4,FALSE) -> 534 | R186: =VLOOKUP(A186,'R8生徒数'!$A$5:$E$190,5,FALSE) -> 165000 | S186: 85011
A187: 85041 | B187: 1085041 | C187: 0 | D187: 850 | E187: ｷﾝﾗﾝｾﾝﾘ | F187: 金蘭千里中学校 | G187: 学校法人 金蘭千里学園 | H187: 06(6872)0263 | I187: 06(6872)7134 | J187: 565-0873 | K187: 吹田市藤白台5-25-2 | M187: 金蘭千里 | N187: 4 | O187: 85041 | P187: 中学校 | Q187: =VLOOKUP(A187,'R8生徒数'!$A$5:$D$190,4,FALSE) -> 606 | R187: =VLOOKUP(A187,'R8生徒数'!$A$5:$E$190,5,FALSE) -> 228000 | S187: 85041
A188: 86012 | B188: 1086012 | C188: 0 | D188: 860 | E188: ﾒｲｼﾞﾖｳｶﾞｸｲﾝ | F188: 明浄学院高等学校 | G188: 学校法人 藍野大学 | H188: 06(6623)0016 | I188: 06(6627)1165 | J188: 545-0004 | K188: 阿倍野区文の里3-15-7 | L188: 119 | M188: 明浄 | N188: 1 | O188: 86012 | P188: 高等学校 | Q188: =VLOOKUP(A188,'R8生徒数'!$A$5:$D$190,4,FALSE) -> 1017 | R188: =VLOOKUP(A188,'R8生徒数'!$A$5:$E$190,5,FALSE) -> 366000 | S188: 86012
A189: 88031 | B189: 1088031 | C189: 0 | D189: 880 | E189: ｺｳｽﾞ | F189: 神須学園高等学校 | G189: 学校法人 神須学園 | H189: 072(427)7600 | I189: 072(428)3300 | J189: 596-0833 | K189: 岸和田市神須屋町413 | M189: 神須 | N189: 3 | O189: 88031 | P189: 高等学校（通信制課程のみ） | Q189: =VLOOKUP(A189,'R8生徒数'!$A$5:$D$190,4,FALSE) -> 619 | R189: =VLOOKUP(A189,'R8生徒数'!$A$5:$E$190,5,FALSE) -> 45000 | S189: 88031
A190: 89031 | B190: 1089031 | C190: 0 | D190: 890 | E190: ﾄｳﾎｳ | F190: 東朋学園高等学校 | G190: 学校法人 岡崎学園 | M190: 東朋 | N190: 3 | O190: 89031 | P190: 高等学校（通信制課程のみ） | Q190: =VLOOKUP(A190,'R8生徒数'!$A$5:$D$190,4,FALSE) -> 519 | R190: =VLOOKUP(A190,'R8生徒数'!$A$5:$E$190,5,FALSE) -> 45000 | S190: 89031
A191: 90031 | B191: 1090031 | C191: 0 | D191: 900 | E191: ﾂｸﾊﾞｶｲｾｲ | F191: 大阪つくば開成高等学校 | G191: 学校法人 つくば開成学園 | M191: つくば開成 | N191: 3 | O191: 90031 | P191: 高等学校（通信制課程のみ） | Q191: =VLOOKUP(A191,'R8生徒数'!$A$5:$D$190,4,FALSE) -> 1463 | R191: =VLOOKUP(A191,'R8生徒数'!$A$5:$E$190,5,FALSE) -> 45000 | S191: 90031
A192: 91031 | B192: 1091031 | C192: 0 | D192: 910 | E192: ｴｲﾌｳ | F192: 英風高等学校 | G192: 学校法人 西口学園 | M192: 英風 | N192: 3 | O192: 91031 | P192: 高等学校（通信制課程のみ） | Q192: =VLOOKUP(A192,'R8生徒数'!$A$5:$D$190,4,FALSE) -> 392 | R192: =VLOOKUP(A192,'R8生徒数'!$A$5:$E$190,5,FALSE) -> 45000 | S192: 91031
A193: 92031 | B193: 1092031 | C193: 0 | D193: 920 | E193: ｷﾝｷｵｵｻｶ | F193: 近畿大阪高等学校 | G193: 学校法人 弘徳学園 | O193: 92031 | P193: 高等学校（通信制課程） | Q193: =VLOOKUP(A193,'R8生徒数'!$A$5:$D$190,4,FALSE) -> 270 | R193: =VLOOKUP(A193,'R8生徒数'!$A$5:$E$190,5,FALSE) -> 45000 | S193: 92031
A194: 93031 | B194: 1093031 | C194: 0 | D194: 930 | E194: ｺｳｴｲ | F194: 甲英高等学校 | G194: 学校法人 大前学園 | O194: 93031 | P194: 高等学校（通信制課程） | Q194: =VLOOKUP(A194,'R8生徒数'!$A$5:$D$190,4,FALSE) -> 727 | R194: =VLOOKUP(A194,'R8生徒数'!$A$5:$E$190,5,FALSE) -> 45000 | S194: 93031

Sheet R8生徒数
A1: R8生徒数（非表示）
A3: 学校番号 | B3: 法人名 | C3: 学校名 | D3: 生徒数 | E3: 支援金の額 | F3: 提出 | H3: 対象学校又は課程 | I3: 区分 | J3: ① | K3: ② | L3: ③ | M3: ④ | N3: ⑤
J4: 一時支援金の額 | K4: 校数 | L4: 補助額 ①×② | M4: 校数 （学校種別計） | N4: 補助額 （学校種別計）
A5: 01011 | B5: 愛泉学園 | C5: 香ヶ丘リベルテ高等学校 | D5: 591 | E5: {=_xlfn.IFS(D5<=$I$11,$J$11,D5<=$I$12,$J$12,D5>=$I$13,$J$13)} -> 165000 | H5: 小学校 | I5: 300 | J5: 45000 | K5: =COUNTIF(E174:E190,J5) -> 7 | L5: =J5*K5 -> 315000 | M5: =SUM(K5:K7) -> 17 | N5: =SUM(L5:L7) -> 1860000
A6: 01012 | B6: 愛泉学園 | C6: 堺リベラル高等学校 | D6: 186 | E6: {=_xlfn.IFS(D6<=$I$11,$J$11,D6<=$I$12,$J$12,D6>=$I$13,$J$13)} -> 60000 | I6: 500 | J6: 120000 | K6: =COUNTIF(E174:E190,J6) -> 5 | L6: =J6*K6 -> 600000
A7: 02011 | B7: 上宮学園 | C7: 上宮高等学校 | D7: 1751 | E7: {=_xlfn.IFS(D7<=$I$11,$J$11,D7<=$I$12,$J$12,D7>=$I$13,$J$13)} -> 366000 | I7: 501 | J7: 189000 | K7: =COUNTIF(E174:E190,J7) -> 5 | L7: =J7*K7 -> 945000
A8: 02012 | B8: 上宮学園 | C8: 上宮太子高等学校 | D8: 584 | E8: {=_xlfn.IFS(D8<=$I$11,$J$11,D8<=$I$12,$J$12,D8>=$I$13,$J$13)} -> 165000 | H8: 中学校 | I8: 300 | J8: 45000 | K8: =COUNTIF(E114:E172,J8) -> 30 | L8: =J8*K8 -> 1350000 | M8: =SUM(K8:K10) -> 59 | N8: =SUM(L8:L10) -> 6558000
A9: 03011 | B9: 大阪学院大学 | C9: 大阪学院大学高等学校 | D9: 1912 | E9: {=_xlfn.IFS(D9<=$I$11,$J$11,D9<=$I$12,$J$12,D9>=$I$13,$J$13)} -> 366000 | I9: 500 | J9: 120000 | K9: =COUNTIF(E114:E172,J9) -> 13 | L9: =J9*K9 -> 1560000
A10: 04011 | B10: 大阪学園 | C10: 大阪高等学校 | D10: 1750 | E10: {=_xlfn.IFS(D10<=$I$11,$J$11,D10<=$I$12,$J$12,D10>=$I$13,$J$13)} -> 366000 | I10: 501 | J10: 228000 | K10: =COUNTIF(E114:E172,J10) -> 16 | L10: =J10*K10 -> 3648000
A11: 05011 | B11: 常翔学園 | C11: 常翔学園高等学校 | D11: 1920 | E11: {=_xlfn.IFS(D11<=$I$11,$J$11,D11<=$I$12,$J$12,D11>=$I$13,$J$13)} -> 366000 | H11: 高等学校（全日制） | I11: 400 | J11: 60000 | K11: =COUNTIF(E5:E98,J11) -> 11 | L11: =J11*K11 -> 660000 | M11: =SUM(K11:K13) -> 94 | N11: =SUM(L11:L13) -> 26817000
A12: 05012 | B12: 常翔学園 | C12: 常翔啓光学園高等学校 | D12: 1294 | E12: {=_xlfn.IFS(D12<=$I$11,$J$11,D12<=$I$12,$J$12,D12>=$I$13,$J$13)} -> 366000 | I12: 700 | J12: 165000 | K12: =COUNTIF(E5:E98,J12) -> 21 | L12: =J12*K12 -> 3465000
A13: 06011 | B13: 大阪産業大学 | C13: 大阪産業大学附属高等学校 | D13: 1906 | E13: {=_xlfn.IFS(D13<=$I$11,$J$11,D13<=$I$12,$J$12,D13>=$I$13,$J$13)} -> 366000 | I13: 701 | J13: 366000 | K13: =COUNTIF(E5:E98,J13) -> 62 | L13: =J13*K13 -> 22692000
A14: 06012 | B14: 大阪産業大学 | C14: 大阪桐蔭高等学校 | D14: 1641 | E14: {=_xlfn.IFS(D14<=$I$11,$J$11,D14<=$I$12,$J$12,D14>=$I$13,$J$13)} -> 366000 | H14: 高等学校（通信制） | I14: 1 | J14: 45000 | K14: =COUNTIF(E100:E112,J14) -> 13 | L14: =J14*K14 -> 585000 | M14: =K14 -> 13 | N14: =L14 -> 585000
A15: 07011 | B15: 大商学園 | C15: 大商学園高等学校 | D15: 1380 | E15: {=_xlfn.IFS(D15<=$I$11,$J$11,D15<=$I$12,$J$12,D15>=$I$13,$J$13)} -> 366000 | K15: =SUM(K5:K14) -> 183 | L15: =SUM(L5:L14) -> 35820000 | M15: =SUM(M5:M14) -> 183 | N15: =SUM(N5:N14) -> 35820000
A16: 08011 | B16: 大阪信愛学院 | C16: 大阪信愛学院高等学校 | D16: 715 | E16: {=_xlfn.IFS(D16<=$I$11,$J$11,D16<=$I$12,$J$12,D16>=$I$13,$J$13)} -> 366000
A17: 09011 | B17: 大阪夕陽丘学園 | C17: 大阪夕陽丘学園高等学校 | D17: 895 | E17: {=_xlfn.IFS(D17<=$I$11,$J$11,D17<=$I$12,$J$12,D17>=$I$13,$J$13)} -> 366000
A18: 10011 | B18: 大阪女学院 | C18: 大阪女学院高等学校 | D18: 836 | E18: {=_xlfn.IFS(D18<=$I$11,$J$11,D18<=$I$12,$J$12,D18>=$I$13,$J$13)} -> 366000
A19: 11011 | B19: 大阪成蹊学園 | C19: 大阪成蹊女子高等学校 | D19: 1414 | E19: {=_xlfn.IFS(D19<=$I$11,$J$11,D19<=$I$12,$J$12,D19>=$I$13,$J$13)} -> 366000
A20: 12011 | B20: 大阪星光学院 | C20: 大阪星光学院高等学校 | D20: 580 | E20: {=_xlfn.IFS(D20<=$I$11,$J$11,D20<=$I$12,$J$12,D20>=$I$13,$J$13)} -> 165000
A21: 13011 | B21: 早稲田大阪学園 | C21: 早稲田大阪高等学校 | D21: 1123 | E21: {=_xlfn.IFS(D21<=$I$11,$J$11,D21<=$I$12,$J$12,D21>=$I$13,$J$13)} -> 366000
A22: 14011 | B22: 大阪電気通信大学 | C22: 大阪電気通信大学高等学校 | D22: 1012 | E22: {=_xlfn.IFS(D22<=$I$11,$J$11,D22<=$I$12,$J$12,D22>=$I$13,$J$13)} -> 366000
A23: 15011 | B23: 利晶学園 | C23: 利晶学園大阪立命館高等学校 | D23: 1201 | E23: {=_xlfn.IFS(D23<=$I$11,$J$11,D23<=$I$12,$J$12,D23>=$I$13,$J$13)} -> 366000
A24: 15012 | B24: 利晶学園 | C24: 利晶学園高等学校 | D24: 445 | E24: {=_xlfn.IFS(D24<=$I$11,$J$11,D24<=$I$12,$J$12,D24>=$I$13,$J$13)} -> 165000
A25: 16011 | B25: 好文学園 | C25: 好文学園女子高等学校 | D25: 683 | E25: {=_xlfn.IFS(D25<=$I$11,$J$11,D25<=$I$12,$J$12,D25>=$I$13,$J$13)} -> 165000
A26: 17011 | B26: 大阪貿易学院 | C26: 開明高等学校 | D26: 890 | E26: {=_xlfn.IFS(D26<=$I$11,$J$11,D26<=$I$12,$J$12,D26>=$I$13,$J$13)} -> 366000
A27: 18011 | B27: 大阪明星学園 | C27: 明星高等学校 | D27: 799 | E27: {=_xlfn.IFS(D27<=$I$11,$J$11,D27<=$I$12,$J$12,D27>=$I$13,$J$13)} -> 366000
... A97: 85011 | B97: 金蘭千里学園 | C97: 金蘭千里高等学校 | D97: 534 | E97: {=_xlfn.IFS(D97<=$I$11,$J$11,D97<=$I$12,$J$12,D97>=$I$13,$J$13)} -> 165000
A98: 86012 | B98: 藍野大学 | C98: 明浄学院高等学校 | D98: 1017 | E98: {=_xlfn.IFS(D98<=$I$11,$J$11,D98<=$I$12,$J$12,D98>=$I$13,$J$13)} -> 366000 | G98: =SUM(E5:E98) -> 26817000
A100: 13031 | B100: 早稲田大阪学園 | C100: 向陽台高等学校 | D100: 2939 | E100: 45000
A101: 80031 | B101: 八洲学園 | C101: 八洲学園高等学校 | D101: 1859 | E101: 45000
A102: 81031 | B102: 東洋学園 | C102: 長尾谷高等学校 | D102: 2223 | E102: 45000
A103: 83031 | B103: 大阪ＹＭＣＡ | C103: ＹＭＣＡ学院高等学校 | D103: 739 | E103: 45000
A104: 27031 | B104: 賢明学院 | C104: 賢明学院高等学校 | D104: 190 | E104: 45000
A105: 82031 | B105: 天王寺学館 | C105: 天王寺学館高等学校 | D105: 736 | E105: 45000
A106: 84031 | B106: 山椿学園 | C106: 秋桜高等学校 | D106: 536 | E106: 45000
A107: 88031 | B107: 神須学園 | C107: 神須学園高等学校 | D107: 619 | E107: 45000
A108: 89031 | B108: 岡崎学園 | C108: 東朋学園高等学校 | D108: 519 | E108: 45000
A109: 90031 | B109: つくば開成学園 | C109: 大阪つくば開成高等学校 | D109: 1463 | E109: 45000
A110: 91031 | B110: 西口学園 | C110: 英風高等学校 | D110: 392 | E110: 45000
A111: 92031 | B111: 弘徳学園 | C111: 近畿大阪高等学校 | D111: 270 | E111: 45000
A112: 93031 | B112: 大前学園 | C112: 甲英高等学校 | D112: 727 | E112: 45000 | G112: =SUM(E100:E112) -> 585000
A114: 01041 | B114: 愛泉学園 | C114: 堺リベラル中学校 | D114: 155 | E114: {=_xlfn.IFS(D114<=$I$8,$J$8,D114<=$I$9,$J$9,D114>=$I$10,$J$10)} -> 45000
A115: 02041 | B115: 上宮学園 | C115: 上宮学園中学校 | D115: 358 | E115: {=_xlfn.IFS(D115<=$I$8,$J$8,D115<=$I$9,$J$9,D115>=$I$10,$J$10)} -> 120000
A116: 05041 | B116: 常翔学園 | C116: 常翔学園中学校 | D116: 452 | E116: {=_xlfn.IFS(D116<=$I$8,$J$8,D116<=$I$9,$J$9,D116>=$I$10,$J$10)} -> 120000
A117: 05042 | B117: 常翔学園 | C117: 常翔啓光学園中学校 | D117: 207 | E117: {=_xlfn.IFS(D117<=$I$8,$J$8,D117<=$I$9,$J$9,D117>=$I$10,$J$10)} -> 45000
A118: 06042 | B118: 大阪産業大学 | C118: 大阪桐蔭中学校 | D118: 684 | E118: {=_xlfn.IFS(D118<=$I$8,$J$8,D118<=$I$9,$J$9,D118>=$I$10,$J$10)} -> 228000
A119: 08041 | B119: 大阪信愛学院 | C119: 大阪信愛学院中学校 | D119: 114 | E119: {=_xlfn.IFS(D119<=$I$8,$J$8,D119<=$I$9,$J$9,D119>=$I$10,$J$10)} -> 45000
A120: 10041 | B120: 大阪女学院 | C120: 大阪女学院中学校 | D120: 545 | E120: {=_xlfn.IFS(D120<=$I$8,$J$8,D120<=$I$9,$J$9,D120>=$I$10,$J$10)} -> 228000
A121: 12041 | B121: 大阪星光学院 | C121: 大阪星光学院中学校 | D121: 577 | E121: {=_xlfn.IFS(D121<=$I$8,$J$8,D121<=$I$9,$J$9,D121>=$I$10,$J$10)} -> 228000
A122: 15041 | B122: 利晶学園 | C122: 利晶学園大阪立命館中学校 | D122: 658 | E122: {=_xlfn.IFS(D122<=$I$8,$J$8,D122<=$I$9,$J$9,D122>=$I$10,$J$10)} -> 228000
A123: 15042 | B123: 利晶学園 | C123: 利晶学園中学校 | D123: 239 | E123: {=_xlfn.IFS(D123<=$I$8,$J$8,D123<=$I$9,$J$9,D123>=$I$10,$J$10)} -> 45000
A124: 17041 | B124: 大阪貿易学院 | C124: 開明中学校 | D124: 905 | E124: {=_xlfn.IFS(D124<=$I$8,$J$8,D124<=$I$9,$J$9,D124>=$I$10,$J$10)} -> 228000
A125: 18041 | B125: 大阪明星学園 | C125: 明星中学校 | D125: 753 | E125: {=_xlfn.IFS(D125<=$I$8,$J$8,D125<=$I$9,$J$9,D125>=$I$10,$J$10)} -> 228000
... A171: 79041 | B171: 関西学院 | C171: 関西学院千里国際中等部 | D171: 214 | E171: {=_xlfn.IFS(D171<=$I$8,$J$8,D171<=$I$9,$J$9,D171>=$I$10,$J$10)} -> 45000
A172: 85041 | B172: 金蘭千里学園 | C172: 金蘭千里中学校 | D172: 606 | E172: {=_xlfn.IFS(D172<=$I$8,$J$8,D172<=$I$9,$J$9,D172>=$I$10,$J$10)} -> 228000 | G172: =SUM(E114:E172) -> 6558000
A174: 08051 | B174: 大阪信愛学院 | C174: 大阪信愛学院小学校 | D174: 308 | E174: {=_xlfn.IFS(D174<=$I$5,$J$5,D174<=$I$6,$J$6,D174>=$I$7,$J$7)} -> 120000
A175: 15051 | B175: 利晶学園 | C175: 利晶学園小学校 | D175: 556 | E175: {=_xlfn.IFS(D175<=$I$5,$J$5,D175<=$I$6,$J$6,D175>=$I$7,$J$7)} -> 189000
A176: 20051 | B176: 追手門学院 | C176: 追手門学院小学校 | D176: 819 | E176: {=_xlfn.IFS(D176<=$I$5,$J$5,D176<=$I$6,$J$6,D176>=$I$7,$J$7)} -> 189000
A177: 22053 | B177: 関西大学 | C177: 関西大学初等部 | D177: 369 | E177: {=_xlfn.IFS(D177<=$I$5,$J$5,D177<=$I$6,$J$6,D177>=$I$7,$J$7)} -> 120000
A178: 27051 | B178: 賢明学院 | C178: 賢明学院小学校 | D178: 216 | E178: {=_xlfn.IFS(D178<=$I$5,$J$5,D178<=$I$6,$J$6,D178>=$I$7,$J$7)} -> 45000
A179: 30051 | B179: 四條畷学園 | C179: 四條畷学園小学校 | D179: 446 | E179: {=_xlfn.IFS(D179<=$I$5,$J$5,D179<=$I$6,$J$6,D179>=$I$7,$J$7)} -> 120000
A180: 31051 | B180: 四天王寺学園 | C180: 四天王寺小学校 | D180: 301 | E180: {=_xlfn.IFS(D180<=$I$5,$J$5,D180<=$I$6,$J$6,D180>=$I$7,$J$7)} -> 120000
A181: 34051 | B181: 城星学園 | C181: 城星学園小学校 | D181: 683 | E181: {=_xlfn.IFS(D181<=$I$5,$J$5,D181<=$I$6,$J$6,D181>=$I$7,$J$7)} -> 189000
A182: 35051 | B182: 城南学園 | C182: 城南学園小学校 | D182: 179 | E182: {=_xlfn.IFS(D182<=$I$5,$J$5,D182<=$I$6,$J$6,D182>=$I$7,$J$7)} -> 45000
A183: 42051 | B183: 聖母女学院 | C183: 香里ヌヴェール学院小学校 | D183: 284 | E183: {=_xlfn.IFS(D183<=$I$5,$J$5,D183<=$I$6,$J$6,D183>=$I$7,$J$7)} -> 45000
A184: 47051 | B184: 創価学園 | C184: 関西創価小学校 | D184: 567 | E184: {=_xlfn.IFS(D184<=$I$5,$J$5,D184<=$I$6,$J$6,D184>=$I$7,$J$7)} -> 189000
A185: 55051 | B185: 帝塚山学院 | C185: 帝塚山学院小学校 | D185: 624 | E185: {=_xlfn.IFS(D185<=$I$5,$J$5,D185<=$I$6,$J$6,D185>=$I$7,$J$7)} -> 189000
... A189: 71051 | B189: 箕面自由学園 | C189: 箕面自由学園小学校 | D189: 229 | E189: {=_xlfn.IFS(D189<=$I$5,$J$5,D189<=$I$6,$J$6,D189>=$I$7,$J$7)} -> 45000
A190: 78051 | B190: 金剛学園 | C190: 大阪金剛インターナショナル小学校 | D190: 160 | E190: {=_xlfn.IFS(D190<=$I$5,$J$5,D190<=$I$6,$J$6,D190>=$I$7,$J$7)} -> 45000 | G190: =SUM(E174:E190) -> 1860000
G192: =G98+G112+G172+G190 -> 35820000
