Workbook

Sheet 表紙
A13: 令和８年
A15: 大阪府基準地価格要覧

Sheet 記載及び用語の説明
A1: 記載及び用語の説明
A3: １ 宅地及び宅地見込地
A4: (1) 「基準地番号」欄において、一連番号の前に３、５又は９の見出し数字を付しているものは当該基準地がそ
A5: れぞれ宅地見込地、商業地又は工業地にあることを示し、見出し数字を付していないものは当該基準地が住宅
A6: 地にあることを示す。※印は、地価公示の標準地と同一地点となっている基準地であることを示す。
A7: (2) 「基準地の所在及び地番並びに住居表示」欄において、
A8: ア 住居表示に関する法律（昭和37年法律第119号）による住居表示が実施されている場合には、当該住居表
A9: 示に係る住居を「 」内に表示した。
A10: イ 基準地が土地区画整理法（昭和29年法律第119号）による土地区画整理事業の仮換地又は土地改良法（昭
A11: 和24年法律第195号）による土地改良事業の一時利用地となっている場合には、その場所の当該事業の整理
A12: 前の所在、地番及び住居表示に係る住居を表示し、（ ）内に当該事業による工区名、街区番号、符号等を
A13: 表示した。
... A89: (8) 表示は、基準地の単位面積当たりの価格判定の基準日における状況により行った。

Sheet 目次
A1: 大阪府基準地価格等市区町村別目次
A4: 宅地及び宅地見込地の部 | H4: 16 | I4: 交野市 | K4: ･････････････････････････ | M4: 32
A5: 1 | B5: 大阪市 | D5: ･････････････････････････ | F5: 1 | H5: 17 | I5: 四條畷市 | K5: ･････････････････････････ | M5: 33
C6: 都島区 | E6: ･･･････････････････ | F6: 1 | H6: 18 | I6: 大東市 | K6: ･････････････････････････ | M6: 33
C7: 東成区 | E7: ･･･････････････････ | F7: 1 | H7: 19 | I7: 東大阪市 | K7: ･････････････････････････ | M7: 34
C8: 生野区 | E8: ･･･････････････････ | F8: 1 | H8: 20 | I8: 八尾市 | K8: ･････････････････････････ | M8: 37
C9: 旭区 | E9: ･･･････････････････ | F9: 2 | H9: 21 | I9: 柏原市 | K9: ･････････････････････････ | M9: 38
C10: 城東区 | E10: ･･･････････････････ | F10: 3 | H10: 22 | I10: 松原市 | K10: ･････････････････････････ | M10: 39
C11: 鶴見区 | E11: ･･･････････････････ | F11: 3 | H11: 23 | I11: 藤井寺市 | K11: ･････････････････････････ | M11: 39
C12: 阿倍野区 | E12: ･･･････････････････ | F12: 4 | H12: 24 | I12: 羽曳野市 | K12: ･････････････････････････ | M12: 40
C13: 住吉区 | E13: ･･･････････････････ | F13: 4 | H13: 25 | I13: 大阪狭山市 | K13: ･････････････････････････ | M13: 41
C14: 住之江区 | E14: ･･･････････････････ | F14: 5 | H14: 26 | I14: 富田林市 | K14: ･････････････････････････ | M14: 41
C15: 平野区 | E15: ･･･････････････････ | F15: 5 | H15: 27 | I15: 河内長野市 | K15: ･････････････････････････ | M15: 42
C16: 東住吉区 | E16: ･･･････････････････ | F16: 6 | H16: 28 | I16: 河南町 | K16: ･････････････････････････ | M16: 43
C17: 西成区 | E17: ･･･････････････････ | F17: 7 | H17: 29 | I17: 太子町 | K17: ･････････････････････････ | M17: 43
... C19: 港区 | E19: ･･･････････････････ | F19: 8 | H19: 31 | I19: 堺市 | K19: ･････････････････････････ | M19: 44
C20: 大正区 | E20: ･･･････････････････ | F20: 8 | J20: 堺区 | L20: ･･･････････････････ | M20: 44
C21: 西淀川区 | E21: ･･･････････････････ | F21: 9 | J21: 中区 | L21: ･･･････････････････ | M21: 45
C22: 淀川区 | E22: ･･･････････････････ | F22: 9 | J22: 東区 | L22: ･･･････････････････ | M22: 46
C23: 東淀川区 | E23: ･･･････････････････ | F23: 10 | J23: 西区 | L23: ･･･････････････････ | M23: 47
C24: 北区 | E24: ･･･････････････････ | F24: 10 | J24: 南区 | L24: ･･･････････････････ | M24: 48
C25: 福島区 | E25: ･･･････････････････ | F25: 12 | J25: 北区 | L25: ･･･････････････････ | M25: 48
C26: 中央区 | E26: ･･･････････････････ | F26: 12 | J26: 美原区 | L26: ･･･････････････････ | M26: 49
C27: 西区 | E27: ･･･････････････････ | F27: 14 | H27: 32 | I27: 和泉市 | K27: ･････････････････････････ | M27: 50
C28: 天王寺区 | E28: ･･･････････････････ | F28: 15 | H28: 33 | I28: 高石市 | K28: ･････････････････････････ | M28: 51
C29: 浪速区 | E29: ･･･････････････････ | F29: 15 | H29: 34 | I29: 泉大津市 | K29: ･････････････････････････ | M29: 51
A30: 2 | B30: 能勢町 | D30: ･････････････････････････ | F30: 16 | H30: 35 | I30: 忠岡町 | K30: ･････････････････････････ | M30: 52
A31: 3 | B31: 豊能町 | D31: ･････････････････････････ | F31: 16 | H31: 36 | I31: 岸和田市 | K31: ･････････････････････････ | M31: 52
A32: 4 | B32: 箕面市 | D32: ･････････････････････････ | F32: 16 | H32: 37 | I32: 貝塚市 | K32: ･････････････････････････ | M32: 54
A33: 5 | B33: 池田市 | D33: ･････････････････････････ | F33: 18 | H33: 38 | I33: 泉佐野市 | K33: ･････････････････････････ | M33: 55
A34: 6 | B34: 豊中市 | D34: ･････････････････････････ | F34: 19 | H34: 39 | I34: 泉南市 | K34: ･････････････････････････ | M34: 55
A35: 7 | B35: 吹田市 | D35: ･････････････････････････ | F35: 21 | H35: 40 | I35: 田尻町 | K35: ･････････････････････････ | M35: 56
A36: 8 | B36: 摂津市 | D36: ･････････････････････････ | F36: 23 | H36: 41 | I36: 熊取町 | K36: ･････････････････････････ | M36: 56
A37: 9 | B37: 茨木市 | D37: ･････････････････････････ | F37: 23 | H37: 42 | I37: 阪南市 | K37: ･････････････････････････ | M37: 57
A38: 10 | B38: 高槻市 | D38: ･････････････････････････ | F38: 25 | H38: 43 | I38: 岬町 | K38: ･････････････････････････ | M38: 58
A39: 11 | B39: 島本町 | D39: ･････････････････････････ | F39: 27 | H39: 林地の部
A40: 12 | B40: 枚方市 | D40: ･････････････････････････ | F40: 27 | H40: 1 | I40: 林地 | K40: ･････････････････････････ | M40: 59
A41: 13 | B41: 寝屋川市 | D41: ･････････････････････････ | F41: 30 | H41: 地価公示の標準地と
A42: 14 | B42: 門真市 | D42: ･････････････････････････ | F42: 31 | H42: 同一地点である基準地一覧･･･････････････ | M42: 60
A43: 15 | B43: 守口市 | D43: ･････････････････････････ | F43: 31

Sheet 宅地
A1: （宅地及び宅地見込地）
A2: 基準地 番 号 | B2: 基準地の所在及び 地番並びに住居表示 | C2: 基準地の１平方メートル当たりの価格 (円) | D2: 基準地 の地積 (㎡) | E2: 基準地 の形状 | F2: 基準地 の利用 の現況 | G2: 基準地の周辺の 土地の利用の現況 | H2: 基準地の 前面道路 の状況 | I2: 基準地についての水道、ガス供給施設及び下水道の整備状況＿ | J2: 基準地の鉄道その他の主要な交通施設との接近状況 | K2: 基準地に係る都市計画法その他法令の制限で主要なもの
A3: ※ 都島 (府) -1 | B3: 大阪市都島区都島中通二丁目101番 「都島中通２－11－17」 | C3: 400000 | D3: 166 | E3: 1:1.5 | F3: 住宅 W2 | G3: 一般住宅のほかにマンションが見られる住宅地域 | H3: 南 5.5m 市道 | I3: 水道 ガス 下水 | J3: ＪＲ京橋 1.0km | K3: １住居 (80､300) 準防火
A4: -2 | B4: 大阪市都島区高倉町三丁目124番２ 「高倉町３－７－15」 | C4: 342000 | D4: 142 | E4: 1:2 | F4: 倉庫兼住宅 S4 | G4: 一般住宅のほか倉庫、事務所等が混在する地域 | H4: 北 8m 市道 | I4: 水道 ガス 下水 | J4: ＪＲ城北公園通 620m | K4: 準工 (60､200) 準防火
A5: 5-1 | B5: 大阪市都島区東野田町五丁目237番３ 「東野田町５－９－12」 | C5: 323000 | D5: 77 | E5: 1:3 | F5: 診療所 S2 | G5: 小売店舗が建ち並ぶアーケード商店街 | H5: 西 7m 市道 | I5: 水道 ガス 下水 | J5: ＪＲ京橋 500m | K5: 近商 (80､300) 準防火
A6: 5-2 | B6: 大阪市都島区都島北通一丁目２番３ 「都島北通１－１－４」 | C6: 626000 | D6: 121 | E6: 1:3 | F6: 店舗兼住宅 S4 | G6: 中低層の店舗ビルや店舗兼共同住宅等が建ち並ぶ商業地域 | H6: 北西 25m 市道 | I6: 水道 ガス 下水 | J6: ＯｓａｋａＭｅｔｒｏ都島 近接 | K6: 商業 (80､400) 防火
A7: 5-3 | B7: 大阪市都島区片町二丁目２番１外 「片町２－２－40」 | C7: 666000 | D7: 1145 | E7: 1.5:1 | F7: 店舗兼事務所 SRC9 | G7: 事務所ビルにホテル、マンション等も見られる地域 | H7: 南 11m 府道 | I7: 水道 ガス 下水 | J7: ＪＲ京橋 100m | K7: 商業 (80､400) 準防火
A8: 東成 (府) -1 | B8: 大阪市東成区大今里三丁目29番10 「大今里３－11－25」 | C8: 289000 | D8: 100 | E8: 1:2 | F8: 住宅 W2 | G8: 中小規模一般住宅の中に店舗等が見られる住宅地域 | H8: 南西 4.7m 市道 | I8: 水道 ガス 下水 | J8: ＯｓａｋａＭｅｔｒｏ今里 250m | K8: １住居 (80､300) 準防火
A9: -2 | B9: 大阪市東成区大今里西二丁目125番１ 「大今里西２－４－２」 | C9: 296000 | D9: 108 | E9: 1:2.5 | F9: 住宅 S3 | G9: 小規模一般住宅の中に事業所等が見られる住宅地域 | H9: 北 5.4m 市道 | I9: 水道 ガス 下水 | J9: ＯｓａｋａＭｅｔｒｏ今里 440m | K9: １住居 (80､300) 準防火
A10: 5-1 | B10: 大阪市東成区玉津一丁目２番３ 「玉津１－２－３」 | C10: 468000 | D10: 187 | E10: 1:2 | F10: 事務所 S6 | G10: 店舗・営業所、中高層の事務所ビルや共同住宅が存する商業地域 | H10: 北東 27m 国道 | I10: 水道 ガス 下水 | J10: ＪＲ玉造 500m | K10: 商業 (80､400) 防火
A11: 5-2 | B11: 大阪市東成区東中本一丁目225番１ 「東中本１－15－25」 | C11: 515000 | D11: 121 | E11: 1.2:1 | F11: 店舗兼共同住宅 S4 | G11: 低層の店舗が多く、店舗兼共同住宅等も見られる路線商業地域 | H11: 南 40m 市道 | I11: 水道 ガス 下水 | J11: ＯｓａｋａＭｅｔｒｏ緑橋 160m | K11: 商業 (80､400) 防火
A12: 5-3 | B12: 大阪市東成区深江北一丁目32番１ 「深江北１－17－９」 | C12: 405000 | D12: 724 | E12: 1:1 | F12: 車庫、作業所兼店舗等 S3 | G12: 店舗、事務所、事業所、共同住宅等が建ち並ぶ路線商業地域 | H12: 東 25m 国道 | I12: 水道 ガス 下水 | J12: ＯｓａｋａＭｅｔｒｏ深江橋 560m | K12: 準工 (80､300) 準防火
A13: 9-1 | B13: 大阪市東成区東小橋一丁目18番８ 「東小橋１－18－10」 | C13: 359000 | D13: 262 | E13: 1:3 | F13: 事務所兼倉庫 S5 | G13: 工場、倉庫、事務所のほか共同住宅も見られる地域 | H13: 東 11m 市道 | I13: 水道 ガス 下水 | J13: ＪＲ玉造 350m | K13: 準工 (60､300) 準防火
A14: ※ 生野 (府) -1 | B14: 大阪市生野区小路二丁目131番５ 「小路２－21－22」 | C14: 206000 | D14: 99 | E14: 1:1.2 | F14: 住宅 W2 | G14: 一般住宅を主に作業所等も見られる住宅地域 | H14: 西 6.4m 市道 | I14: 水道 ガス 下水 | J14: ＯｓａｋａＭｅｔｒｏ小路 340m | K14: １住居 (80､300) 準防火
... A690: -4 | B690: 泉南郡岬町深日2450番62 | C690: 18100 | D690: 185 | E690: 1.5:1 | F690: 住宅 W2 | G690: 中規模の一般住宅が建ち並ぶ住宅地域 | H690: 北 5.1m 町道 | I690: 水道 ガス 下水 | J690: 南海多奈川 300m | K690: １低専 (50､100)

Sheet 林地 
B1: （林 地）
B2: 基準地 番 号 | C2: 基準地の所在及び地番 | D2: 基準地の10アール当たりの価格 (円) | E2: 基準地 の地積 (㎡) | F2: 基準地 の利用 の現況 | G2: 基準地の周辺の 土地の利用の現況 | H2: 交通近接条件 | L2: 基準地に係る都市計画法その他法令の制限で主要なもの | M2: 地域 特性
H3: 基準地から搬出地点までの搬出方法及び距離 | I3: 搬出地点の道路の状況 | J3: 最寄駅 及び距離 | K3: 最寄集落及び距離
A4: 1 | B4: 大阪（林） -1 | C4: 岸和田市大沢町2059番 | D4: 450000 | E4: 2380 | F4: 用材林地 (檜) | G4: 標高220m 北東向傾斜度30度 集落に近い雑木林の混在する地域 | H4: 集材機 100m | I4: 北東 6m 府道 | J4: ＪＲ久米田 10.0km | K4: 堂脇 100m | L4: 市街化調整区域 地域森林計画対象 民有林 | M4: 農村 林地

Sheet 地価公示の標準地と同一地点
A1: （地価公示の標準地と同一地点である基準地一覧） | H1: 上段：地価調査、下段：地価公示
A2: 基準地 番 号 | B2: 基準地の所在及び 地番並びに住居表示 | C2: 基準地の１平方メートル当たりの価格 (円) | D2: 基準地 の地積 (㎡) | E2: 基準地 の形状 | F2: 基準地 の利用 の現況 | G2: 基準地の周辺の 土地の利用の現況 | H2: 基準地の 前面道路 の状況 | I2: 基準地についての水道、ガス供給施設及び下水道の整備状況＿ | J2: 基準地の鉄道その他の主要な交通施設との接近状況 | K2: 基準地に係る都市計画法その他法令の制限で主要なもの
A3: 都島 (府) -1 | B3: 大阪市都島区都島中通二丁目101番 「都島中通２－11－17」 | C3: =VLOOKUP(O3,[1]データ!$A$1:$F$130,4,FALSE) -> 400000 | D3: 166 | E3: 1:1.5 | F3: 住宅 W2 | G3: 一般住宅のほかにマンションが見られる住宅地域 | H3: 南 5.5m 市道 | I3: 水道 ガス 下水 | J3: ＪＲ京橋 1.0km | K3: １住居 (80､300) 準防火 | M3: =SUBSTITUTE(SUBSTITUTE(A3,"(府)","")," ","") -> 都島 -1 | N3: =CLEAN(M3) -> 都島-1 | O3: 都島-1
A4: 大阪都島 -5 | C4: =VLOOKUP(O4,[1]データ!$B$1:$F$130,4,FALSE) -> 385000 | M4: =SUBSTITUTE(SUBSTITUTE(A4,"(府)","")," ","") -> 大阪都島 -5 | N4: =CLEAN(M4) -> 大阪都島-5 | O4: 大阪都島-5
A5: 生野 (府) -1 | B5: 大阪市生野区小路二丁目131番５ 「小路２－21－22」 | C5: =VLOOKUP(O5,[1]データ!$A$1:$F$130,4,FALSE) -> 206000 | D5: 99 | E5: 1:1.2 | F5: 住宅 W2 | G5: 一般住宅を主に作業所等も見られる住宅地域 | H5: 西 6.4m 市道 | I5: 水道 ガス 下水 | J5: ＯｓａｋａＭｅｔｒｏ小路 340m | K5: １住居 (80､300) 準防火 | M5: =SUBSTITUTE(SUBSTITUTE(A5,"(府)","")," ","") -> 生野 -1 | N5: =CLEAN(M5) -> 生野-1 | O5: 生野-1
A6: 大阪生野 -1 | C6: =VLOOKUP(O6,[1]データ!$B$1:$F$130,4,FALSE) -> 202000 | M6: =SUBSTITUTE(SUBSTITUTE(A6,"(府)","")," ","") -> 大阪生野 -1 | N6: =CLEAN(M6) -> 大阪生野-1 | O6: 大阪生野-1
A7: 旭 (府) -2 | B7: 大阪市旭区新森四丁目81番３ 「新森４－21－22」 | C7: =VLOOKUP(O7,[1]データ!$A$1:$F$130,4,FALSE) -> 339000 | D7: 149 | E7: 1:2 | F7: 住宅 LS2 | G7: 中規模一般住宅が建ち並ぶ閑静な住宅地域 | H7: 南 6m 市道 | I7: 水道 ガス 下水 | J7: ＯｓａｋａＭｅｔｒｏ新森古市 330m | K7: ２中専 (60､200) 準防火 | M7: =SUBSTITUTE(SUBSTITUTE(A7,"(府)","")," ","") -> 旭 -2 | N7: =CLEAN(M7) -> 旭-2 | O7: 旭-2
A8: 大阪旭 -1 | C8: =VLOOKUP(O8,[1]データ!$B$1:$F$130,4,FALSE) -> 329000 | M8: =SUBSTITUTE(SUBSTITUTE(A8,"(府)","")," ","") -> 大阪旭 -1 | N8: =CLEAN(M8) -> 大阪旭-1 | O8: 大阪旭-1
A9: 旭 (府) 5-2 | B9: 大阪市旭区千林二丁目60番６ 「千林２－２－17」 | C9: =VLOOKUP(O9,[1]データ!$A$1:$F$130,4,FALSE) -> 302000 | D9: 89 | E9: 台形 1:2 | F9: 店舗兼共同住宅 S3 | G9: 各種小売店舗、飲食店舗が建ち並ぶ商業地域 | H9: 南 5.5m 市道 背面道 | I9: 水道 ガス 下水 | J9: ＯｓａｋａＭｅｔｒｏ千林大宮 110m | K9: 商業 (80､400) 準防火 | M9: =SUBSTITUTE(SUBSTITUTE(A9,"(府)","")," ","") -> 旭 5-2 | N9: =CLEAN(M9) -> 旭5-2 | O9: 旭5-2
A10: 大阪旭 5-2 | C10: =VLOOKUP(O10,[1]データ!$B$1:$F$130,4,FALSE) -> 300000 | M10: =SUBSTITUTE(SUBSTITUTE(A10,"(府)","")," ","") -> 大阪旭 5-2 | N10: =CLEAN(M10) -> 大阪旭5-2 | O10: 大阪旭5-2
A11: 城東 (府) -3 | B11: 大阪市城東区関目二丁目６番９ 「関目２－９－32」 | C11: =VLOOKUP(O11,[1]データ!$A$1:$F$130,4,FALSE) -> 384000 | D11: 59 | E11: 1:2 | F11: 住宅 W3 | G11: 一般住宅、マンション等が混在する住宅地域 | H11: 南 8m 市道 | I11: 水道 ガス 下水 | J11: 京阪野江 900m | K11: １住居 (80､200) 準防火 | M11: =SUBSTITUTE(SUBSTITUTE(A11,"(府)","")," ","") -> 城東 -3 | N11: =CLEAN(M11) -> 城東-3 | O11: 城東-3
A12: 大阪城東 -6 | C12: =VLOOKUP(O12,[1]データ!$B$1:$F$130,4,FALSE) -> 370000 | M12: =SUBSTITUTE(SUBSTITUTE(A12,"(府)","")," ","") -> 大阪城東 -6 | N12: =CLEAN(M12) -> 大阪城東-6 | O12: 大阪城東-6
A13: 鶴見 (府) -2 | B13: 大阪市鶴見区横堤三丁目584番４外 「横堤３－９－５」 | C13: =VLOOKUP(O13,[1]データ!$A$1:$F$130,4,FALSE) -> 337000 | D13: 121 | E13: 1:2 | F13: 住宅 S3 | G13: 住宅、マンション等が混在する住宅地域 | H13: 西 7.5m 市道 | I13: 水道 ガス 下水 | J13: ＯｓａｋａＭｅｔｒｏ横堤 270m | K13: １住居 (80､200) 準防火 | M13: =SUBSTITUTE(SUBSTITUTE(A13,"(府)","")," ","") -> 鶴見 -2 | N13: =CLEAN(M13) -> 鶴見-2 | O13: 鶴見-2
A14: 大阪鶴見 -5 | C14: =VLOOKUP(O14,[1]データ!$B$1:$F$130,4,FALSE) -> 324000 | M14: =SUBSTITUTE(SUBSTITUTE(A14,"(府)","")," ","") -> 大阪鶴見 -5 | N14: =CLEAN(M14) -> 大阪鶴見-5 | O14: 大阪鶴見-5
A15: 阿倍野 (府) -2 | B15: 大阪市阿倍野区文の里三丁目59番２外 「文の里３－７－30」 | C15: =VLOOKUP(O15,[1]データ!$A$1:$F$130,4,FALSE) -> 476000 | D15: 118 | E15: 1:1.2 | F15: 住宅 LS2 | G15: 中小規模一般住宅が建ち並ぶ環境の良い住宅地域 | H15: 西 6m 市道 | I15: 水道 ガス 下水 | J15: ＪＲ美章園 300m | K15: １住居 (80､300) 準防火 | M15: =SUBSTITUTE(SUBSTITUTE(A15,"(府)","")," ","") -> 阿倍野 -2 | N15: =CLEAN(M15) -> 阿倍野-2 | O15: 阿倍野-2
A16: 大阪阿倍野 -3 | C16: =VLOOKUP(O16,[1]データ!$B$1:$F$130,4,FALSE) -> 460000 | M16: =SUBSTITUTE(SUBSTITUTE(A16,"(府)","")," ","") -> 大阪阿倍野 -3 | N16: =CLEAN(M16) -> 大阪阿倍野-3 | O16: 大阪阿倍野-3
A17: 阿倍野 (府) 5-2 | B17: 大阪市阿倍野区昭和町二丁目１番４ 「昭和町２－１－１」 | C17: =VLOOKUP(O17,[1]データ!$A$1:$F$130,4,FALSE) -> 765000 | D17: 227 | E17: 1:1.5 | F17: 店舗兼共同住宅 RC8 | G17: 低層店舗、中高層店舗付共同住宅が多い商業地域 | H17: 北 25m 市道 | I17: 水道 ガス 下水 | J17: ＯｓａｋａＭｅｔｒｏ昭和町 100m | K17: 商業 (80､400) 防火 | M17: =SUBSTITUTE(SUBSTITUTE(A17,"(府)","")," ","") -> 阿倍野 5-2 | N17: =CLEAN(M17) -> 阿倍野5-2 | O17: 阿倍野5-2
A18: 大阪阿倍野 5-1 | C18: =VLOOKUP(O18,[1]データ!$B$1:$F$130,4,FALSE) -> 743000 | M18: =SUBSTITUTE(SUBSTITUTE(A18,"(府)","")," ","") -> 大阪阿倍野 5-1 | N18: =CLEAN(M18) -> 大阪阿倍野5-1 | O18: 大阪阿倍野5-1
A19: 阿倍野 (府) 5-4 | B19: 大阪市阿倍野区阿倍野筋一丁目38番１外 「阿倍野筋１－３－21」 | C19: =VLOOKUP(O19,[1]データ!$A$1:$F$130,4,FALSE) -> 4220000 | D19: 1187 | E19: 不整形 1:1.5 | F19: 店舗兼事務所 RC9 | G19: 百貨店、事務所店舗ビルが建ち並ぶ高度商業地域 | H19: 西 40m 府道 三方路 | I19: 水道 ガス 下水 | J19: 近鉄大阪阿部野橋 近接 | K19: 商業 (80､800) 防火 | M19: =SUBSTITUTE(SUBSTITUTE(A19,"(府)","")," ","") -> 阿倍野 5-4 | N19: =CLEAN(M19) -> 阿倍野5-4 | O19: 阿倍野5-4
A20: 大阪阿倍野 5-4 | C20: =VLOOKUP(O20,[1]データ!$B$1:$F$130,4,FALSE) -> 4100000 | M20: =SUBSTITUTE(SUBSTITUTE(A20,"(府)","")," ","") -> 大阪阿倍野 5-4 | N20: =CLEAN(M20) -> 大阪阿倍野5-4 | O20: 大阪阿倍野5-4
A21: 住吉 (府) -4 | B21: 大阪市住吉区南住吉三丁目22番５ 「南住吉３－18－18」 | C21: =VLOOKUP(O21,[1]データ!$A$1:$F$130,4,FALSE) -> 308000 | D21: 133 | E21: 1:1.5 | F21: 住宅 W2 | G21: 中小規模住宅のほか共同住宅も見られる住宅地域 | H21: 西 8m 市道 | I21: 水道 ガス 下水 | J21: 南海沢ノ町 480m | K21: ２中専 (60､200) 準防火 | M21: =SUBSTITUTE(SUBSTITUTE(A21,"(府)","")," ","") -> 住吉 -4 | N21: =CLEAN(M21) -> 住吉-4 | O21: 住吉-4
A22: 大阪住吉 -6 | C22: =VLOOKUP(O22,[1]データ!$B$1:$F$130,4,FALSE) -> 302000 | M22: =SUBSTITUTE(SUBSTITUTE(A22,"(府)","")," ","") -> 大阪住吉 -6 | N22: =CLEAN(M22) -> 大阪住吉-6 | O22: 大阪住吉-6
A23: 住吉 (府) -6 | B23: 大阪市住吉区長居西三丁目15番５ 「長居西３－３－８」 | C23: =VLOOKUP(O23,[1]データ!$A$1:$F$130,4,FALSE) -> 317000 | D23: 210 | E23: 1:2 | F23: 住宅 W2 | G23: 一般住宅、マンション等が混在する住宅地域 | H23: 南西 6m 市道 | I23: 水道 ガス 下水 | J23: ＯｓａｋａＭｅｔｒｏ長居 670m | K23: ２中専 (60､200) 準防火 | M23: =SUBSTITUTE(SUBSTITUTE(A23,"(府)","")," ","") -> 住吉 -6 | N23: =CLEAN(M23) -> 住吉-6 | O23: 住吉-6
A24: 大阪住吉 -9 | C24: =VLOOKUP(O24,[1]データ!$B$1:$F$130,4,FALSE) -> 310000 | M24: =SUBSTITUTE(SUBSTITUTE(A24,"(府)","")," ","") -> 大阪住吉 -9 | N24: =CLEAN(M24) -> 大阪住吉-9 | O24: 大阪住吉-9
A25: 住吉 (府) 5-3 | B25: 大阪市住吉区長居東四丁目14番２ 「長居東４－９－18」 | C25: =VLOOKUP(O25,[1]データ!$A$1:$F$130,4,FALSE) -> 627000 | D25: 262 | E25: 1:1.5 | F25: 事務所兼共同住宅 RC7F1B | G25: 事務所ビル、店舗等が混在する駅前の商業地域 | H25: 北 25m 国道 | I25: 水道 ガス 下水 | J25: ＯｓａｋａＭｅｔｒｏ長居 近接 | K25: 商業 (80､400) 防火 | M25: =SUBSTITUTE(SUBSTITUTE(A25,"(府)","")," ","") -> 住吉 5-3 | N25: =CLEAN(M25) -> 住吉5-3 | O25: 住吉5-3
A26: 大阪住吉 5-2 | C26: =VLOOKUP(O26,[1]データ!$B$1:$F$130,4,FALSE) -> 605000 | M26: =SUBSTITUTE(SUBSTITUTE(A26,"(府)","")," ","") -> 大阪住吉 5-2 | N26: =CLEAN(M26) -> 大阪住吉5-2 | O26: 大阪住吉5-2
A27: 住之江 (府) -1 | B27: 大阪市住之江区中加賀屋二丁目87番７ 「中加賀屋２－16－９」 | C27: =VLOOKUP(O27,[1]データ!$A$1:$F$130,4,FALSE) -> 255000 | D27: 139 | E27: 1:2 | F27: 住宅 W2 | G27: 一般住宅の中に共同住宅等も見られる住宅地域 | H27: 南 6m 市道 | I27: 水道 ガス 下水 | J27: ＯｓａｋａＭｅｔｒｏ北加賀屋 490m | K27: １住居 (80､200) 準防火 | M27: =SUBSTITUTE(SUBSTITUTE(A27,"(府)","")," ","") -> 住之江 -1 | N27: =CLEAN(M27) -> 住之江-1 | O27: 住之江-1
A28: 大阪住之江 -4 | C28: =VLOOKUP(O28,[1]データ!$B$1:$F$130,4,FALSE) -> 250000 | M28: =SUBSTITUTE(SUBSTITUTE(A28,"(府)","")," ","") -> 大阪住之江 -4 | N28: =CLEAN(M28) -> 大阪住之江-4 | O28: 大阪住之江-4
A29: 平野 (府) -2 | B29: 大阪市平野区加美鞍作一丁目192番１ 「加美鞍作１－７－29」 | C29: =VLOOKUP(O29,[1]データ!$A$1:$F$130,4,FALSE) -> 188000 | D29: 144 | E29: 1:2.5 | F29: 住宅 W2 | G29: 一般住宅、共同住宅等が混在する住宅地域 | H29: 南 6m 市道 | I29: 水道 ガス 下水 | J29: ＪＲ加美 300m | K29: １住居 (80､200) 準防火 | M29: =SUBSTITUTE(SUBSTITUTE(A29,"(府)","")," ","") -> 平野 -2 | N29: =CLEAN(M29) -> 平野-2 | O29: 平野-2
A30: 大阪平野 -12 | C30: =VLOOKUP(O30,[1]データ!$B$1:$F$130,4,FALSE) -> 186000 | M30: =SUBSTITUTE(SUBSTITUTE(A30,"(府)","")," ","") -> 大阪平野 -12 | N30: =CLEAN(M30) -> 大阪平野-12 | O30: 大阪平野-12
A31: 平野 (府) -3 | B31: 大阪市平野区喜連西四丁目2320番７ 「喜連西４－７－48」 | C31: =VLOOKUP(O31,[1]データ!$A$1:$F$130,4,FALSE) -> 209000 | D31: 105 | E31: 1:1.5 | F31: 住宅 W2 | G31: 一般住宅、共同住宅等が混在する住宅地域 | H31: 北 6.8m 市道 | I31: 水道 ガス 下水 | J31: ＯｓａｋａＭｅｔｒｏ喜連瓜破 550m | K31: １住居 (80､200) 準防火 | M31: =SUBSTITUTE(SUBSTITUTE(A31,"(府)","")," ","") -> 平野 -3 | N31: =CLEAN(M31) -> 平野-3 | O31: 平野-3
A32: 大阪平野 -6 | C32: =VLOOKUP(O32,[1]データ!$B$1:$F$130,4,FALSE) -> 205000 | M32: =SUBSTITUTE(SUBSTITUTE(A32,"(府)","")," ","") -> 大阪平野 -6 | N32: =CLEAN(M32) -> 大阪平野-6 | O32: 大阪平野-6
A33: 東住吉 (府) -4 | B33: 大阪市東住吉区駒川一丁目85番26 「駒川１－15－11」 | C33: =VLOOKUP(O33,[1]データ!$A$1:$F$130,4,FALSE) -> 312000 | D33: 130 | E33: 1:2 | F33: 住宅 W2 | G33: 一般住宅、アパート等が混在する住宅地域 | H33: 北 6m 市道 | I33: 水道 ガス 下水 | J33: 近鉄北田辺 250m | K33: １住居 (80､200) 準防火 | M33: =SUBSTITUTE(SUBSTITUTE(A33,"(府)","")," ","") -> 東住吉 -4 | N33: =CLEAN(M33) -> 東住吉-4 | O33: 東住吉-4
A34: 大阪東住吉 -7 | C34: =VLOOKUP(O34,[1]データ!$B$1:$F$130,4,FALSE) -> 306000 | M34: =SUBSTITUTE(SUBSTITUTE(A34,"(府)","")," ","") -> 大阪東住吉 -7 | N34: =CLEAN(M34) -> 大阪東住吉-7 | O34: 大阪東住吉-7
A35: 東住吉 (府) 5-1 | B35: 大阪市東住吉区駒川四丁目３番６ 「駒川４－４－18」 | C35: =VLOOKUP(O35,[1]データ!$A$1:$F$130,4,FALSE) -> 339000 | D35: 69 | E35: 1:4.5 | F35: 店舗兼住宅 S3 | G35: 小売店舗が建ち並ぶアーケード内の商業地域 | H35: 西 5.5m 市道 | I35: 水道 ガス 下水 | J35: ＯｓａｋａＭｅｔｒｏ駒川中野 180m | K35: 商業 (80､400) 準防火 | M35: =SUBSTITUTE(SUBSTITUTE(A35,"(府)","")," ","") -> 東住吉 5-1 | N35: =CLEAN(M35) -> 東住吉5-1 | O35: 東住吉5-1
A36: 大阪東住吉 5-1 | C36: =VLOOKUP(O36,[1]データ!$B$1:$F$130,4,FALSE) -> 337000 | M36: =SUBSTITUTE(SUBSTITUTE(A36,"(府)","")," ","") -> 大阪東住吉 5-1 | N36: =CLEAN(M36) -> 大阪東住吉5-1 | O36: 大阪東住吉5-1
A37: 西成 (府) -1 | B37: 大阪市西成区橘一丁目９番31外 「橘１－11－６」 | C37: =VLOOKUP(O37,[1]データ!$A$1:$F$130,4,FALSE) -> 226000 | D37: 102 | E37: 1:2.5 | F37: 住宅 W2 | G37: 小規模一般住宅や共同住宅を中心とする住宅地域 | H37: 南 5m 私道 | I37: 水道 ガス 下水 | J37: 南海天下茶屋 590m | K37: １住居 (80､300) 準防火 | M37: =SUBSTITUTE(SUBSTITUTE(A37,"(府)","")," ","") -> 西成 -1 | N37: =CLEAN(M37) -> 西成-1 | O37: 西成-1
A38: 大阪西成 -4 | C38: =VLOOKUP(O38,[1]データ!$B$1:$F$130,4,FALSE) -> 218000 | M38: =SUBSTITUTE(SUBSTITUTE(A38,"(府)","")," ","") -> 大阪西成 -4 | N38: =CLEAN(M38) -> 大阪西成-4 | O38: 大阪西成-4
A39: 港 (府) -3 | B39: 大阪市港区磯路三丁目17番16 「磯路３－17－16」 | C39: =VLOOKUP(O39,[1]データ!$A$1:$F$130,4,FALSE) -> 317000 | D39: 79 | E39: 1:3.5 | F39: 住宅 W3 | G39: 一般住宅の中に店舗等が見られる住宅地域 | H39: 北東 8m 市道 | I39: 水道 ガス 下水 | J39: ＪＲ弁天町 950m | K39: １住居 (80､300) 準防火 | M39: =SUBSTITUTE(SUBSTITUTE(A39,"(府)","")," ","") -> 港 -3 | N39: =CLEAN(M39) -> 港-3 | O39: 港-3
A40: 大阪港 -1 | C40: =VLOOKUP(O40,[1]データ!$B$1:$F$130,4,FALSE) -> 306000 | M40: =SUBSTITUTE(SUBSTITUTE(A40,"(府)","")," ","") -> 大阪港 -1 | N40: =CLEAN(M40) -> 大阪港-1 | O40: 大阪港-1
A41: 港 (府) 5-1 | B41: 大阪市港区弁天四丁目12番27 「弁天４－12－８」 | C41: =VLOOKUP(O41,[1]データ!$A$1:$F$130,4,FALSE) -> 559000 | D41: 172 | E41: 1:2 | F41: 店舗兼共同住宅 S4 | G41: 店舗付共同住宅、小売店舗等が混在する商業地域 | H41: 南東 30m 市道 | I41: 水道 ガス 下水 | J41: ＪＲ弁天町 420m | K41: 商業 (80､400) 準防火 | M41: =SUBSTITUTE(SUBSTITUTE(A41,"(府)","")," ","") -> 港 5-1 | N41: =CLEAN(M41) -> 港5-1 | O41: 港5-1
A42: 大阪港 5-1 | C42: =VLOOKUP(O42,[1]データ!$B$1:$F$130,4,FALSE) -> 531000 | M42: =SUBSTITUTE(SUBSTITUTE(A42,"(府)","")," ","") -> 大阪港 5-1 | N42: =CLEAN(M42) -> 大阪港5-1 | O42: 大阪港5-1
A43: 西淀川 (府) -4 | B43: 大阪市西淀川区花川二丁目1237番３ 「花川２－15－16」 | C43: =VLOOKUP(O43,[1]データ!$A$1:$F$130,4,FALSE) -> 234000 | D43: 109 | E43: 1:1.5 | F43: 住宅 S3 | G43: 小規模一般住宅が多い既成住宅地域 | H43: 北西 5.4m 市道 | I43: 水道 ガス 下水 | J43: ＪＲ塚本 840m | K43: １住居 (80､200) 準防火 | M43: =SUBSTITUTE(SUBSTITUTE(A43,"(府)","")," ","") -> 西淀川 -4 | N43: =CLEAN(M43) -> 西淀川-4 | O43: 西淀川-4
A44: 大阪西淀川 -1 | C44: =VLOOKUP(O44,[1]データ!$B$1:$F$130,4,FALSE) -> 229000 | M44: =SUBSTITUTE(SUBSTITUTE(A44,"(府)","")," ","") -> 大阪西淀川 -1 | N44: =CLEAN(M44) -> 大阪西淀川-1 | O44: 大阪西淀川-1
A45: 淀川 (府) -4 | B45: 大阪市淀川区三国本町三丁目59番 「三国本町３－14－２」 | C45: =VLOOKUP(O45,[1]データ!$A$1:$F$130,4,FALSE) -> 324000 | D45: 182 | E45: 1:1 | F45: 住宅 LS2 | G45: 中小規模一般住宅が建ち並ぶ住宅地域 | H45: 南 5.5m 市道 | I45: 水道 ガス 下水 | J45: 阪急三国 450m | K45: １住居 (80､200) 準防火 | M45: =SUBSTITUTE(SUBSTITUTE(A45,"(府)","")," ","") -> 淀川 -4 | N45: =CLEAN(M45) -> 淀川-4 | O45: 淀川-4
A46: 大阪淀川 -1 | C46: =VLOOKUP(O46,[1]データ!$B$1:$F$130,4,FALSE) -> 315000 | M46: =SUBSTITUTE(SUBSTITUTE(A46,"(府)","")," ","") -> 大阪淀川 -1 | N46: =CLEAN(M46) -> 大阪淀川-1 | O46: 大阪淀川-1
A47: 淀川 (府) 5-3 | B47: 大阪市淀川区宮原三丁目５番７外 「宮原３－５－24」 | C47: =VLOOKUP(O47,[1]データ!$A$1:$F$130,4,FALSE) -> 3300000 | D47: 4507 | E47: 1:1.2 | F47: 店舗兼事務所 SRC14F2B | G47: 中高層事務所ビルが建ち並ぶ商業地域 | H47: 北 30m 市道 三方路 | I47: 水道 ガス 下水 | J47: ＯｓａｋａＭｅｔｒｏ新大阪 400m | K47: 商業 (80､600★) 防火 | M47: =SUBSTITUTE(SUBSTITUTE(A47,"(府)","")," ","") -> 淀川 5-3 | N47: =CLEAN(M47) -> 淀川5-3 | O47: 淀川5-3
A48: 大阪淀川 5-8 | C48: =VLOOKUP(O48,[1]データ!$B$1:$F$130,4,FALSE) -> 3100000 | M48: =SUBSTITUTE(SUBSTITUTE(A48,"(府)","")," ","") -> 大阪淀川 5-8 | N48: =CLEAN(M48) -> 大阪淀川5-8 | O48: 大阪淀川5-8
A49: 東淀川 (府) -2 | B49: 大阪市東淀川区下新庄一丁目62番２ 「下新庄１－10－２」 | C49: =VLOOKUP(O49,[1]データ!$A$1:$F$130,4,FALSE) -> 281000 | D49: 148 | E49: 1:2 | F49: 住宅 W2 | G49: 中小規模住宅、アパート等が混在する住宅地域 | H49: 西 8m 市道 | I49: 水道 ガス 下水 | J49: 阪急下新庄 400m | K49: １住居 (80､200) 準防火 | M49: =SUBSTITUTE(SUBSTITUTE(A49,"(府)","")," ","") -> 東淀川 -2 | N49: =CLEAN(M49) -> 東淀川-2 | O49: 東淀川-2
A50: 大阪東淀川 -7 | C50: =VLOOKUP(O50,[1]データ!$B$1:$F$130,4,FALSE) -> 268000 | M50: =SUBSTITUTE(SUBSTITUTE(A50,"(府)","")," ","") -> 大阪東淀川 -7 | N50: =CLEAN(M50) -> 大阪東淀川-7 | O50: 大阪東淀川-7
A51: 東淀川 (府) -3 | B51: 大阪市東淀川区豊里七丁目28番38 「豊里７－28－15」 | C51: =VLOOKUP(O51,[1]データ!$A$1:$F$130,4,FALSE) -> 278000 | D51: 101 | E51: 1:3 | F51: 住宅 W2 | G51: 一般住宅のほか駐車場等が混在する住宅地域 | H51: 北 8m 市道 | I51: 水道 ガス 下水 | J51: 阪急上新庄 1.1km | K51: ２中専 (60､200) 準防火 | M51: =SUBSTITUTE(SUBSTITUTE(A51,"(府)","")," ","") -> 東淀川 -3 | N51: =CLEAN(M51) -> 東淀川-3 | O51: 東淀川-3
A52: 大阪東淀川 -14 | C52: =VLOOKUP(O52,[1]データ!$B$1:$F$130,4,FALSE) -> 266000 | M52: =SUBSTITUTE(SUBSTITUTE(A52,"(府)","")," ","") -> 大阪東淀川 -14 | N52: =CLEAN(M52) -> 大阪東淀川-14 | O52: 大阪東淀川-14
A53: 北 (府) 5-1 | B53: 大阪市北区梅田一丁目２番 「梅田１－８－17」 | C53: =VLOOKUP(O53,[1]データ!$A$1:$F$130,4,FALSE) -> 19900000 | D53: 2397 | E53: 1:1.5 | F53: 店舗兼事務所 SRC19F5B | G53: 高層の店舗、事務所ビルが集まる中心的商業地域 | H53: 北西 60m 市道 三方路 | I53: 水道 ガス 下水 | J53: ＪＲ大阪 近接 | K53: 商業 (80､1000★) 防火 高度 | M53: =SUBSTITUTE(SUBSTITUTE(A53,"(府)","")," ","") -> 北 5-1 | N53: =CLEAN(M53) -> 北5-1 | O53: 北5-1
A54: 大阪北 5-29 | C54: =VLOOKUP(O54,[1]データ!$B$1:$F$130,4,FALSE) -> 19600000 | M54: =SUBSTITUTE(SUBSTITUTE(A54,"(府)","")," ","") -> 大阪北 5-29 | N54: =CLEAN(M54) -> 大阪北5-29 | O54: 大阪北5-29
A55: 北 (府) 5-2 | B55: 大阪市北区大深町207番外 「大深町４－20」 | C55: =VLOOKUP(O55,[1]データ!$A$1:$F$130,4,FALSE) -> 24900000 | D55: 10571 | E55: 台形 1:1.5 | F55: 店舗兼事務所 S38F3B | G55: 都市機能の集積が進む超高層ビル中心の商業地域 | H55: 北 40m 市道 三方路 | I55: 水道 ガス 下水 | J55: ＪＲ大阪 近接 | K55: 商業 (80､800★) 防火 | M55: =SUBSTITUTE(SUBSTITUTE(A55,"(府)","")," ","") -> 北 5-2 | N55: =CLEAN(M55) -> 北5-2 | O55: 北5-2
A56: 大阪北 5-28 | C56: =VLOOKUP(O56,[1]データ!$B$1:$F$130,4,FALSE) -> 24700000 | M56: =SUBSTITUTE(SUBSTITUTE(A56,"(府)","")," ","") -> 大阪北 5-28 | N56: =CLEAN(M56) -> 大阪北5-28 | O56: 大阪北5-28
A57: 北 (府) 5-5 | B57: 大阪市北区野崎町39番外 「野崎町９－13」 | C57: =VLOOKUP(O57,[1]データ!$A$1:$F$130,4,FALSE) -> 2770000 | D57: 462 | E57: 1:2.5 | F57: 店舗兼事務所 SRC9F1B | G57: 中高層の事務所、店舗等が建ち並ぶ商業地域 | H57: 北 27.2m 市道 東側道 | I57: 水道 ガス 下水 | J57: ＯｓａｋａＭｅｔｒｏ東梅田 660m | K57: 商業 (80､800) 防火 | M57: =SUBSTITUTE(SUBSTITUTE(A57,"(府)","")," ","") -> 北 5-5 | N57: =CLEAN(M57) -> 北5-5 | O57: 北5-5
A58: 大阪北 5-12 | C58: =VLOOKUP(O58,[1]データ!$B$1:$F$130,4,FALSE) -> 2550000 | M58: =SUBSTITUTE(SUBSTITUTE(A58,"(府)","")," ","") -> 大阪北 5-12 | N58: =CLEAN(M58) -> 大阪北5-12 | O58: 大阪北5-12
A59: 北 (府) 5-11 | B59: 大阪市北区大淀南一丁目９番６ 「大淀南１－10－９」 | C59: =VLOOKUP(O59,[1]データ!$A$1:$F$130,4,FALSE) -> 2350000 | D59: 241 | E59: 1:2.5 | F59: 事務所 SRC9F1B | G59: 中高層の事務所ビル等が多い商業地域 | H59: 西 30m 府道 | I59: 水道 ガス 下水 | J59: ＪＲ福島 520m | K59: 商業 (80､600) 防火 | M59: =SUBSTITUTE(SUBSTITUTE(A59,"(府)","")," ","") -> 北 5-11 | N59: =CLEAN(M59) -> 北5-11 | O59: 北5-11
A60: 大阪北 5-15 | C60: =VLOOKUP(O60,[1]データ!$B$1:$F$130,4,FALSE) -> 2090000 | M60: =SUBSTITUTE(SUBSTITUTE(A60,"(府)","")," ","") -> 大阪北 5-15 | N60: =CLEAN(M60) -> 大阪北5-15 | O60: 大阪北5-15
A61: 福島 (府) -1 | B61: 大阪市福島区玉川二丁目23番10 「玉川２－５－３」 | C61: =VLOOKUP(O61,[1]データ!$A$1:$F$130,4,FALSE) -> 417000 | D61: 108 | E61: 1:3 | F61: 住宅 LS2 | G61: 一般住宅の中に小売店舗等が見られる住宅地域 | H61: 南 4m 市道 | I61: 水道 ガス 下水 | J61: ＯｓａｋａＭｅｔｒｏ玉川 450m | K61: ２住居 (80､300) 準防火 | M61: =SUBSTITUTE(SUBSTITUTE(A61,"(府)","")," ","") -> 福島 -1 | N61: =CLEAN(M61) -> 福島-1 | O61: 福島-1
A62: 大阪福島 -1 | C62: =VLOOKUP(O62,[1]データ!$B$1:$F$130,4,FALSE) -> 396000 | M62: =SUBSTITUTE(SUBSTITUTE(A62,"(府)","")," ","") -> 大阪福島 -1 | N62: =CLEAN(M62) -> 大阪福島-1 | O62: 大阪福島-1
A63: 福島 (府) 5-3 | B63: 大阪市福島区福島六丁目20番２ 「福島６－20－２」 | C63: =VLOOKUP(O63,[1]データ!$A$1:$F$130,4,FALSE) -> 1980000 | D63: 559 | E63: 1:1.5 | F63: 店舗兼共同住宅 SRC11 | G63: 中高層の店舗付共同住宅等が建ち並ぶ商業地域 | H63: 南 8m 市道 | I63: 水道 ガス 下水 | J63: ＪＲ福島 530m | K63: 商業 (80､400) 準防火 | M63: =SUBSTITUTE(SUBSTITUTE(A63,"(府)","")," ","") -> 福島 5-3 | N63: =CLEAN(M63) -> 福島5-3 | O63: 福島5-3
A64: 大阪福島 5-3 | C64: =VLOOKUP(O64,[1]データ!$B$1:$F$130,4,FALSE) -> 1800000 | M64: =SUBSTITUTE(SUBSTITUTE(A64,"(府)","")," ","") -> 大阪福島 5-3 | N64: =CLEAN(M64) -> 大阪福島5-3 | O64: 大阪福島5-3
A65: 中央 (府) 5-3 | B65: 大阪市中央区宗右衛門町46番１外 「宗右衛門町７－２」 | C65: =VLOOKUP(O65,[1]データ!$A$1:$F$130,4,FALSE) -> 25800000 | D65: 502 | E65: 1:1 | F65: 店舗 S7F1B | G65: 小売店舗、飲食店舗等が高度に集積する商業地域 | H65: 西 19.6m 市道 三方路 | I65: 水道 ガス 下水 | J65: ＯｓａｋａＭｅｔｒｏなんば 230m | K65: 商業 (80､500) 防火 | M65: =SUBSTITUTE(SUBSTITUTE(A65,"(府)","")," ","") -> 中央 5-3 | N65: =CLEAN(M65) -> 中央5-3 | O65: 中央5-3
A66: 大阪中央 5-2 | C66: =VLOOKUP(O66,[1]データ!$B$1:$F$130,4,FALSE) -> 25000000 | M66: =SUBSTITUTE(SUBSTITUTE(A66,"(府)","")," ","") -> 大阪中央 5-2 | N66: =CLEAN(M66) -> 大阪中央5-2 | O66: 大阪中央5-2
A67: 中央 (府) 5-4 | B67: 大阪市中央区農人橋二丁目８番１ 「農人橋２－１－30」 | C67: =VLOOKUP(O67,[1]データ!$A$1:$F$130,4,FALSE) -> 2050000 | D67: 567 | E67: 1:2.5 | F67: 事務所 SRC9F1B | G67: 中高層の事務所ビルが建ち並ぶ商業地域 | H67: 北 74.1m 市道 | I67: 水道 ガス 下水 | J67: ＯｓａｋａＭｅｔｒｏ谷町四丁目 300m | K67: 商業 (80､800) 防火 | M67: =SUBSTITUTE(SUBSTITUTE(A67,"(府)","")," ","") -> 中央 5-4 | N67: =CLEAN(M67) -> 中央5-4 | O67: 中央5-4
A68: 大阪中央 5-12 | C68: =VLOOKUP(O68,[1]データ!$B$1:$F$130,4,FALSE) -> 1870000 | M68: =SUBSTITUTE(SUBSTITUTE(A68,"(府)","")," ","") -> 大阪中央 5-12 | N68: =CLEAN(M68) -> 大阪中央5-12 | O68: 大阪中央5-12
A69: 中央 (府) 5-7 | B69: 大阪市中央区谷町六丁目30番１外 「谷町６－４－３」 | C69: =VLOOKUP(O69,[1]データ!$A$1:$F$130,4,FALSE) -> 2150000 | D69: 515 | E69: 1:1.5 | F69: 事務所 SRC8 | G69: 中高層の事務所、店舗ビル等が建ち並ぶ商業地域 | H69: 東 40m 府道 | I69: 水道 ガス 下水 | J69: ＯｓａｋａＭｅｔｒｏ谷町六丁目 近接 | K69: 商業 (80､600) 防火 | M69: =SUBSTITUTE(SUBSTITUTE(A69,"(府)","")," ","") -> 中央 5-7 | N69: =CLEAN(M69) -> 中央5-7 | O69: 中央5-7
A70: 大阪中央 5-16 | C70: =VLOOKUP(O70,[1]データ!$B$1:$F$130,4,FALSE) -> 1980000 | M70: =SUBSTITUTE(SUBSTITUTE(A70,"(府)","")," ","") -> 大阪中央 5-16 | N70: =CLEAN(M70) -> 大阪中央5-16 | O70: 大阪中央5-16
A71: 中央 (府) 5-9 | B71: 大阪市中央区今橋二丁目30番 「今橋２－２－２」 | C71: =VLOOKUP(O71,[1]データ!$A$1:$F$130,4,FALSE) -> 4840000 | D71: 646 | E71: 2:1 | F71: 店舗兼事務所 SRC9F1B | G71: 中高層の事務所、店舗ビル等が建ち並ぶ商業地域 | H71: 東 21.8m 府道 三方路 | I71: 水道 ガス 下水 | J71: ＯｓａｋａＭｅｔｒｏ北浜 80m | K71: 商業 (80､800) 防火 | M71: =SUBSTITUTE(SUBSTITUTE(A71,"(府)","")," ","") -> 中央 5-9 | N71: =CLEAN(M71) -> 中央5-9 | O71: 中央5-9
A72: 大阪中央 5-14 | C72: =VLOOKUP(O72,[1]データ!$B$1:$F$130,4,FALSE) -> 4410000 | M72: =SUBSTITUTE(SUBSTITUTE(A72,"(府)","")," ","") -> 大阪中央 5-14 | N72: =CLEAN(M72) -> 大阪中央5-14 | O72: 大阪中央5-14
A73: 中央 (府) 5-11 | B73: 大阪市中央区瓦町二丁目28番１外 「瓦町２－６－９」 | C73: =VLOOKUP(O73,[1]データ!$A$1:$F$130,4,FALSE) -> 2680000 | D73: 1096 | E73: 1:1.5 | F73: 事務所、診療所兼店舗 RC8F2B | G73: 中高層の事務所ビルが建ち並ぶ商業地域 | H73: 北 7.8m 市道 | I73: 水道 ガス 下水 | J73: ＯｓａｋａＭｅｔｒｏ本町 450m | K73: 商業 (80､600) 防火 | M73: =SUBSTITUTE(SUBSTITUTE(A73,"(府)","")," ","") -> 中央 5-11 | N73: =CLEAN(M73) -> 中央5-11 | O73: 中央5-11
A74: 大阪中央 5-3 | C74: =VLOOKUP(O74,[1]データ!$B$1:$F$130,4,FALSE) -> 2500000 | M74: =SUBSTITUTE(SUBSTITUTE(A74,"(府)","")," ","") -> 大阪中央 5-3 | N74: =CLEAN(M74) -> 大阪中央5-3 | O74: 大阪中央5-3
A75: 西 (府) 5-2 | B75: 大阪市西区西本町二丁目111番外 「西本町２－１－34」 | C75: =VLOOKUP(O75,[1]データ!$A$1:$F$130,4,FALSE) -> 2650000 | D75: 534 | E75: 1:1.2 | F75: 事務所 SRC8 | G75: 中高層の事務所、店舗等が建ち並ぶ商業地域 | H75: 北 21.8m 国道 | I75: 水道 ガス 下水 | J75: ＯｓａｋａＭｅｔｒｏ本町 500m | K75: 商業 (80､600) 防火 | M75: =SUBSTITUTE(SUBSTITUTE(A75,"(府)","")," ","") -> 西 5-2 | N75: =CLEAN(M75) -> 西5-2 | O75: 西5-2
A76: 大阪西 5-3 | C76: =VLOOKUP(O76,[1]データ!$B$1:$F$130,4,FALSE) -> 2510000 | M76: =SUBSTITUTE(SUBSTITUTE(A76,"(府)","")," ","") -> 大阪西 5-3 | N76: =CLEAN(M76) -> 大阪西5-3 | O76: 大阪西5-3
A77: 西 (府) 5-6 | B77: 大阪市西区立売堀一丁目18番３ 「立売堀１－９－15」 | C77: =VLOOKUP(O77,[1]データ!$A$1:$F$130,4,FALSE) -> 2100000 | D77: 314 | E77: 1:2.5 | F77: 事務所 SRC9 | G77: 中高層の事務所、店舗ビル等が建ち並ぶ商業地域 | H77: 南 11m 市道 | I77: 水道 ガス 下水 | J77: ＯｓａｋａＭｅｔｒｏ本町 500m | K77: 商業 (80､600) 防火 | M77: =SUBSTITUTE(SUBSTITUTE(A77,"(府)","")," ","") -> 西 5-6 | N77: =CLEAN(M77) -> 西5-6 | O77: 西5-6
A78: 大阪西 5-2 | C78: =VLOOKUP(O78,[1]データ!$B$1:$F$130,4,FALSE) -> 1910000 | M78: =SUBSTITUTE(SUBSTITUTE(A78,"(府)","")," ","") -> 大阪西 5-2 | N78: =CLEAN(M78) -> 大阪西5-2 | O78: 大阪西5-2
A79: 天王寺 (府) -2 | B79: 大阪市天王寺区真法院町117番３ 「真法院町10－６」 | C79: =VLOOKUP(O79,[1]データ!$A$1:$F$130,4,FALSE) -> 874000 | D79: 119 | E79: 1:1.2 | F79: 住宅 W2 | G79: 一般住宅が多い区画整然とした閑静な住宅地域 | H79: 南東 8m 市道 | I79: 水道 ガス 下水 | J79: ＪＲ桃谷 750m | K79: ２中専 (60､300) 準防火 | M79: =SUBSTITUTE(SUBSTITUTE(A79,"(府)","")," ","") -> 天王寺 -2 | N79: =CLEAN(M79) -> 天王寺-2 | O79: 天王寺-2
A80: 大阪天王寺 -2 | C80: =VLOOKUP(O80,[1]データ!$B$1:$F$130,4,FALSE) -> 813000 | M80: =SUBSTITUTE(SUBSTITUTE(A80,"(府)","")," ","") -> 大阪天王寺 -2 | N80: =CLEAN(M80) -> 大阪天王寺-2 | O80: 大阪天王寺-2
A81: 天王寺 (府) 5-3 | B81: 大阪市天王寺区玉造元町１番51外 「玉造元町２－31」 | C81: =VLOOKUP(O81,[1]データ!$A$1:$F$130,4,FALSE) -> 1140000 | D81: 222 | E81: 1:5 | F81: 店舗兼事務所 S5 | G81: 中高層の店舗、マンションが混在する商業地域 | H81: 北 33m 国道 | I81: 水道 ガス 下水 | J81: ＪＲ玉造 70m | K81: 商業 (80､600) 防火 | M81: =SUBSTITUTE(SUBSTITUTE(A81,"(府)","")," ","") -> 天王寺 5-3 | N81: =CLEAN(M81) -> 天王寺5-3 | O81: 天王寺5-3
A82: 大阪天王寺 5-3 | C82: =VLOOKUP(O82,[1]データ!$B$1:$F$130,4,FALSE) -> 1080000 | M82: =SUBSTITUTE(SUBSTITUTE(A82,"(府)","")," ","") -> 大阪天王寺 5-3 | N82: =CLEAN(M82) -> 大阪天王寺5-3 | O82: 大阪天王寺5-3
A83: 浪速 (府) 5-2 | B83: 大阪市浪速区元町三丁目１番４外 「元町３－１－４」 | C83: =VLOOKUP(O83,[1]データ!$A$1:$F$130,4,FALSE) -> 1680000 | D83: 849 | E83: 不整形 1:1.2 | F83: 事務所、共同住宅兼店舗 SRC8 | G83: 中高層の店舗、事務所ビル等が建ち並ぶ商業地域 | H83: 東 40m 国道 南側道 | I83: 水道 ガス 下水 | J83: ＯｓａｋａＭｅｔｒｏ大国町 400m | K83: 商業 (80､600) 防火 | M83: =SUBSTITUTE(SUBSTITUTE(A83,"(府)","")," ","") -> 浪速 5-2 | N83: =CLEAN(M83) -> 浪速5-2 | O83: 浪速5-2
A84: 大阪浪速 5-1 | C84: =VLOOKUP(O84,[1]データ!$B$1:$F$130,4,FALSE) -> 1550000 | M84: =SUBSTITUTE(SUBSTITUTE(A84,"(府)","")," ","") -> 大阪浪速 5-1 | N84: =CLEAN(M84) -> 大阪浪速5-1 | O84: 大阪浪速5-1
A85: 箕面 (府) -10 | B85: 箕面市箕面六丁目1357番18 「箕面６－９－29」 | C85: =VLOOKUP(O85,[1]データ!$A$1:$F$130,4,FALSE) -> 284000 | D85: 192 | E85: 1:1 | F85: 住宅 LS2 | G85: 中規模一般住宅が多い既成住宅地域 | H85: 東 5m 市道 | I85: 水道 ガス 下水 | J85: 阪急箕面 480m | K85: １低専 (60､150) 高度 | M85: =SUBSTITUTE(SUBSTITUTE(A85,"(府)","")," ","") -> 箕面 -10 | N85: =CLEAN(M85) -> 箕面-10 | O85: 箕面-10
A86: 箕面 -2 | C86: =VLOOKUP(O86,[1]データ!$B$1:$F$130,4,FALSE) -> 279000 | M86: =SUBSTITUTE(SUBSTITUTE(A86,"(府)","")," ","") -> 箕面 -2 | N86: =CLEAN(M86) -> 箕面-2 | O86: 箕面-2
A87: 箕面 (府) 5-3 | B87: 箕面市船場東三丁目１番１ 「船場東３－１－６」 | C87: =VLOOKUP(O87,[1]データ!$A$1:$F$130,4,FALSE) -> 820000 | D87: 1176 | E87: 1:2 | F87: 店舗兼事務所 RC6F1B | G87: 中高層の店舗、事務所ビルが建ち並ぶ商業地域 | H87: 西 60m 国道 三方路 | I87: 水道 ガス 下水 | J87: 北大阪急行箕面船場阪大前 近接 | K87: 商業 (80､600) 防火 高度 | M87: =SUBSTITUTE(SUBSTITUTE(A87,"(府)","")," ","") -> 箕面 5-3 | N87: =CLEAN(M87) -> 箕面5-3 | O87: 箕面5-3
A88: 箕面 5-4 | C88: =VLOOKUP(O88,[1]データ!$B$1:$F$130,4,FALSE) -> 790000 | M88: =SUBSTITUTE(SUBSTITUTE(A88,"(府)","")," ","") -> 箕面 5-4 | N88: =CLEAN(M88) -> 箕面5-4 | O88: 箕面5-4
A89: 池田 (府) -3 | B89: 池田市石橋四丁目32番45 「石橋４－10－４」 | C89: =VLOOKUP(O89,[1]データ!$A$1:$F$130,4,FALSE) -> 200000 | D89: 130 | E89: 1:1.5 | F89: 住宅 W2 | G89: 中小規模住宅が多い既成住宅地域 | H89: 南 4m 私道 | I89: 水道 ガス 下水 | J89: 阪急石橋阪大前 900m | K89: １中専 (60､200) 高度 | M89: =SUBSTITUTE(SUBSTITUTE(A89,"(府)","")," ","") -> 池田 -3 | N89: =CLEAN(M89) -> 池田-3 | O89: 池田-3
A90: 池田 -8 | C90: =VLOOKUP(O90,[1]データ!$B$1:$F$130,4,FALSE) -> 197000 | M90: =SUBSTITUTE(SUBSTITUTE(A90,"(府)","")," ","") -> 池田 -8 | N90: =CLEAN(M90) -> 池田-8 | O90: 池田-8
A91: 池田 (府) -7 | B91: 池田市城南一丁目94番 「城南１－３－15」 | C91: =VLOOKUP(O91,[1]データ!$A$1:$F$130,4,FALSE) -> 354000 | D91: 214 | E91: 1:1.5 | F91: 住宅 W2 | G91: 中規模一般住宅が建ち並ぶ住宅地域 | H91: 南 6m 市道 | I91: 水道 ガス 下水 | J91: 阪急池田 450m | K91: １住居 (60､200) 準防火 | M91: =SUBSTITUTE(SUBSTITUTE(A91,"(府)","")," ","") -> 池田 -7 | N91: =CLEAN(M91) -> 池田-7 | O91: 池田-7
A92: 池田 -7 | C92: =VLOOKUP(O92,[1]データ!$B$1:$F$130,4,FALSE) -> 347000 | M92: =SUBSTITUTE(SUBSTITUTE(#REF!,"(府)","")," ","") -> #REF! | N92: =CLEAN(M92) -> #REF! | O92: 池田-7
A93: 池田 (府) 5-1 | B93: 池田市栄町734番６外 「栄町10－７」 | C93: =VLOOKUP(O93,[1]データ!$A$1:$F$130,4,FALSE) -> 730000 | D93: 737 | E93: 不整形 1.5:1 | F93: 銀行 RC5F1B | G93: 小売店舗、銀行が建ち並ぶ駅前の商業地域 | H93: 南西 20m 国道 四方路 | I93: 水道 ガス 下水 | J93: 阪急池田 100m | K93: 商業 (80､400) 防火 | M93: =SUBSTITUTE(SUBSTITUTE(#REF!,"(府)","")," ","") -> #REF! | N93: =CLEAN(M93) -> #REF! | O93: 池田5-1
A94: 池田 5-1 | C94: =VLOOKUP(O94,[1]データ!$B$1:$F$130,4,FALSE) -> 700000 | M94: =SUBSTITUTE(SUBSTITUTE(#REF!,"(府)","")," ","") -> #REF! | N94: =CLEAN(M94) -> #REF! | O94: 池田5-1
A95: 豊中 (府) -1 | B95: 豊中市庄内栄町四丁目10番１ 「庄内栄町４－４－15」 | C95: =VLOOKUP(O95,[1]データ!$A$1:$F$130,4,FALSE) -> 198000 | D95: 96 | E95: 1:1.5 | F95: 住宅 W2 | G95: 小規模一般住宅の中に事業所が混在する住宅地域 | H95: 北 4m 市道 | I95: 水道 ガス 下水 | J95: 阪急庄内 1.0km | K95: １住居 (60､200) | M95: =SUBSTITUTE(SUBSTITUTE(#REF!,"(府)","")," ","") -> #REF! | N95: =CLEAN(M95) -> #REF! | O95: 豊中-1
A96: 豊中 -17 | C96: =VLOOKUP(O96,[1]データ!$B$1:$F$130,4,FALSE) -> 194000 | M96: =SUBSTITUTE(SUBSTITUTE(#REF!,"(府)","")," ","") -> #REF! | N96: =CLEAN(M96) -> #REF! | O96: 豊中-17
A97: 豊中 (府) -3 | B97: 豊中市新千里北町三丁目11番８ 「新千里北町３－11－８」 | C97: =VLOOKUP(O97,[1]データ!$A$1:$F$130,4,FALSE) -> 356000 | D97: 255 | E97: 1:1.2 | F97: 住宅 W2 | G97: 中規模住宅が建ち並ぶ区画整然とした住宅地域 | H97: 南東 6.5m 市道 | I97: 水道 ガス 下水 | J97: 北大阪急行千里中央 890m | K97: １低専 (40､80) 高度 | M97: =SUBSTITUTE(SUBSTITUTE(#REF!,"(府)","")," ","") -> #REF! | N97: =CLEAN(M97) -> #REF! | O97: 豊中-3
A98: 豊中 -55 | C98: =VLOOKUP(O98,[1]データ!$B$1:$F$130,4,FALSE) -> 350000 | M98: =SUBSTITUTE(SUBSTITUTE(#REF!,"(府)","")," ","") -> #REF! | N98: =CLEAN(M98) -> #REF! | O98: 豊中-55
A99: 豊中 (府) -10 | B99: 豊中市曽根南町二丁目155番11 「曽根南町２－３－27」 | C99: =VLOOKUP(O99,[1]データ!$A$1:$F$130,4,FALSE) -> 229000 | D99: 161 | E99: 1:1.2 | F99: 住宅 W2 | G99: 小規模住宅のほかマンションも見られる住宅地域 | H99: 東 5.5m 市道 背面道 | I99: 水道 ガス 下水 | J99: 阪急曽根 570m | K99: １住居 (60､200) | M99: =SUBSTITUTE(SUBSTITUTE(#REF!,"(府)","")," ","") -> #REF! | N99: =CLEAN(M99) -> #REF! | O99: 豊中-10
A100: 豊中 -5 | C100: =VLOOKUP(O100,[1]データ!$B$1:$F$130,4,FALSE) -> 224000 | M100: =SUBSTITUTE(SUBSTITUTE(#REF!,"(府)","")," ","") -> #REF! | N100: =CLEAN(M100) -> #REF! | O100: 豊中-5
...
