Workbook

Sheet 表紙
A13: 令和８年
A15: 大阪府基準地価格要覧

Sheet 記載及び用語の説明
A1: 記載及び用語の説明
A3: １ 宅地及び宅地見込地
A4: (1) 「基準地番号」欄において、一連番号の前に３、５又は９の見出し数字を付しているものは当該基準地がそ
A5: れぞれ宅地見込地、商業地又は工業地にあることを示し、見出し数字を付していないものは当該基準地が住宅
A6: 地にあることを示す。※印は、地価公示の標準地と同一地点となっている基準地であることを示す。
A7: (2) 「基準地の所在及び地番並びに住居表示」欄において、
A8: ア 住居表示に関する法律（昭和37年法律第119号）による住居表示が実施されている場合には、当該住居表
A9: 示に係る住居を「 」内に表示した。
A10: イ 基準地が土地区画整理法（昭和29年法律第119号）による土地区画整理事業の仮換地又は土地改良法（昭
A11: 和24年法律第195号）による土地改良事業の一時利用地となっている場合には、その場所の当該事業の整理
A12: 前の所在、地番及び住居表示に係る住居を表示し、（ ）内に当該事業による工区名、街区番号、符号等を
A13: 表示した。
... A89: (8) 表示は、基準地の単位面積当たりの価格判定の基準日における状況により行った。

Sheet 目次
A1: 大阪府基準地価格等市区町村別目次
A4: 宅地及び宅地見込地の部 | H4: 16 | I4: 交野市 | K4: ･････････････････････････ | M4: 32
A5: 1 | B5: 大阪市 | D5: ･････････････････････････ | F5: 1 | H5: 17 | I5: 四條畷市 | K5: ･････････････････････････ | M5: 33
C6: 都島区 | E6: ･･･････････････････ | F6: 1 | H6: 18 | I6: 大東市 | K6: ･････････････････････････ | M6: 33
C7: 東成区 | E7: ･･･････････････････ | F7: 1 | H7: 19 | I7: 東大阪市 | K7: ･････････････････････････ | M7: 34
C8: 生野区 | E8: ･･･････････････････ | F8: 1 | H8: 20 | I8: 八尾市 | K8: ･････････････････････････ | M8: 37
C9: 旭区 | E9: ･･･････････････････ | F9: 2 | H9: 21 | I9: 柏原市 | K9: ･････････････････････････ | M9: 38
C10: 城東区 | E10: ･･･････････････････ | F10: 3 | H10: 22 | I10: 松原市 | K10: ･････････････････････････ | M10: 39
C11: 鶴見区 | E11: ･･･････････････････ | F11: 3 | H11: 23 | I11: 藤井寺市 | K11: ･････････････････････････ | M11: 39
C12: 阿倍野区 | E12: ･･･････････････････ | F12: 4 | H12: 24 | I12: 羽曳野市 | K12: ･････････････････････････ | M12: 40
C13: 住吉区 | E13: ･･･････････････････ | F13: 4 | H13: 25 | I13: 大阪狭山市 | K13: ･････････････････････････ | M13: 41
C14: 住之江区 | E14: ･･･････････････････ | F14: 5 | H14: 26 | I14: 富田林市 | K14: ･････････････････････････ | M14: 41
C15: 平野区 | E15: ･･･････････････････ | F15: 5 | H15: 27 | I15: 河内長野市 | K15: ･････････････････････････ | M15: 42
C16: 東住吉区 | E16: ･･･････････････････ | F16: 6 | H16: 28 | I16: 河南町 | K16: ･････････････････････････ | M16: 43
C17: 西成区 | E17: ･･･････････････････ | F17: 7 | H17: 29 | I17: 太子町 | K17: ･････････････････････････ | M17: 43
... C19: 港区 | E19: ･･･････････････････ | F19: 8 | H19: 31 | I19: 堺市 | K19: ･････････････････････････ | M19: 44
C20: 大正区 | E20: ･･･････････････････ | F20: 8 | J20: 堺区 | L20: ･･･････････････････ | M20: 44
C21: 西淀川区 | E21: ･･･････････････････ | F21: 9 | J21: 中区 | L21: ･･･････････････････ | M21: 45
C22: 淀川区 | E22: ･･･････････････････ | F22: 9 | J22: 東区 | L22: ･･･････････････････ | M22: 46
C23: 東淀川区 | E23: ･･･････････････････ | F23: 10 | J23: 西区 | L23: ･･･････････････････ | M23: 47
C24: 北区 | E24: ･･･････････････････ | F24: 10 | J24: 南区 | L24: ･･･････････････････ | M24: 48
C25: 福島区 | E25: ･･･････････････････ | F25: 12 | J25: 北区 | L25: ･･･････････････････ | M25: 48
C26: 中央区 | E26: ･･･････････････････ | F26: 12 | J26: 美原区 | L26: ･･･････････････････ | M26: 49
C27: 西区 | E27: ･･･････････････････ | F27: 14 | H27: 32 | I27: 和泉市 | K27: ･････････････････････････ | M27: 50
C28: 天王寺区 | E28: ･･･････････････････ | F28: 15 | H28: 33 | I28: 高石市 | K28: ･････････････････････････ | M28: 51
C29: 浪速区 | E29: ･･･････････････････ | F29: 15 | H29: 34 | I29: 泉大津市 | K29: ･････････････････････････ | M29: 51
A30: 2 | B30: 能勢町 | D30: ･････････････････････････ | F30: 16 | H30: 35 | I30: 忠岡町 | K30: ･････････････････････････ | M30: 52
A31: 3 | B31: 豊能町 | D31: ･････････････････････････ | F31: 16 | H31: 36 | I31: 岸和田市 | K31: ･････････････････････････ | M31: 52
A32: 4 | B32: 箕面市 | D32: ･････････････････････････ | F32: 16 | H32: 37 | I32: 貝塚市 | K32: ･････････････････････････ | M32: 54
A33: 5 | B33: 池田市 | D33: ･････････････････････････ | F33: 18 | H33: 38 | I33: 泉佐野市 | K33: ･････････････････････････ | M33: 55
A34: 6 | B34: 豊中市 | D34: ･････････････････････････ | F34: 19 | H34: 39 | I34: 泉南市 | K34: ･････････････････････････ | M34: 55
A35: 7 | B35: 吹田市 | D35: ･････････････････････････ | F35: 21 | H35: 40 | I35: 田尻町 | K35: ･････････････････････････ | M35: 56
A36: 8 | B36: 摂津市 | D36: ･････････････････････････ | F36: 23 | H36: 41 | I36: 熊取町 | K36: ･････････････････････････ | M36: 56
A37: 9 | B37: 茨木市 | D37: ･････････････････････････ | F37: 23 | H37: 42 | I37: 阪南市 | K37: ･････････････････････････ | M37: 57
A38: 10 | B38: 高槻市 | D38: ･････････････････････････ | F38: 25 | H38: 43 | I38: 岬町 | K38: ･････････････････････････ | M38: 58
A39: 11 | B39: 島本町 | D39: ･････････････････････････ | F39: 27 | H39: 林地の部
A40: 12 | B40: 枚方市 | D40: ･････････････････････････ | F40: 27 | H40: 1 | I40: 林地 | K40: ･････････････････････････ | M40: 59
A41: 13 | B41: 寝屋川市 | D41: ･････････････････････････ | F41: 30 | H41: 地価公示の標準地と
A42: 14 | B42: 門真市 | D42: ･････････････････････････ | F42: 31 | H42: 同一地点である基準地一覧･･･････････････ | M42: 60
A43: 15 | B43: 守口市 | D43: ･････････････････････････ | F43: 31

Sheet 宅地
A1: （宅地及び宅地見込地）
A2: 基準地 番 号 | B2: 基準地の所在及び 地番並びに住居表示 | C2: 基準地の１平方メートル当たりの価格 (円) | D2: 基準地 の地積 (㎡) | E2: 基準地 の形状 | F2: 基準地 の利用 の現況 | G2: 基準地の周辺の 土地の利用の現況 | H2: 基準地の 前面道路 の状況 | I2: 基準地についての水道、ガス供給施設及び下水道の整備状況＿ | J2: 基準地の鉄道その他の主要な交通施設との接近状況 | K2: 基準地に係る都市計画法その他法令の制限で主要なもの
A3: ※ 都島 (府) -1 | B3: 大阪市都島区都島中通二丁目101番 「都島中通２－11－17」 | C3: 400000 | D3: 166 | E3: 1:1.5 | F3: 住宅 W2 | G3: 一般住宅のほかにマンションが見られる住宅地域 | H3: 南 5.5m 市道 | I3: 水道 ガス 下水 | J3: ＪＲ京橋 1.0km | K3: １住居 (80､300) 準防火
A4: -2 | B4: 大阪市都島区高倉町三丁目124番２ 「高倉町３－７－15」 | C4: 342000 | D4: 142 | E4: 1:2 | F4: 倉庫兼住宅 S4 | G4: 一般住宅のほか倉庫、事務所等が混在する地域 | H4: 北 8m 市道 | I4: 水道 ガス 下水 | J4: ＪＲ城北公園通 620m | K4: 準工 (60､200) 準防火
A5: 5-1 | B5: 大阪市都島区東野田町五丁目237番３ 「東野田町５－９－12」 | C5: 323000 | D5: 77 | E5: 1:3 | F5: 診療所 S2 | G5: 小売店舗が建ち並ぶアーケード商店街 | H5: 西 7m 市道 | I5: 水道 ガス 下水 | J5: ＪＲ京橋 500m | K5: 近商 (80､300) 準防火
A6: 5-2 | B6: 大阪市都島区都島北通一丁目２番３ 「都島北通１－１－４」 | C6: 626000 | D6: 121 | E6: 1:3 | F6: 店舗兼住宅 S4 | G6: 中低層の店舗ビルや店舗兼共同住宅等が建ち並ぶ商業地域 | H6: 北西 25m 市道 | I6: 水道 ガス 下水 | J6: ＯｓａｋａＭｅｔｒｏ都島 近接 | K6: 商業 (80､400) 防火
A7: 5-3 | B7: 大阪市都島区片町二丁目２番１外 「片町２－２－40」 | C7: 666000 | D7: 1145 | E7: 1.5:1 | F7: 店舗兼事務所 SRC9 | G7: 事務所ビルにホテル、マンション等も見られる地域 | H7: 南 11m 府道 | I7: 水道 ガス 下水 | J7: ＪＲ京橋 100m | K7: 商業 (80､400) 準防火
A8: 東成 (府) -1 | B8: 大阪市東成区大今里三丁目29番10 「大今里３－11－25」 | C8: 289000 | D8: 100 | E8: 1:2 | F8: 住宅 W2 | G8: 中小規模一般住宅の中に店舗等が見られる住宅地域 | H8: 南西 4.7m 市道 | I8: 水道 ガス 下水 | J8: ＯｓａｋａＭｅｔｒｏ今里 250m | K8: １住居 (80､300) 準防火
A9: -2 | B9: 大阪市東成区大今里西二丁目125番１ 「大今里西２－４－２」 | C9: 296000 | D9: 108 | E9: 1:2.5 | F9: 住宅 S3 | G9: 小規模一般住宅の中に事業所等が見られる住宅地域 | H9: 北 5.4m 市道 | I9: 水道 ガス 下水 | J9: ＯｓａｋａＭｅｔｒｏ今里 440m | K9: １住居 (80､300) 準防火
A10: 5-1 | B10: 大阪市東成区玉津一丁目２番３ 「玉津１－２－３」 | C10: 468000 | D10: 187 | E10: 1:2 | F10: 事務所 S6 | G10: 店舗・営業所、中高層の事務所ビルや共同住宅が存する商業地域 | H10: 北東 27m 国道 | I10: 水道 ガス 下水 | J10: ＪＲ玉造 500m | K10: 商業 (80､400) 防火
A11: 5-2 | B11: 大阪市東成区東中本一丁目225番１ 「東中本１－15－25」 | C11: 515000 | D11: 121 | E11: 1.2:1 | F11: 店舗兼共同住宅 S4 | G11: 低層の店舗が多く、店舗兼共同住宅等も見られる路線商業地域 | H11: 南 40m 市道 | I11: 水道 ガス 下水 | J11: ＯｓａｋａＭｅｔｒｏ緑橋 160m | K11: 商業 (80､400) 防火
A12: 5-3 | B12: 大阪市東成区深江北一丁目32番１ 「深江北１－17－９」 | C12: 405000 | D12: 724 | E12: 1:1 | F12: 車庫、作業所兼店舗等 S3 | G12: 店舗、事務所、事業所、共同住宅等が建ち並ぶ路線商業地域 | H12: 東 25m 国道 | I12: 水道 ガス 下水 | J12: ＯｓａｋａＭｅｔｒｏ深江橋 560m | K12: 準工 (80､300) 準防火
A13: 9-1 | B13: 大阪市東成区東小橋一丁目18番８ 「東小橋１－18－10」 | C13: 359000 | D13: 262 | E13: 1:3 | F13: 事務所兼倉庫 S5 | G13: 工場、倉庫、事務所のほか共同住宅も見られる地域 | H13: 東 11m 市道 | I13: 水道 ガス 下水 | J13: ＪＲ玉造 350m | K13: 準工 (60､300) 準防火
A14: ※ 生野 (府) -1 | B14: 大阪市生野区小路二丁目131番５ 「小路２－21－22」 | C14: 206000 | D14: 99 | E14: 1:1.2 | F14: 住宅 W2 | G14: 一般住宅を主に作業所等も見られる住宅地域 | H14: 西 6.4m 市道 | I14: 水道 ガス 下水 | J14: ＯｓａｋａＭｅｔｒｏ小路 340m | K14: １住居 (80､300) 準防火
... A690: -4 | B690: 泉南郡岬町深日2450番62 | C690: 18100 | D690: 185 | E690: 1.5:1 | F690: 住宅 W2 | G690: 中規模の一般住宅が建ち並ぶ住宅地域 | H690: 北 5.1m 町道 | I690: 水道 ガス 下水 | J690: 南海多奈川 300m | K690: １低専 (50､100)

Sheet 林地 
B1: （林 地）
B2: 基準地 番 号 | C2: 基準地の所在及び地番 | D2: 基準地の10アール当たりの価格 (円) | E2: 基準地 の地積 (㎡) | F2: 基準地 の利用 の現況 | G2: 基準地の周辺の 土地の利用の現況 | H2: 交通近接条件 | L2: 基準地に係る都市計画法その他法令の制限で主要なもの | M2: 地域 特性
H3: 基準地から搬出地点までの搬出方法及び距離 | I3: 搬出地点の道路の状況 | J3: 最寄駅 及び距離 | K3: 最寄集落及び距離
A4: 1 | B4: 大阪（林） -1 | C4: 岸和田市大沢町2059番 | D4: 450000 | E4: 2380 | F4: 用材林地 (檜) | G4: 標高220m 北東向傾斜度30度 集落に近い雑木林の混在する地域 | H4: 集材機 100m | I4: 北東 6m 府道 | J4: ＪＲ久米田 10.0km | K4: 堂脇 100m | L4: 市街化調整区域 地域森林計画対象 民有林 | M4: 農村 林地

Sheet 地価公示の標準地と同一地点
A1: （地価公示の標準地と同一地点である基準地一覧） | H1: 上段：地価調査、下段：地価公示
A2: 基準地 番 号 | B2: 基準地の所在及び 地番並びに住居表示 | C2: 基準地の１平方メートル当たりの価格 (円) | D2: 基準地 の地積 (㎡) | E2: 基準地 の形状 | F2: 基準地 の利用 の現況 | G2: 基準地の周辺の 土地の利用の現況 | H2: 基準地の 前面道路 の状況 | I2: 基準地についての水道、ガス供給施設及び下水道の整備状況＿ | J2: 基準地の鉄道その他の主要な交通施設との接近状況 | K2: 基準地に係る都市計画法その他法令の制限で主要なもの
A3: 都島 (府) -1 | B3: 大阪市都島区都島中通二丁目101番 「都島中通２－11－17」 | C3: =VLOOKUP(O3,[1]データ!$A$1:$F$130,4,FALSE) -> 400000 | D3: 166 | E3: 1:1.5 | F3: 住宅 W2 | G3: 一般住宅のほかにマンションが見られる住宅地域 | H3: 南 5.5m 市道 | I3: 水道 ガス 下水 | J3: ＪＲ京橋 1.0km | K3: １住居 (80､300) 準防火 | M3: =SUBSTITUTE(SUBSTITUTE(A3,"(府)","")," ","") -> 都島 -1 | N3: =CLEAN(M3) -> 都島-1 | O3: 都島-1
A4: 大阪都島 -5 | C4: =VLOOKUP(O4,[1]データ!$B$1:$F$130,4,FALSE) -> 385000 | M4: =SUBSTITUTE(SUBSTITUTE(A4,"(府)","")," ","") -> 大阪都島 -5 | N4: =CLEAN(M4) -> 大阪都島-5 | O4: 大阪都島-5
A5: 生野 (府) -1 | B5: 大阪市生野区小路二丁目131番５ 「小路２－21－22」 | C5: =VLOOKUP(O5,[1]データ!$A$1:$F$130,4,FALSE) -> 206000 | D5: 99 | E5: 1:1.2 | F5: 住宅 W2 | G5: 一般住宅を主に作業所等も見られる住宅地域 | H5: 西 6.4m 市道 | I5: 水道 ガス 下水 | J5: ＯｓａｋａＭｅｔｒｏ小路 340m | K5: １住居 (80､300) 準防火 | M5: =SUBSTITUTE(SUBSTITUTE(A5,"(府)","")," ","") -> 生野 -1 | N5: =CLEAN(M5) -> 生野-1 | O5: 生野-1
A6: 大阪生野 -1 | C6: =VLOOKUP(O6,[1]データ!$B$1:$F$130,4,FALSE) -> 202000 | M6: =SUBSTITUTE(SUBSTITUTE(A6,"(府)","")," ","") -> 大阪生野 -1 | N6: =CLEAN(M6) -> 大阪生野-1 | O6: 大阪生野-1
A7: 旭 (府) -2 | B7: 大阪市旭区新森四丁目81番３ 「新森４－21－22」 | C7: =VLOOKUP(O7,[1]データ!$A$1:$F$130,4,FALSE) -> 339000 | D7: 149 | E7: 1:2 | F7: 住宅 LS2 | G7: 中規模一般住宅が建ち並ぶ閑静な住宅地域 | H7: 南 6m 市道 | I7: 水道 ガス 下水 | J7: ＯｓａｋａＭｅｔｒｏ新森古市 330m | K7: ２中専 (60､200) 準防火 | M7: =SUBSTITUTE(SUBSTITUTE(A7,"(府)","")," ","") -> 旭 -2 | N7: =CLEAN(M7) -> 旭-2 | O7: 旭-2
A8: 大阪旭 -1 | C8: =VLOOKUP(O8,[1]データ!$B$1:$F$130,4,FALSE) -> 329000 | M8: =SUBSTITUTE(SUBSTITUTE(A8,"(府)","")," ","") -> 大阪旭 -1 | N8: =CLEAN(M8) -> 大阪旭-1 | O8: 大阪旭-1
A9: 旭 (府) 5-2 | B9: 大阪市旭区千林二丁目60番６ 「千林２－２－17」 | C9: =VLOOKUP(O9,[1]データ!$A$1:$F$130,4,FALSE) -> 302000 | D9: 89 | E9: 台形 1:2 | F9: 店舗兼共同住宅 S3 | G9: 各種小売店舗、飲食店舗が建ち並ぶ商業地域 | H9: 南 5.5m 市道 背面道 | I9: 水道 ガス 下水 | J9: ＯｓａｋａＭｅｔｒｏ千林大宮 110m | K9: 商業 (80､400) 準防火 | M9: =SUBSTITUTE(SUBSTITUTE(A9,"(府)","")," ","") -> 旭 5-2 | N9: =CLEAN(M9) -> 旭5-2 | O9: 旭5-2
A10: 大阪旭 5-2 | C10: =VLOOKUP(O10,[1]データ!$B$1:$F$130,4,FALSE) -> 300000 | M10: =SUBSTITUTE(SUBSTITUTE(A10,"(府)","")," ","") -> 大阪旭 5-2 | N10: =CLEAN(M10) -> 大阪旭5-2 | O10: 大阪旭5-2
A11: 城東 (府) -3 | B11: 大阪市城東区関目二丁目６番９ 「関目２－９－32」 | C11: =VLOOKUP(O11,[1]データ!$A$1:$F$130,4,FALSE) -> 384000 | D11: 59 | E11: 1:2 | F11: 住宅 W3 | G11: 一般住宅、マンション等が混在する住宅地域 | H11: 南 8m 市道 | I11: 水道 ガス 下水 | J11: 京阪野江 900m | K11: １住居 (80､200) 準防火 | M11: =SUBSTITUTE(SUBSTITUTE(A11,"(府)","")," ","") -> 城東 -3 | N11: =CLEAN(M11) -> 城東-3 | O11: 城東-3
A12: 大阪城東 -6 | C12: =VLOOKUP(O12,[1]データ!$B$1:$F$130,4,FALSE) -> 370000 | M12: =SUBSTITUTE(SUBSTITUTE(A12,"(府)","")," ","") -> 大阪城東 -6 | N12: =CLEAN(M12) -> 大阪城東-6 | O12: 大阪城東-6
A13: 鶴見 (府) -2 | B13: 大阪市鶴見区横堤三丁目584番４外 「横堤３－９－５」 | C13: =VLOOKUP(O13,[1]データ!$A$1:$F$130,4,FALSE) -> 337000 | D13: 121 | E13: 1:2 | F13: 住宅 S3 | G13: 住宅、マンション等が混在する住宅地域 | H13: 西 7.5m 市道 | I13: 水道 ガス 下水 | J13: ＯｓａｋａＭｅｔｒｏ横堤 270m | K13: １住居 (80､200) 準防火 | M13: =SUBSTITUTE(SUBSTITUTE(A13,"(府)","")," ","") -> 鶴見 -2 | N13: =CLEAN(M13) -> 鶴見-2 | O13: 鶴見-2
A14: 大阪鶴見 -5 | C14: =VLOOKUP(O14,[1]データ!$B$1:$F$130,4,FALSE) -> 324000 | M14: =SUBSTITUTE(SUBSTITUTE(A14,"(府)","")," ","") -> 大阪鶴見 -5 | N14: =CLEAN(M14) -> 大阪鶴見-5 | O14: 大阪鶴見-5
A15: 阿倍野 (府) -2 | B15: 大阪市阿倍野区文の里三丁目59番２外 「文の里３－７－30」 | C15: =VLOOKUP(O15,[1]データ!$A$1:$F$130,4,FALSE) -> 476000 | D15: 118 | E15: 1:1.2 | F15: 住宅 LS2 | G15: 中小規模一般住宅が建ち並ぶ環境の良い住宅地域 | H15: 西 6m 市道 | I15: 水道 ガス 下水 | J15: ＪＲ美章園 300m | K15: １住居 (80､300) 準防火 | M15: =SUBSTITUTE(SUBSTITUTE(A15,"(府)","")," ","") -> 阿倍野 -2 | N15: =CLEAN(M15) -> 阿倍野-2 | O15: 阿倍野-2
A16: 大阪阿倍野 -3 | C16: =VLOOKUP(O16,[1]データ!$B$1:$F$130,4,FALSE) -> 460000 | M16: =SUBSTITUTE(SUBSTITUTE(A16,"(府)","")," ","") -> 大阪阿倍野 -3 | N16: =CLEAN(M16) -> 大阪阿倍野-3 | O16: 大阪阿倍野-3
A17: 阿倍野 (府) 5-2 | B17: 大阪市阿倍野区昭和町二丁目１番４ 「昭和町２－１－１」 | C17: =VLOOKUP(O17,[1]データ!$A$1:$F$130,4,FALSE) -> 765000 | D17: 227 | E17: 1:1.5 | F17: 店舗兼共同住宅 RC8 | G17: 低層店舗、中高層店舗付共同住宅が多い商業地域 | H17: 北 25m 市道 | I17: 水道 ガス 下水 | J17: ＯｓａｋａＭｅｔｒｏ昭和町 100m | K17: 商業 (80､400) 防火 | M17: =SUBSTITUTE(SUBSTITUTE(A17,"(府)","")," ","") -> 阿倍野 5-2 | N17: =CLEAN(M17) -> 阿倍野5-2 | O17: 阿倍野5-2
A18: 大阪阿倍野 5-1 | C18: =VLOOKUP(O18,[1]データ!$B$1:$F$130,4,FALSE) -> 743000 | M18: =SUBSTITUTE(SUBSTITUTE(A18,"(府)","")," ","") -> 大阪阿倍野 5-1 | N18: =CLEAN(M18) -> 大阪阿倍野5-1 | O18: 大阪阿倍野5-1
A19: 阿倍野 (府) 5-4 | B19: 大阪市阿倍野区阿倍野筋一丁目38番１外 「阿倍野筋１－３－21」 | C19: =VLOOKUP(O19,[1]データ!$A$1:$F$130,4,FALSE) -> 4220000 | D19: 1187 | E19: 不整形 1:1.5 | F19: 店舗兼事務所 RC9 | G19: 百貨店、事務所店舗ビルが建ち並ぶ高度商業地域 | H19: 西 40m 府道 三方路 | I19: 水道 ガス 下水 | J19: 近鉄大阪阿部野橋 近接 | K19: 商業 (80､800) 防火 | M19: =SUBSTITUTE(SUBSTITUTE(A19,"(府)","")," ","") -> 阿倍野 5-4 | N19: =CLEAN(M19) -> 阿倍野5-4 | O19: 阿倍野5-4
A20: 大阪阿倍野 5-4 | C20: =VLOOKUP(O20,[1]データ!$B$1:$F$130,4,FALSE) -> 4100000 | M20: =SUBSTITUTE(SUBSTITUTE(A20,"(府)","")," ","") -> 大阪阿倍野 5-4 | N20: =CLEAN(M20) -> 大阪阿倍野5-4 | O20: 大阪阿倍野5-4
A21: 住吉 (府) -4 | B21: 大阪市住吉区南住吉三丁目22番５ 「南住吉３－18－18」 | C21: =VLOOKUP(O21,[1]データ!$A$1:$F$130,4,FALSE) -> 308000 | D21: 133 | E21: 1:1.5 | F21: 住宅 W2 | G21: 中小規模住宅のほか共同住宅も見られる住宅地域 | H21: 西 8m 市道 | I21: 水道 ガス 下水 | J21: 南海沢ノ町 480m | K21: ２中専 (60､200) 準防火 | M21: =SUBSTITUTE(SUBSTITUTE(A21,"(府)","")," ","") -> 住吉 -4 | N21: =CLEAN(M21) -> 住吉-4 | O21: 住吉-4
A22: 大阪住吉 -6 | C22: =VLOOKUP(O22,[1]データ!$B$1:$F$130,4,FALSE) -> 302000 | M22: =SUBSTITUTE(SUBSTITUTE(A22,"(府)","")," ","") -> 大阪住吉 -6 | N22: =CLEAN(M22) -> 大阪住吉-6 | O22: 大阪住吉-6
A23: 住吉 (府) -6 | B23: 大阪市住吉区長居西三丁目15番５ 「長居西３－３－８」 | C23: =VLOOKUP(O23,[1]データ!$A$1:$F$130,4,FALSE) -> 317000 | D23: 210 | E23: 1:2 | F23: 住宅 W2 | G23: 一般住宅、マンション等が混在する住宅地域 | H23: 南西 6m 市道 | I23: 水道 ガス 下水 | J23: ＯｓａｋａＭｅｔｒｏ長居 670m | K23: ２中専 (60､200) 準防火 | M23: =SUBSTITUTE(SUBSTITUTE(A23,"(府)","")," ","") -> 住吉 -6 | N23: =CLEAN(M23) -> 住吉-6 | O23: 住吉-6
A24: 大阪住吉 -9 | C24: =VLOOKUP(O24,[1]データ!$B$1:$F$130,4,FALSE) -> 310000 | M24: =SUBSTITUTE(SUBSTITUTE(A24,"(府)","")," ","") -> 大阪住吉 -9 | N24: =CLEAN(M24) -> 大阪住吉-9 | O24: 大阪住吉-9
A25: 住吉 (府) 5-3 | B25: 大阪市住吉区長居東四丁目14番２ 「長居東４－９－18」 | C25: =VLOOKUP(O25,[1]データ!$A$1:$F$130,4,FALSE) -> 627000 | D25: 262 | E25: 1:1.5 | F25: 事務所兼共同住宅 RC7F1B | G25: 事務所ビル、店舗等が混在する駅前の商業地域 | H25: 北 25m 国道 | I25: 水道 ガス 下水 | J25: ＯｓａｋａＭｅｔｒｏ長居 近接 | K25: 商業 (80､400) 防火 | M25: =SUBSTITUTE(SUBSTITUTE(A25,"(府)","")," ","") -> 住吉 5-3 | N25: =CLEAN(M25) -> 住吉5-3 | O25: 住吉5-3
A26: 大阪住吉 5-2 | C26: =VLOOKUP(O26,[1]データ!$B$1:$F$130,4,FALSE) -> 605000 | M26: =SUBSTITUTE(SUBSTITUTE(A26,"(府)","")," ","") -> 大阪住吉 5-2 | N26: =CLEAN(M26) -> 大阪住吉5-2 | O26: 大阪住吉5-2
A27: 住之江 (府) -1 | B27: 大阪市住之江区中加賀屋二丁目87番７ 「中加賀屋２－16－９」 | C27: =VLOOKUP(O27,[1]データ!$A$1:$F$130,4,FALSE) -> 255000 | D27: 139 | E27: 1:2 | F27: 住宅 W2 | G27: 一般住宅の中に共同住宅等も見られる住宅地域 | H27: 南 6m 市道 | I27: 水道 ガス 下水 | J27: ＯｓａｋａＭｅｔｒｏ北加賀屋 490m | K27: １住居 (80､200) 準防火 | M27: =SUBSTITUTE(SUBSTITUTE(A27,"(府)","")," ","") -> 住之江 -1 | N27: =CLEAN(M27) -> 住之江-1 | O27: 住之江-1
A28: 大阪住之江 -4 | C28: =VLOOKUP(O28,[1]データ!$B$1:$F$130,4,FALSE) -> 250000 | M28: =SUBSTITUTE(SUBSTITUTE(A28,"(府)","")," ","") -> 大阪住之江 -4 | N28: =CLEAN(M28) -> 大阪住之江-4 | O28: 大阪住之江-4
A29: 平野 (府) -2 | B29: 大阪市平野区加美鞍作一丁目192番１ 「加美鞍作１－７－29」 | C29: =VLOOKUP(O29,[1]データ!$A$1:$F$130,4,FALSE) -> 188000 | D29: 144 | E29: 1:2.5 | F29: 住宅 W2 | G29: 一般住宅、共同住宅等が混在する住宅地域 | H29: 南 6m 市道 | I29: 水道 ガス 下水 | J29: ＪＲ加美 300m | K29: １住居 (80､200) 準防火 | M29: =SUBSTITUTE(SUBSTITUTE(A29,"(府)","")," ","") -> 平野 -2 | N29: =CLEAN(M29) -> 平野-2 | O29: 平野-2
A30: 大阪平野 -12 | C30: =VLOOKUP(O30,[1]データ!$B$1:$F$130,4,FALSE) -> 186000 | M30: =SUBSTITUTE(SUBSTITUTE(A30,"(府)","")," ","") -> 大阪平野 -12 | N30: =CLEAN(M30) -> 大阪平野-12 | O30: 大阪平野-12
A31: 平野 (府) -3 | B31: 大阪市平野区喜連西四丁目2320番７ 「喜連西４－７－48」 | C31: =VLOOKUP(O31,[1]データ!$A$1:$F$130,4,FALSE) -> 209000 | D31: 105 | E31: 1:1.5 | F31: 住宅 W2 | G31: 一般住宅、共同住宅等が混在する住宅地域 | H31: 北 6.8m 市道 | I31: 水道 ガス 下水 | J31: ＯｓａｋａＭｅｔｒｏ喜連瓜破 550m | K31: １住居 (80､200) 準防火 | M31: =SUBSTITUTE(SUBSTITUTE(A31,"(府)","")," ","") -> 平野 -3 | N31: =CLEAN(M31) -> 平野-3 | O31: 平野-3
A32: 大阪平野 -6 | C32: =VLOOKUP(O32,[1]データ!$B$1:$F$130,4,FALSE) -> 205000 | M32: =SUBSTITUTE(SUBSTITUTE(A32,"(府)","")," ","") -> 大阪平野 -6 | N32: =CLEAN(M32) -> 大阪平野-6 | O32: 大阪平野-6
A33: 東住吉 (府) -4 | B33: 大阪市東住吉区駒川一丁目85番26 「駒川１－15－11」 | C33: =VLOOKUP(O33,[1]データ!$A$1:$F$130,4,FALSE) -> 312000 | D33: 130 | E33: 1:2 | F33: 住宅 W2 | G33: 一般住宅、アパート等が混在する住宅地域 | H33: 北 6m 市道 | I33: 水道 ガス 下水 | J33: 近鉄北田辺 250m | K33: １住居 (80､200) 準防火 | M33: =SUBSTITUTE(SUBSTITUTE(A33,"(府)","")," ","") -> 東住吉 -4 | N33: =CLEAN(M33) -> 東住吉-4 | O33: 東住吉-4
A34: 大阪東住吉 -7 | C34: =VLOOKUP(O34,[1]データ!$B$1:$F$130,4,FALSE) -> 306000 | M34: =SUBSTITUTE(SUBSTITUTE(A34,"(府)","")," ","") -> 大阪東住吉 -7 | N34: =CLEAN(M34) -> 大阪東住吉-7 | O34: 大阪東住吉-7
A35: 東住吉 (府) 5-1 | B35: 大阪市東住吉区駒川四丁目３番６ 「駒川４－４－18」 | C35: =VLOOKUP(O35,[1]データ!$A$1:$F$130,4,FALSE) -> 339000 | D35: 69 | E35: 1:4.5 | F35: 店舗兼住宅 S3 | G35: 小売店舗が建ち並ぶアーケード内の商業地域 | H35: 西 5.5m 市道 | I35: 水道 ガス 下水 | J35: ＯｓａｋａＭｅｔｒｏ駒川中野 180m | K35: 商業 (80､400) 準防火 | M35: =SUBSTITUTE(SUBSTITUTE(A35,"(府)","")," ","") -> 東住吉 5-1 | N35: =CLEAN(M35) -> 東住吉5-1 | O35: 東住吉5-1
A36: 大阪東住吉 5-1 | C36: =VLOOKUP(O36,[1]データ!$B$1:$F$130,4,FALSE) -> 337000 | M36: =SUBSTITUTE(SUBSTITUTE(A36,"(府)","")," ","") -> 大阪東住吉 5-1 | N36: =CLEAN(M36) -> 大阪東住吉5-1 | O36: 大阪東住吉5-1
A37: 西成 (府) -1 | B37: 大阪市西成区橘一丁目９番31外 「橘１－11－６」 | C37: =VLOOKUP(O37,[1]データ!$A$1:$F$130,4,FALSE) -> 226000 | D37: 102 | E37: 1:2.5 | F37: 住宅 W2 | G37: 小規模一般住宅や共同住宅を中心とする住宅地域 | H37: 南 5m 私道 | I37: 水道 ガス 下水 | J37: 南海天下茶屋 590m | K37: １住居 (80､300) 準防火 | M37: =SUBSTITUTE(SUBSTITUTE(A37,"(府)","")," ","") -> 西成 -1 | N37: =CLEAN(M37) -> 西成-1 | O37: 西成-1
A38: 大阪西成 -4 | C38: =VLOOKUP(O38,[1]データ!$B$1:$F$130,4,FALSE) -> 218000 | M38: =SUBSTITUTE(SUBSTITUTE(A38,"(府)","")," ","") -> 大阪西成 -4 | N38: =CLEAN(M38) -> 大阪西成-4 | O38: 大阪西成-4
A39: 港 (府) -3 | B39: 大阪市港区磯路三丁目17番16 「磯路３－17－16」 | C39: =VLOOKUP(O39,[1]データ!$A$1:$F$130,4,FALSE) -> 317000 | D39: 79 | E39: 1:3.5 | F39: 住宅 W3 | G39: 一般住宅の中に店舗等が見られる住宅地域 | H39: 北東 8m 市道 | I39: 水道 ガス 下水 | J39: ＪＲ弁天町 950m | K39: １住居 (80､300) 準防火 | M39: =SUBSTITUTE(SUBSTITUTE(A39,"(府)","")," ","") -> 港 -3 | N39: =CLEAN(M39) -> 港-3 | O39: 港-3
A40: 大阪港 -1 | C40: =VLOOKUP(O40,[1]データ!$B$1:$F$130,4,FALSE) -> 306000 | M40: =SUBSTITUTE(SUBSTITUTE(A40,"(府)","")," ","") -> 大阪港 -1 | N40: =CLEAN(M40) -> 大阪港-1 | O40: 大阪港-1
...
