Workbook
Name _Hlk161674751: 'C-05'!$A$52
Name _Hlk161675095: 'C-05'!$A$51
Name _Hlk161675383: 'C-05'!$A$67
Name _Hlk161675473: 'C-05'!$A$99

Sheet 共通入力シート
A1: 様式Ｃ 共通項目入力シート
A3: 提出日
A4: 住所
A5: 商号又は名称
A6: 代表者職・氏名
A7: 訓練実施施設名

Sheet C-01
F1: 様式第Ｃ－１号
B2: 企画提案総括票 | K2: .
B4: 商号又は名称 | D4: =共通入力シート!B5 -> 0
B5: 担当者名 | E5: 企画提案書総件数※ | G5: 件
B6: 連絡先電話番号
B7: 連絡先メールアドレス
B8: 書類送付先 | C8: 郵便番号 | D8: 〒
C9: 住所
C10: 宛先事業者名
B11: ※機関（法人等）としての総件数を記入すること。
B13: 科目 番号 | C13: 科目名 | D13: 開講希望月 | E13: 訓練実施施設名 | F13: フロア・教室名
B30: ※機関（法人等）としての全ての提案を記入すること。 記入欄が不足する場合は、行追加して２枚目以降を作成すること（【記入例】の削除可）。
B31: 【記入例】
B33: 科目 番号 | C33: 科目名 | D33: 開講希望月 | E33: 訓練実施施設名 | F33: フロア・教室名
B34: R01 | C34: Webデザイン制作科(3か月） | D34: ６・９・１２・３ | E34: ○○スクール なんば校 | F34: 5階 A教室
B35: R02 | C35: Webデザイン＋プログラミング基礎科(４か月） | D35: ６・７・９・１０ | E35: ○○スクール 梅田校 | F35: 5階 B教室
B36: R25 | C36: 介護職員初任者研修科 | D36: ８・１ | E36: △△福祉専門学校 | F36: 6階 C教室 7階 D教室

Sheet C-02
J1: 様式第Ｃ－２号
F3: 誓 約 書
B6: 「大阪府委託訓練事業（離職者等再就職訓練）に係る企画提案公募要領」に規定する企画提案公募参加資格をすべて満たしていることを申告します。 必要な資格を満たしていないことが判明したとき、又は提出した書類の内容に虚偽の記載があることが判明したときは、提案内容が失格となり、契約解除に伴う違約金の支払い、入札参加資格停止等の措置を受けても、異議を申し立てません。
B13: 大 阪 府 知 事 様
H16: =共通入力シート!B3 -> 0
D18: 所在地： | F18: =共通入力シート!B4 -> 0
D19: 商号又は名称： | F19: =共通入力シート!B5 -> 0
D20: 代表者職・氏名： | F20: =共通入力シート!B6 -> 0

Sheet C-03
B1: 様式第Ｃ－３号
B2: 施設別 運営体制一覧表(複数校で提案する場合)
B4: 商号又は名称： | C4: =共通入力シート!B5 -> 0
B6: 訓練運営担当者
B7: 区 分 | C7: 校 | D7: 校 | E7: 校 | F7: 校 | G7: 校 | H7: 校 | I7: 校
B8: 訓練実施責任者氏名
B9: 事務担当者氏名
B12: 苦情処理責任者氏名
B13: 就職支援責任者氏名
B14: 就職支援担当者氏名
B17: ※同一機関(法人等)において複数校(施設)の企画提案をしている場合、各校の提案様式第Ｂ－１号及び様式第Ｂ－４号の責任者名・担当者名を記入すること。

Sheet C-04
L1: 様式第Ｃ－４号
B2: 令和６年度・令和７年度に実施した訓練等における就職状況
C4: 商号又は名称： | D4: =共通入力シート!B5 -> 0
B6: ※期間の長短を問わず国、自治体、高齢・障害・求職者雇用支援機構等の公的機関から受託した職業訓練に関する就職実績を記入すること。
C7: 訓練コース 番号 | D7: 訓練科名 | E7: 委託者 | F7: 訓練期間 | I7: 訓練生数 | J7: 中退者 | L7: 修了者 （イ） | N7: 就職率 平均値 （自動計算）
K8: うち中退 就職者数 （ア） | M8: うち修了 就職者数 （ウ）
E9: （国、自治体、機構等）
B11: (例) | C11: 24R0603 | D11: 医療事務＋ＯＡ基礎科（３か月）【託児付】 | E11: 大阪府 | F11: 45444 | G11: ～ | H11: 45535 | I11: 30 | J11: 5 | K11: 3 | L11: 25 | M11: 15 | N11: =IF(L11=0,"-",(K11+M11)/(K11+L11)*100) -> 64.285714 | P11: 確認用
B12: 令和６年度 | G12: ～ | P12: =IF((J12+L12)=I12,"〇","×") -> 〇 | Q12: =IF((K12+M12)<=I12,"〇","×") -> 〇
G13: ～ | P13: =IF((J13+L13)=I13,"〇","×") -> 〇 | Q13: =IF((K13+M13)<=I13,"〇","×") -> 〇
G14: ～ | P14: =IF((J14+L14)=I14,"〇","×") -> 〇 | Q14: =IF((K14+M14)<=I14,"〇","×") -> 〇
G15: ～ | P15: =IF((J15+L15)=I15,"〇","×") -> 〇 | Q15: =IF((K15+M15)<=I15,"〇","×") -> 〇
G16: ～ | P16: =IF((J16+L16)=I16,"〇","×") -> 〇 | Q16: =IF((K16+M16)<=I16,"〇","×") -> 〇
B17: 令和７年度 | G17: ～ | P17: =IF((J17+L17)=I17,"〇","×") -> 〇 | Q17: =IF((K17+M17)<=I17,"〇","×") -> 〇
G18: ～ | P18: =IF((J18+L18)=I18,"〇","×") -> 〇 | Q18: =IF((K18+M18)<=I18,"〇","×") -> 〇
G19: ～ | P19: =IF((J19+L19)=I19,"〇","×") -> 〇 | Q19: =IF((K19+M19)<=I19,"〇","×") -> 〇
G20: ～ | P20: =IF((J20+L20)=I20,"〇","×") -> 〇 | Q20: =IF((K20+M20)<=I20,"〇","×") -> 〇
G21: ～ | P21: =IF((J21+L21)=I21,"〇","×") -> 〇 | Q21: =IF((K21+M21)<=I21,"〇","×") -> 〇
B22: 計 | C22: ― | D22: ― | E22: ― | F22: ― | I22: =SUM(I12:I21) -> 0 | J22: =SUM(J12:J21) -> 0 | K22: =SUM(K12:K21) -> 0 | L22: =SUM(L12:L21) -> 0 | M22: =SUM(M12:M21) -> 0 | N22: =IF(L22=0,"-",(K22+M22)/(K22+L22)*100) -> - | P22: =IF((J22+L22)=I22,"〇","×") -> 〇 | Q22: =IF((K22+M22)<=I22,"〇","×") -> 〇
B23: ※ | C23: 就職率平均値＝（（ア）欄の計＋（ウ）欄の計）÷（（ア）欄の計＋（イ）欄の計）×１００
B24: ※ | C24: 全ての科目の実績を記入すること。
B25: ※ | C25: 修了者数は、訓練を修了した人数を記入すること。
B26: ※ | C26: 中退者数は、訓練を中退した人数を記入すること。
B27: ※ | C27: 各年度において、実施した全てのコースを記入すること。
B28: ※ | C28: 提案する事業者全体の実施した科目の全ての実績を記入すること。
B29: ※ | C29: 大阪府の委託訓練の就職率については、就職状況報告書における全体の就職状況の就職率を記入すること。

Sheet C-05
AA1: 様式第Ｃ－５号
C3: 障がい者の雇用状況についての報告書
C5: 大阪府知事様
N7: 所 在 地： | T7: =共通入力シート!B4 -> 0
N9: 商号又は名称： | T9: =共通入力シート!B5 -> 0
N11: 代表者職・氏名： | T11: =共通入力シート!B6 -> 0
C14: 障がい者の雇用の状況について、下記のとおり報告します。
B16: ※自動計算
B17: 法定雇用数の 算定基礎となる 労働者数 | H17: 雇用障がい者総数 | N17: 障がい者雇用率 （％） | T17: 法定雇用数 | Z17: 法定超過雇用数
B18: ① | H18: ② | N18: ③ =（②÷①×100） | T18: ④ （①×2.5%） | Z18: ⑤ =②－④
B19: =W25 -> 0 | H19: =W41 -> 0 | N19: =ROUND(H19/B19*100,2) -> #DIV/0! | T19: =ROUNDDOWN(B19*0.025,0) -> 0 | Z19: =ROUNDDOWN(H19-T19,0) -> 0
C21: 【雇用労働者数】 ※障がいの有無は不問。
B22: ① | C22: 常用雇用労働者（週30時間以上） | T22: ×1 | V22: = | W22: =R22*1 -> 0
B23: ② | C23: 短時間労働者（週20時間以上30時間未満） | T23: ×1/2 | V23: = | W23: =R23*0.5 -> 0
B24: ③ | C24: 除外率（専修学校・大学・短大は0.2、その他の事業者は0を入力） | T24: ×（①＋②） | V24: = | W24: =ROUNDDOWN((W22+W23)*R24,0) -> 0
C25: 計（１＋２－３）＝ ① | W25: =W22+W23-W24 -> 0
C27: 【障がい者雇用数】 ※（ ）内は週当たり勤務時間数
B28: ④ | C28: 重度身体障がい者（週30時間以上） | T28: ×2 | V28: = | W28: =R28*2 -> 0
B29: ⑤ | C29: 身体障がい者（週30時間以上） | T29: ×1 | V29: = | W29: =R29*1 -> 0
B30: ⑥ | C30: 重度身体障がい者（週20時間以上30時間未満） | T30: ×1 | V30: = | W30: =R30*1 -> 0
B31: ⑦ | C31: 身体障がい者（週20時間以上30時間未満） | T31: ×1/2 | V31: = | W31: =R31*1/2 -> 0
B32: ⑧ | C32: 重度身体障がい者（週10時間以上20時間未満） | T32: ×1/2 | V32: = | W32: =R32*1/2 -> 0
B33: ⑨ | C33: 重度知的障がい者（週30時間以上） | T33: ×2 | V33: = | W33: =R33*2 -> 0
B34: ⑩ | C34: 知的障がい者（週30時間以上） | T34: ×1 | V34: = | W34: =R34*1 -> 0
B35: ⑪ | C35: 重度知的障がい者（週20時間以上30時間未満） | T35: ×1 | V35: = | W35: =R35*1 -> 0
B36: ⑫ | C36: 知的障がい者（週20時間以上30時間未満） | T36: ×1/2 | V36: = | W36: =R36*1/2 -> 0
B37: ⑬ | C37: 重度知的障がい者（週10時間以上20時間未満） | T37: ×1/2 | V37: = | W37: =R37*1/2 -> 0
B38: ⑭ | C38: 精神障がい者（週30時間以上） | T38: ×1 | V38: = | W38: =R38*1 -> 0
B39: ⑮ | C39: 精神障がい者（週20時間以上30時間未満） | T39: ×1 | V39: = | W39: =R39*1 -> 0
B40: ⑯ | C40: 精神障がい者（週10時間以上20時間未満） | T40: ×1/2 | V40: = | W40: =R40*1/2 -> 0
C41: 計 ② | W41: =SUM(W28:X40) -> 0
B43: ※a:障がい者雇用の有無に関わらず、「障害者の雇用の促進等に関する法律」第43条第7項の規定による 障がい者雇用状況の報告義務のない事業者はすべて提出すること。（常用労働者40人未満の事業者） ※b:①②④の項目は小数点以下の端数は切捨てること。 ※c:③の障がい者雇用率（％）は小数点第2位までとすること（第3位を四捨五入）。 ※d:①雇用労働者の算定に当たっては、障がいの有無を問わず、1年以上勤務見込みの労働者のうち、 週30時間以上の労働者は×1、週20時間以上30時間未満の労働者は×0.5で計算すること。
B49: （記入に当たっての注意事項）
B50: ○ 常用雇用労働者の範囲
B51: 常用雇用労働者とは雇用契約の形式如何を問わず、１週間の所定労働時間が20時間以上の労働者であって、次のように１年を超えて雇用される者（見込みを含みます。）をいいます。なお、１週間の所定労働時間が20時間未満の方については、障害者雇用率制度上の常用雇用労働者の範囲には含まれません。 ※昼夜学生や２つの事業主に雇用されている労働者であっても、週所定労働時間が20時間以上である労働者は常時雇用する労働者となります。 ① 雇用期間の定めのない労働者 ② １年を超える雇用期間を定めて雇用されている者 ③ 一定の期間（１か月、６か月等）を定めて雇用される者であり、かつ、過去１年を超える期間について引き続き雇用されている者、又は雇入れのときから１年を超えて引き続き雇用されると見込まれる者（１年以下の期間を定めて雇用される場合であっても、更新の可能性がある限り、該当する） ④ 日々雇用される者であって、雇用契約が日々更新されている者であり、かつ、過去１年を超える期間について引き続き雇用されている者又は雇入れの時から１年を超えて引き続き雇用されると見込まれる者（上記③同様。） 以下の労働者については、取扱いにご留意ください。 □ 「出向中」の労働者は、原則として、その者が生計を維持するのに必要な主たる賃金を受ける事業主の労働者として取り扱います。なお、当該必要な主たる賃金を受ける事業主についての判断が困難な場合は、雇用保険の取扱いを行っている事業主の労働者として取り扱って差し支えありません。 □ 「休業中」の労働者（育児休業等含む。）は、現実かつ具体的な労務の提供がなく、そのため給与の支払いを受けていない場合もありますが、事業主との労働契約関係は維持されているので、常用雇用労働者に含まれます。 □ 外国にある支社、支店、出張所等に勤務している労働者は、日本国内の事業所から派遣されている場合に限り、その事業主の雇用する労働者とします。したがって、現地で採用している労働者は含みません。 □ 生命保険会社の外務員等については、雇用保険の被保険者として取り扱われているかどうかによって判断してください。 □ いわゆる登録型の派遣労働者の場合、契約期間に多少の日数の隔たりがあっても、同一の派遣元事業主と雇用契約を更新又は再契約して引き続き雇用されることが常態となっている場合には、常用雇用労働者に含まれる場合があります。 □ 65歳以上の労働者であっても、常用雇用労働者に含まれます。
B66: ○ 短時間労働者
B67: 短時間労働者とは、常用雇用労働者のうち、1週間の所定労働時間が20時間以上30時間未満である者をいいます。
B70: ○ 対象となる障がい者について
B71: 対象となる障がい者は、以下のいずれかに該当する労働者です。 （１）身体障がい者、重度身体障がい者 原則として身体障害者福祉法に規定する身体障害者手帳の等級が１級から６級に該当する方及び７級に該当する障がいが２以上重複する方です。 重度身体障がい者とは、身体障害者手帳の等級が１級または２級とされる方及び３級に該当する障がいを２以上重複して有すること等によって２級に相当する障がいを有する方です。 （２）知的障がい者、重度知的障がい者 児童相談所、知的障害者福祉法第９条第６項に規定する知的障害者更生相談所、精神保健及び精神障害者福祉に関する法律第６条第１項に規定する精神保健福祉センター、精神保健指定医（以下「判定機関等」といいます。）または障害者の雇用の促進等に関する法律第19条の障害者職業センターにより知的障がい者と判定された方です。 重度知的障がい者とは、知的障がい者のうち知的障がいの程度が重いと判定された方です。具体的には、次のいずれかの場合に、重度知的障がい者に該当します。 ・療育手帳で程度が「Ａ」とされている方 ・療育手帳の「Ａ」に相当する程度（特別障害者控除を受けられる程度等）とする判定書をもらっている方（上記の判定機関等による判定書が対象です。） ・障害者職業センターにより重度知的障がい者と判定された方（障害者介助等助成金、特定求職者雇用開発助成金、職場適応訓練の適用等に当たって行われている「知的障がいの程度が重い」範囲と同様の範囲で判定が行われます。） （３）精神障がい者 精神障害者保健福祉手帳の交付を受けている方です。
B89: ○ 雇用障がい者数のカウントの方法について
...

Sheet C-05（見本）
A1: 様式第６号（第４条関係）（表面）
BB2: （日本産業規格Ａ列４）
E3: ― | L3: ― | O3: 障 害 者 雇 用 状 況 報 告 書
BB5: 令和 | BG5: 年 ６月 １日現在
A6: 障害者の雇用の促進等に関する法律施行規則第８条の規定により、
A7: 下記のとおり報告します。 | AD7: 令和 | AI7: 年 | AM7: 月 | AP7: 日 | BE7: 公共職業安定所長 殿
A8: Ａ 事業主 | B8: (ふりがな) | AA8: 住 所 | AF8: 〒 | AN8: ― | AX8: ① 事業 の種類 | BC8: 産業 分類 | BK8: ② 事業所 の数
B9: 法人名称
B11: (ふりがな) | AA11: 法人にあって は主たる事業 所の所在地
B12: 氏名又は代表 者氏名
AF14: (TEL | AM14: ― | AR14: ― | AW14: )
B15: ③ 法人番号
A16: Ｂ 雇用の状況 | B16: 区 分 | K16: 合 計 | U16: Ｃ 事業所別の内訳
B17: ④ 適用事業所番号 | X17: ― | AC17: ― | AG17: ― | AL17: ― | AP17: ― | AU17: ― | AY17: ― | BD17: ― | BH17: ― | BM17: ―
B18: ⑤ 事業所の名称
B22: ⑥ 事業所の区分 １ 特例子会社に含まれる事業所 ２ 指定就労継続支援Ａ型事業所 ３ 上記１及び２以外
B23: ⑦ 事業所の所在地
B27: ⑧ 事業の内容
B31: ⑨ 除外率 | AD31: ％ | AM31: ％ | AV31: ％ | BE31: ％ | BN31: ％
B32: ⑩ 常用雇用労働者の数
C33: (ｲ)常用雇用労働者の数 （短時間労働者を除く） | K33: =U33+AE33+AN33+AW33+BF33 -> 0 | T33: 人 | AD33: 人 | AM33: 人 | AV33: 人 | BE33: 人 | BN33: 人
C35: (ﾛ)短時間労働者の数 | K35: =U35+AE35+AN35+AW35+BF35 -> 0 | T35: 人 | AD35: 人 | AM35: 人 | AV35: 人 | BE35: 人 | BN35: 人
C36: (ﾊ)常用雇用労働者の数 ［ｲ+(ﾛ×0.5)］ | K36: =K33+K35*0.5 -> 0 | T36: 人 | U36: =U33+U35*0.5 -> 0 | AD36: 人 | AE36: =AE33+AE35*0.5 -> 0 | AM36: 人 | AN36: =AN33+AN35*0.5 -> 0 | AV36: 人 | AW36: =AW33+AW35*0.5 -> 0 | BE36: 人 | BF36: =BF33+BF35*0.5 -> 0 | BN36: 人
C38: (ﾆ)法定雇用障害者の算定の基礎 となる労働者の数 | K38: =U38+AE38+AN38+AW38+BF38 -> 0 | T38: 人 | U38: =U36-(ROUNDDOWN(U36*(U31/100),0)) -> 0 | AD38: 人 | AE38: =AE36-(ROUNDDOWN(AE36*(AE31/100),0)) -> 0 | AM38: 人 | AN38: =AN36-(ROUNDDOWN(AN36*(AN31/100),0)) -> 0 | AV38: 人 | AW38: =AW36-(ROUNDDOWN(AW36*(AW31/100),0)) -> 0 | BE38: 人 | BF38: =BF36-(ROUNDDOWN(BF36*(BF31/100),0)) -> 0 | BN38: 人
B40: ⑪ 常用雇用身体障害者、知的障害者及び精神障害者の数
C41: (ﾎ)重度身体障害者の数 | L41: =W41+AF41+AO41+AX41+BG41 -> 0 | T41: 人 | AD41: 人 | AM41: 人 | AV41: 人 | BE41: 人 | BN41: 人
K42: （ | L42: =W42+AF42+AO42+AX42+BG42 -> 0 | T42: ） | U42: （ | AD42: ） | AE42: （ | AM42: ） | AN42: （ | AV42: ） | AW42: （ | BE42: ） | BF42: （ | BN42: ）
C43: (ﾍ)重度身体障害者以外の 身体障害者の数 | L43: =W43+AF43+AO43+AX43+BG43 -> 0 | T43: 人 | AD43: 人 | AM43: 人 | AV43: 人 | BE43: 人 | BN43: 人
K44: （ | L44: =W44+AF44+AO44+AX44+BG44 -> 0 | T44: ） | U44: （ | AD44: ） | AE44: （ | AM44: ） | AN44: （ | AV44: ） | AW44: （ | BE44: ） | BF44: （ | BN44: ）
C45: (ﾄ)重度身体障害者である 短時間労働者の数 | L45: =W45+AF45+AO45+AX45+BG45 -> 0 | T45: 人 | AD45: 人 | AM45: 人 | AV45: 人 | BE45: 人 | BN45: 人
K46: （ | L46: =W46+AF46+AO46+AX46+BG46 -> 0 | T46: ） | U46: （ | AD46: ） | AE46: （ | AM46: ） | AN46: （ | AV46: ） | AW46: （ | BE46: ） | BF46: （ | BN46: ）
C47: (ﾁ)重度身体障害者以外の身体障 害者である短時間労働者の数 | L47: =W47+AF47+AO47+AX47+BG47 -> 0 | T47: 人 | AD47: 人 | AM47: 人 | AV47: 人 | BE47: 人 | BN47: 人
K48: （ | L48: =W48+AF48+AO48+AX48+BG48 -> 0 | T48: ） | U48: （ | AD48: ） | AE48: （ | AM48: ） | AN48: （ | AV48: ） | AW48: （ | BE48: ） | BF48: （ | BN48: ）
C49: (ﾘ)重度身体障害者である 特定短時間労働者の数 | L49: =W49+AF49+AO49+AX49+BG49 -> 0 | T49: 人 | AD49: 人 | AM49: 人 | AV49: 人 | BE49: 人 | BN49: 人
K50: （ | L50: =W50+AF50+AO50+AX50+BG50 -> 0 | T50: ） | U50: （ | AD50: ） | AE50: （ | AM50: ） | AN50: （ | AV50: ） | AW50: （ | BE50: ） | BF50: （ | BN50: ）
C51: (ﾇ)身体障害者の数 | L51: =(L41*2)+L43+L45+((L47+L49)*0.5) -> 0 | T51: 人 | W51: =(W41*2)+W43+W45+((W47+W49)*0.5) -> 0 | AD51: 人 | AF51: =(AF41*2)+AF43+AF45+((AF47+AF49)*0.5) -> 0 | AM51: 人 | AO51: =(AO41*2)+AO43+AO45+((AO47+AO49)*0.5) -> 0 | AV51: 人 | AX51: =(AX41*2)+AX43+AX45+((AX47+AX49)*0.5) -> 0 | BE51: 人 | BG51: =(BG41*2)+BG43+BG45+((BG47+BG49)*0.5) -> 0 | BN51: 人
C52: ［(ﾎ×2)+ﾍ+ﾄ+((ﾁ+ﾘ)×0.5)］ | K52: （ | L52: =(L42*2)+L44+L46+((L48+L50)*0.5) -> 0 | T52: ） | U52: （ | W52: =(W42*2)+W44+W46+((W48+W50)*0.5) -> 0 | AD52: ） | AE52: （ | AF52: =(AF42*2)+AF44+AF46+(AF48+AF50)*0.5 -> 0 | AM52: ） | AN52: （ | AO52: =(AO42*2)+AO44+AO46+((AO48+AO50)*0.5) -> 0 | AV52: ） | AW52: （ | AX52: =(AX42*2)+AX44+AX46+((AX48+AX50)*0.5) -> 0 | BE52: ） | BF52: （ | BG52: =(BG42*2)+BG44+BG46+((BG48+BG50)*0.5) -> 0 | BN52: ）
C53: (ﾙ)重度知的障害者の数 | L53: =W53+AF53+AO53+AX53+BG53 -> 0 | T53: 人 | AD53: 人 | AM53: 人 | AV53: 人 | BE53: 人 | BN53: 人
K54: （ | L54: =W54+AF54+AO54+AX54+BG54 -> 0 | T54: ） | U54: （ | AD54: ） | AE54: （ | AM54: ） | AN54: （ | AV54: ） | AW54: （ | BE54: ） | BF54: （ | BN54: ）
C55: (ｦ)重度知的障害者以外の 知的障害者の数 | L55: =W55+AF55+AO55+AX55+BG55 -> 0 | T55: 人 | AD55: 人 | AM55: 人 | AV55: 人 | BE55: 人 | BN55: 人
...
