Workbook

Sheet 令和9年度講予定科目一覧
A1: 令和９年度開講予定科目一覧
A2: 区分 | B2: 訓練 分野 | C2: 科目 番号 | D2: 科目名 | E2: 訓練 期間 | F2: 開講月 | Q2: ｺｰｽ数 | R2: 定員 | S2: 年間 定員
F3: 4 | G3: 6 | H3: 7 | I3: 8 | J3: 9 | K3: 10 | L3: 11 | M3: 12 | N3: 1 | O3: 2 | P3: 3
A4: 知識等習得コース | B4: デジタル系科目 | C4: R01 | D4: Ｗｅｂデザイン＋プログラミング科（４か月） | E4: 4 | I4: 1 | K4: 1 | M4: 1 | O4: 1 | Q4: =SUM(F4:P4) -> 4 | R4: 30 | S4: =Q4*R4 -> 120
C5: R02 | D5: ＤＴＰ＆Ｗｅｂデザイン制作科（５か月） | E5: 5 | I5: 1 | N5: 1 | Q5: =SUM(F5:P5) -> 2 | R5: 30 | S5: =Q5*R5 -> 60
C6: R03 | D6: 生成ＡＩ・デジタルビジネス基礎科（４か月）【20人定員】 | E6: 4 | G6: 1 | H6: 1 | I6: 1 | K6: 1 | L6: 1 | M6: 1 | O6: 1 | P6: 1 | Q6: =SUM(F6:P6) -> 8 | R6: 20 | S6: =Q6*R6 -> 160
C7: R04 | D7: Ｐｙｔｈｏｎ＋Ｊａｖａプログラマー基礎科（５か月） | E7: 5 | G7: 1 | L7: 1 | Q7: =SUM(F7:P7) -> 2 | R7: 30 | S7: =Q7*R7 -> 60
C8: R05 | D8: オフィスソフト＋Ｗｅｂ基礎科（４か月）【20人定員】 | E8: 4 | H8: 1 | L8: 1 | P8: 1 | Q8: =SUM(F8:P8) -> 3 | R8: 20 | S8: =Q8*R8 -> 60
C9: R06 | D9: デザイン思考＋Ｗｅｂ・ＳＮＳスキル養成科（６か月）【20人定員】 | E9: 6 | I9: 1 | O9: 1 | Q9: =SUM(F9:P9) -> 2 | R9: 20 | S9: =Q9*R9 -> 40
C10: R07 | D10: 経理・ＡＩ活用・デジタル事務基礎科（４か月）【20人定員】 | E10: 4 | L10: 1 | P10: 1 | Q10: =SUM(F10:P10) -> 2 | R10: 20 | S10: =Q10*R10 -> 40
C11: R08 | D11: 生成ＡＩ活用＋パソコン基礎習得科（６か月）【20人定員】 | E11: 6 | H11: 1 | N11: 1 | Q11: =SUM(F11:P11) -> 2 | R11: 20 | S11: =Q11*R11 -> 40
C12: R09 | D12: Ｊａｖａ・生成ＡＩ協働開発エンジニア育成科（６か月）【20人定員】 | E12: 6 | I12: 1 | O12: 1 | Q12: =SUM(F12:P12) -> 2 | R12: 20 | S12: =Q12*R12 -> 40
C13: R10 | D13: デザインＡＩ専攻科（５か月）【20人定員】 | E13: 5 | H13: 1 | M13: 1 | Q13: =SUM(F13:P13) -> 2 | R13: 20 | S13: =Q13*R13 -> 40
C14: R11 | D14: Ｗｅｂ・スマホアプリ（Ｊａｖａ）開発スキル習得科（６か月）【20人定員】 | E14: 6 | I14: 1 | O14: 1 | Q14: =SUM(F14:P14) -> 2 | R14: 20 | S14: =Q14*R14 -> 40
C15: R12 | D15: クラウドエンジニア養成科（６か月）【20人定員】 | E15: 6 | H15: 1 | N15: 1 | Q15: =SUM(F15:P15) -> 2 | R15: 20 | S15: =Q15*R15 -> 40
C16: R13 | D16: データ活用・商品開発マーケティング基礎科（６か月） | E16: 6 | J16: 1 | P16: 1 | Q16: =SUM(F16:P16) -> 2 | R16: 30 | S16: =Q16*R16 -> 60
C17: R14 | D17: デジタル人材育成科（自由提案） | E17: 3～6 | I17: 1 | K17: 1 | N17: 1 | Q17: =SUM(F17:P17) -> 3 | R17: 30 | S17: =Q17*R17 -> 90
C18: R15 | D18: デジタル人材育成科（自由提案）【20人定員】 | E18: 3～6 | G18: 1 | H18: 1 | J18: 1 | L18: 1 | M18: 1 | N18: 1 | O18: 1 | P18: 1 | Q18: =SUM(F18:P18) -> 8 | R18: 20 | S18: =Q18*R18 -> 160
B19: 介護系科目 | C19: R16 | D19: 介護職員初任者養成研修科（３か月）【20人定員】 | E19: 3 | G19: 1 | J19: 1 | M19: 1 | P19: 1 | Q19: =SUM(F19:P19) -> 4 | R19: 20 | S19: =Q19*R19 -> 80
C20: R17 | D20: 介護職員初任者養成研修科（３か月）【20人定員】【地域枠】 | E20: 3 | H20: 1 | K20: 1 | N20: 1 | Q20: =SUM(F20:P20) -> 3 | R20: 20 | S20: =Q20*R20 -> 60
C21: R18 | D21: 介護職員初任者養成研修科＋看護助手養成科（３か月）【20人定員】 | E21: 3 | G21: 1 | J21: 1 | M21: 1 | Q21: =SUM(F21:P21) -> 3 | R21: 20 | S21: =Q21*R21 -> 60
C22: R19 | D22: 介護職員初任者養成研修科＋介護事務習得科（３か月）【20人定員】 | E22: 3 | H22: 1 | K22: 1 | N22: 1 | Q22: =SUM(F22:P22) -> 3 | R22: 20 | S22: =Q22*R22 -> 60
C23: R20 | D23: 介護職員初任者養成研修科＋福祉送迎・介護スタッフ養成研修科（３か月）【20人定員】 | E23: 3 | I23: 1 | L23: 1 | O23: 1 | Q23: =SUM(F23:P23) -> 3 | R23: 20 | S23: =Q23*R23 -> 60
C24: R21 | D24: 介護職員初任者養成研修科＋レクリエーションスキル習得科（３か月）【20人定員】 | E24: 3 | J24: 1 | P24: 1 | Q24: =SUM(F24:P24) -> 2 | R24: 20 | S24: =Q24*R24 -> 40
C25: R22 | D25: 介護職員初任者養成研修科＋介護現場体験科（３か月）【20人定員】 | E25: 3 | I25: 1 | O25: 1 | Q25: =SUM(F25:P25) -> 2 | R25: 20 | S25: =Q25*R25 -> 40
C26: R23 | D26: 介護職員初任者養成研修科＋（自由提案）（３か月）【20人定員】 | E26: 3 | G26: 1 | Q26: =SUM(F26:P26) -> 1 | R26: 20 | S26: =Q26*R26 -> 20
C27: R24 | D27: 介護福祉士実務者研修科（６か月） | E27: 6 | I27: 1 | K27: 1 | L27: 1 | O27: 1 | Q27: =SUM(F27:P27) -> 4 | R27: 30 | S27: =Q27*R27 -> 120
C28: R25 | D28: 介護福祉士実務者研修科（６か月）【地域枠】【20人定員】 | E28: 6 | G28: 1 | H28: 1 | J28: 1 | M28: 1 | N28: 1 | P28: 1 | Q28: =SUM(F28:P28) -> 6 | R28: 20 | S28: =Q28*R28 -> 120
B29: 事務系科目 | C29: R26 | D29: 保育人材養成科（３か月）【20人定員】 | E29: 3 | H29: 1 | K29: 1 | N29: 1 | Q29: =SUM(F29:P29) -> 3 | R29: 20 | S29: =Q29*R29 -> 60
C30: R27 | D30: 障がい者就労支援員養成科（３か月）【20人定員】 | E30: 3 | I30: 1 | L30: 1 | Q30: =SUM(F30:P30) -> 2 | R30: 20 | S30: =Q30*R30 -> 40
C31: R28 | D31: トラベルビジネス実務科（３か月）【20人定員】 | E31: 3 | K31: 1 | Q31: =SUM(F31:P31) -> 1 | R31: 20 | S31: =Q31*R31 -> 20
C32: R29 | D32: ホテルフロント・インフォメーションスタッフ養成科（３か月）【20人定員】 | E32: 3 | G32: 1 | Q32: =SUM(F32:P32) -> 1 | R32: 20 | S32: =Q32*R32 -> 20
C33: R30 | D33: 建設業経理士＋賃貸不動産ビジネス科（４か月）【20人定員】 | E33: 4 | O33: 1 | Q33: =SUM(F33:P33) -> 1 | R33: 20 | S33: =Q33*R33 -> 20
C34: R31 | D34: 施設警備員養成科（２か月）【10人定員】 | E34: 2 | G34: 1 | Q34: =SUM(F34:P34) -> 1 | R34: 10 | S34: =Q34*R34 -> 10
C35: R32 | D35: 医療事務＋ＯＡ基礎科（３か月）【20人定員】 | E35: 3 | G35: 1 | J35: 1 | M35: 1 | P35: 1 | Q35: =SUM(F35:P35) -> 4 | R35: 20 | S35: =Q35*R35 -> 80
C36: R33 | D36: 医師事務作業補助者（ドクターズ医療クラーク）養成科（４か月）【20人定員】 | E36: 4 | H36: 1 | L36: 1 | P36: 1 | Q36: =SUM(F36:P36) -> 3 | R36: 20 | S36: =Q36*R36 -> 60
C37: R34 | D37: オフィスワーク・経理事務科（３か月）【20人定員】 | E37: 3 | H37: 1 | K37: 1 | N37: 1 | Q37: =SUM(F37:P37) -> 3 | R37: 20 | S37: =Q37*R37 -> 60
C38: R35 | D38: 経理事務専攻科（４か月） | E38: 4 | H38: 1 | L38: 1 | P38: 1 | Q38: =SUM(F38:P38) -> 3 | R38: 30 | S38: =Q38*R38 -> 90
C39: R36 | D39: 人事・労務管理事務科（４か月） | E39: 4 | J39: 1 | N39: 1 | Q39: =SUM(F39:P39) -> 2 | R39: 30 | S39: =Q39*R39 -> 60
C40: R37 | D40: パソコンスキル習得科（４か月）【40歳以上の方対象】 | E40: 4 | G40: 1 | J40: 1 | K40: 1 | N40: 1 | O40: 1 | Q40: =SUM(F40:P40) -> 5 | R40: 30 | S40: =Q40*R40 -> 150
...

Sheet 共通入力シート
A1: 様式Ａ 共通項目入力シート
A3: 科目番号
A4: 科目名 ※自由提案科目は手入力してください。 | B4: =_xlfn.IFNA(VLOOKUP(B3,令和9年度講予定科目一覧!C4:D58,2,FALSE),"")
A5: 提出日
A6: 所在地
A7: 商号又は名称
A8: 代表者職・氏名
A9: 訓練実施施設名

Sheet A-01
B1: 様式第Ａ－１号
B2: 大阪府委託訓練事業（知識等習得・企業実習付コース）企画提案書
G4: =共通入力シート!B5 -> 0
B5: 大阪府知事 様
C7: 所在地： | E7: =共通入力シート!B6 -> 0
C8: 商号又は名称： | E8: =共通入力シート!B7 -> 0
C9: 代表者職・氏名： | E9: =共通入力シート!B8 -> 0
B11: 大阪府が実施する次の委託訓練を受託したく企画提案書を提出します。
B12: １ 訓練の種別 ※いずれかに○を選択すること。 | C12: （ ） | D12: 知識等習得コース | F12: （ ） | G12: 企業実習付コース
B13: ２ 科目番号 | C13: =共通入力シート!B3 -> 0 | E13: ３ 訓練期間 | I13: か月
B14: ４ 開講希望月 ※受託可能な開講月に 優先順位の数字を記入 すること。 | C14: ６月 | D14: ７月 | E14: ８月 | F14: ９月 | G14: １０月 | H14: １１月 | I14: １２月
C16: １月 | D16: ２月 | E16: ３月 | F16: ５ 未選定開講月の開講協議 ※希望する場合は〇を、希望しない場合は✕を選択すること。
B18: ６ 科目名 | C18: =共通入力シート!B4
B19: ７ 訓練実施施設名 | C19: =共通入力シート!B9 -> 0
B20: ８ 1コース当たりの定員 | E20: =VLOOKUP(C13,令和9年度講予定科目一覧!C4:R58,16,FALSE) -> #N/A | F20: 人
B21: （開講可能最少人数） | C21: ※（ ）内は、開講可能な最少人数を、定員の５割以下で設定・記入すること。
B22: ９ 受託上限開講月数 | D22: ※受託可能な開講月の上限数を記入すること。 ※希望した開講月は上限数の範囲内で全て受託すること。
B24: 10 1コース1人1月当たり の訓練実施経費 | E24: ='A-16'!D18 -> 0 | G24: 円
C25: （※様式第Ａ－16号の１人１月当たり訓練実施経費（Ａ＋Ｂ）を記入すること。）
B26: 11 企画提案書添付書類 | C26: 別紙様式第Ａ－３号から第Ｃ－10号まで及び任意様式のとおり
B28: 【託児サービスの提案】 いずれかにチェックし、有の場合下記も記入すること。 | F28: 有 | G28: □ | H28: 無 | I28: □
B29: ※託児サービス提供機関が複数となり、枠内に書ききれない場合は別紙（任意様式）に記入し添付すること。
B30: 12 託児可能人数 | G30: 人
B31: 13 託児実施施設名 | E31: （所在地： ）
B33: 【企業実習付コース 企業実習受入先及び所在市町村名】 ※訓練導入講習は原則受注者において実施とするが、再委託する場合は、訪問先企業を記入すること。 ※枠内に書ききれない場合は別紙（任意様式）に記入し添付すること。
B34: 14 団体名・企業名 | C34: 所在市町村名
B36: ◆本様式は、提案する科目番号ごとに１枚作成すること。

Sheet A-02
B1: 様式第Ａ－２号
B2: 大阪府委託訓練事業（長期高度人材育成コース）企画提案書
H4: =共通入力シート!B5 -> 0
B5: 大阪府知事 様
C7: 所在地： | E7: =共通入力シート!B6 -> 0
C8: 商号又は名称： | E8: =共通入力シート!B7 -> 0
C9: 代表者職・氏名： | E9: =共通入力シート!B8 -> 0
B11: 大阪府が実施する次の委託訓練を受託したく企画提案書を提出します。
B12: １ 訓練の種別 | C12: 長期高度人材育成コース
B13: ２ 科目番号・科目名 | C13: Ｌ01 介護福祉士養成コース | I13: （ ） | M13: =共通入力シート!B3 -> 0
B14: ※提案する科目の該当欄（ ）に ○印を記入すること。 ※L03からL05の科目を提案する場合は、 科目の該当欄【 】に長期仕様書 L-13「８訓練内容(1)」の該当する番号を 記入すること。 ※L05の科目を提案する場合は、 科目名を併せて記入すること。 | C14: Ｌ02 保育士養成コース | I14: （ ）
C15: Ｌ03 言語聴覚士養成コース | I15: （ ） | J15: 【 】
C16: Ｌ04 精神保健福祉士養成コース | I16: （ ） | J16: 【 】
C17: Ｌ05 自由提案科目 | I17: （ ） | J17: 【 】
C18: 科目名（ ）
B19: ３ 受託を希望する定員数・ 最少開講人数等 | C19: 定員数 | D19: =IF(M13="L01",15,IF(M13="L02",19,IF(M13="L03",10,IF(M13="L04",10,IF(M13="L05",8))))) -> FALSE | E19: =IF(M13="L01",13,IF(M13="L02",18,IF(M13="L03","",IF(M13="L04","",IF(M13="L05",""))))) -> FALSE | F19: =IF(M13="L01",9,IF(M13="L02",17,IF(M13="L03","",IF(M13="L04","",IF(M13="L05",""))))) -> FALSE | G19: =IF(M13="L01",8,IF(M13="L02",9,IF(M13="L03","",IF(M13="L04","",IF(M13="L05",""))))) -> FALSE | H19: =IF(M13="L02",8,"") | I19: =IF(M13="L02",7,"") | J19: =IF(M13="L02",5,"")
B20: ※L01・L02を提案する場合は、 受託希望定員数の優先順位を 記入すること。 | C20: 優先順位
B21: ※開講可能最少人数は、 各定員ごとに、定員の5割以下で 設定・記入すること。 | C21: 開講可能 最少人数
B22: ※訓練期間を選択できる科目は、 訓練期間を選択すること。 | C22: 訓練期間
B23: ４ 訓練実施施設名 | C23: =共通入力シート!B9 -> 0
B24: ５ 受託上限コース数 | C24: コース数：１
B25: ６ 訓練科目の実施形態 | C25: □ | D25: 本科生と同じクラスに編入して実施する
C26: □ | D26: 独立したクラスとして実施する
B27: ７ 1コース1人1月当たりの 訓練実施経費 | D27: ='A-16'!D18 -> 0 | G27: 円
C28: （※様式第Ａ－16号の１人１月当たり訓練実施経費（Ａ＋Ｂ）を記入すること。）
B29: ８ 企画提案書添付書類 | C29: 別紙様式第Ａ－３号から第Ｃ－10号まで及び任意様式のとおり
B30: ◆本様式は、提案する科目番号ごとに１枚作成すること。

Sheet A-03
J1: 様式第Ａ－３号
B2: 訓練実施施設の教室面積と開講時間等
B4: 科目番号： | C4: =共通入力シート!B3 -> 0
E5: 科目名： | F5: =共通入力シート!B4
E6: 商号又は名称： | F6: =共通入力シート!B7 -> 0
E7: 訓練実施施設名： | F7: =共通入力シート!B9 -> 0
B9: 訓練実施施設の教室面積
B10: 区 分 | C10: 内 容
B11: 教室面積等 | C11: 教室名 | D11: 定員 (人) | E11: 教室面積 (㎡) ※事務所・休憩エリアは含まない | F11: 訓練生１人 当たりの面積 (㎡) | H11: 備考
F12: =IFERROR(ROUNDDOWN(E12/D12,2),"")
F13: =IFERROR(ROUNDDOWN(E13/D13,2),"")
F14: =IFERROR(ROUNDDOWN(E14/D14,2),"")
F15: =IFERROR(ROUNDDOWN(E15/D15,2),"")
F16: =IFERROR(ROUNDDOWN(E16/D16,2),"")
F17: =IFERROR(ROUNDDOWN(E17/D17,2),"")
C18: 面積合計/教室数 | E18: =IFERROR(ROUNDDOWN(AVERAGE(E12:E17),2), "") | F18: =IFERROR(ROUNDDOWN(AVERAGE(F12:F17),2), "")
B19: ※使用する教室の平面図（教室名・教室面積を明記したもの）を添付してください。
B21: 休講曜日及び訓練科目（コース）の開講時間
B22: ① 休講曜日：原則として 土・日・祝日
B23: ② 訓練科目（コース）の開講時間
B24: 区分 | C24: 開講時間 | F24: 休憩時間
B25: １限目 | D25: ～ | F25: =E25 -> 0 | H25: ～
B26: ２限目 | C26: =J25 -> 0 | D26: ～ | F26: =E26 -> 0 | H26: ～
B27: ３限目 | C27: =J26 -> 0 | D27: ～ | F27: =E27 -> 0 | H27: ～
B28: ４限目 | C28: =J27 -> 0 | D28: ～ | F28: =E28 -> 0 | H28: ～
B29: ５限目 | C29: =J28 -> 0 | D29: ～ | F29: =E29 -> 0 | H29: ～
B30: ６限目 | C30: =J29 -> 0 | D30: ～ | F30: =E30 -> 0 | H30: ～
B31: ７限目 | C31: =J30 -> 0 | D31: ～
B33: 訓練で使用するパソコンの設置状況
B34: （様式第Ｂ－４号の求人情報閲覧用パソコンとは別に設置するもの）
B35: ① パソコンの設置の有無 | F35: 有 | G35: □ | H35: 無 | I35: □
B36: ②（パソコンを設置している場合）設置台数 | H36: 台
B37: ※訓練でパソコンを使用する場合は、定員数に講師使用分を加えた台数以上を設置すること。

Sheet A-04
G1: 様式第Ａ－４号
C2: デジタルリテラシーを含むカリキュラムチェックシート
C4: 科目番号： | D4: =共通入力シート!B3 -> 0
F5: 科目名： | G5: =共通入力シート!B4
F6: 商号又は名称： | G6: =共通入力シート!B7 -> 0
F7: 訓練実施施設名： | G7: =共通入力シート!B9 -> 0
C9: 下記の「デジタルリテラシーを含むカリキュラム例」の中から、就職先業界で必要なカリキュラムを検討の上、訓練コースの中で実施するものについて、チェック欄に（☑）を入れてください（Ａ（１項目以上）及びＢを必ず選択してください。）。 Ａにおいて下記の中に該当するものがない場合は、その他の欄に企画提案公募要領18頁「ＤＸリテラシー標準の項目の一覧」を参考に検討したカリキュラム内容とDXリテラシー標準の該当項目の番号を記入してください。複数の欄にチェックしても差し支えありません。
B10: デジタルリテラシーを含むカリキュラムの例 | H10: チェック欄（☑）
B11: Ａ | C11: ・就職先業界の社会課題とデータやデジタルによる解決【項目１】 | H11: □
C12: 介護・美容・飲食・病院・流通等のデジタル活用による効率化の事例の紹介等
C13: ・就職先業界の顧客・ユーザーの行動変化と変化への対応【項目２】 | H13: □
C14: 効果的なSNS広報の事例、データ・デジタル技術を活用した顧客・ユーザー行動の分析の紹介等
C15: ・就職先業界の顧客・ユーザーを取り巻くデジタルサービス【項目２】 | H15: □
C16: eコマース、デリバリーサービス等の事例の紹介等
C17: ・就職先業界のデジタル技術の活用による競争環境変化の具体的事例【項目３】 | H17: □
C18: 小売・流通業界・観光業界等の事例の紹介等
C19: ・就職先で想定されるハードウェア、ソフトウェアの活用【項目10】 | H19: □
C20: スマートフォン、タブレット等のハードウェア、JavaやPython等の代表的なプログラミング言語の特徴・利用方法等
C21: ・就職先で想定されるインターネットサービスの活用【項目11】 | H21: □
C22: ZOOM、Teams等の代表的なWEB会議用ソフト、グループウェアの利用方法・紹介等
C23: ・就職先で想定されるデータ・デジタル技術の活用事例【項目12】 | H23: □
C24: POSシステム、キャッシュレス決済、モバイルPOSレジ、電子カルテ、介護ソフト、施工管理や勤怠管理のICT化導入、生成ＡＩの活用事例の紹介等
C25: ・就職先で想定される日常業務に関するパソコン等のツールの利用方法【項目13】 | H25: □
C26: オフィスソフトの操作（就職先での報告書やリーフレット等の作成で使用が想定される文字のサイズやフォントを変更した文書作成、就職先での資料作成、データ管理等で使用が想定される基本的な関数、表作成などのレベルのものに限る）等
C27: ・就職先で想定されるツール利用方法【項目13】 | H27: □
C28: 会計ソフト、医療事務システム、CADシステム、CMSなどの利用方法・紹介等
C29: ・その他【項目 】 | H29: □
B32: Ｂ | C32: ・就職先で想定される情報セキュリティ関係【項目14】 | H32: □
C33: デジタルデータに係る情報セキュリティの重要性、情報セキュリティ事故の原因、個人がとるべきセキュリティ対策等
C34: ・就職先で想定されるインターネット、SNS等を利用する際の注意点【項目15】
C35: 投稿内容、ネットエチケット等の注意点
C36: ・就職先業界のデジタルデータを扱う際の法令遵守【項目16】
C37: 顧客等のデジタルデータを扱う際の個人情報保護法、画像等のデジタルデータを扱う際の著作権などのルール等
C38: ※【項目】の番号は、企画提案公募要領18頁【DXリテラシー標準の項目の一覧】のどの項目に該当するか示しています。
C39: ※実際のデジタル機器の操作だけではなく、操作方法、活用方法の説明等もデジタルリテラシーに含みます。

Sheet A-05
T1: 様式第Ａ－５号
B2: 直近２か年の入学年度における就職状況（令和８年３月卒業まで）※長期高度人材育成コース提案事業者のみ
B4: 科目番号： | D4: =共通入力シート!B3 -> 0 | M4: 科目名： | O4: =共通入力シート!B4
B5: 訓練内容の該当する番号 (仕様書L-13の８訓練内容(１)） ※L03からL05の科目のみ選択 | M5: 商号又は名称： | O5: =共通入力シート!B7 -> 0
B8: 【訓練期間が１年間の課程】
B9: 入学 年度 | C9: 委託訓練 の受託 | D9: 本科の課程名又は 委託訓練の科目名 | E9: 在学期間 | H9: ① | I9: ② | K9: ④ | L9: ⑤ | N9: 就職率 | O9: ⑦ | P9: ⑧ | R9: 国家資格合格率
H10: 入学者数 | I10: 中退・ | J10: ③うち | K10: 進学者数 | L10: 卒業者数 | M10: ⑥うち | O10: 中退者 | P10: 卒業者 | Q10: 正社員
I11: 留年者数 | J11: 就職者数 | M11: 就職者数 | O11: 正社員 | P11: 正社員 | Q11: 就職率 | R11: 資格名 | S11: 全国平均 | T11: 実績
L12: =①-② | N12: （％） | O12: 就職者数 | P12: 就職者数 | Q12: （％） | S12: （％） | T12: （％）
B13: (例) | C13: なし | D13: 調理師養成学科（全日制） | E13: 45383 | F13: ～ | G13: 45747 | H13: 30 | I13: 5 | J13: 3 | K13: 3 | L13: =+H13-I13 -> 25 | M13: 22 | N13: =IF(L13=0,"-",(M13+J13)/(L13-K13+J13)*100) -> 100 | O13: 3 | P13: 18 | Q13: =IF(L13=0,"-",(P13+O13)/(L13-K13+O13)*100) -> 84 | R13: 調理師 | S13: 70 | T13: 75
B14: 令和６ | F14: ～ | L14: =+H14-I14 -> 0 | N14: =IF(L14=0,"-",(M14+J14)/(L14-K14+J14)*100) -> - | Q14: =IF(L14=0,"-",(P14+O14)/(L14-K14+O14)*100) -> -
B15: 令和７ | F15: ～ | L15: =+H15-I15 -> 0 | N15: =IF(L15=0,"-",(M15+J15)/(L15-K15+J15)*100) -> - | Q15: =IF(L15=0,"-",(P15+O15)/(L15-K15+O15)*100) -> -
B16: 計 | C16: － | D16: － | E16: － | H16: =SUM(H14:H15) -> 0 | I16: =SUM(I14:I15) -> 0 | J16: =SUM(J14:J15) -> 0 | K16: =SUM(K14:K15) -> 0 | L16: =+H16-I16 -> 0 | M16: =SUM(M14:M15) -> 0 | N16: =IF(L16=0,"-",(M16+J16)/(L16-K16+J16)*100) -> - | O16: =SUM(O14:O15) -> 0 | P16: =SUM(P14:P15) -> 0 | Q16: =IF(L16=0,"-",(P16+O16)/(L16-K16+O16)*100) -> -
B18: 【訓練期間が２年間の課程】
B19: 入学 年度 | C19: 委託訓練 の受託 | D19: 本科の課程名又は 委託訓練の科目名 | E19: 在学期間 | H19: ① | I19: ② | K19: ④ | L19: ⑤ | N19: 就職率 | O19: ⑦ | P19: ⑧ | R19: 国家資格合格率
H20: 入学者数 | I20: 中退・ | J20: ③うち | K20: 進学者数 | L20: 卒業者数 | M20: ⑥うち | O20: 中退者 | P20: 卒業者 | Q20: 正社員
I21: 留年者数 | J21: 就職者数 | M21: 就職者数 | O21: 正社員 | P21: 正社員 | Q21: 就職率 | R21: 資格名 | S21: 全国平均 | T21: 実績
L22: =①-② | N22: （％） | O22: 就職者数 | P22: 就職者数 | Q22: （％） | S22: （％） | T22: （％）
B23: (例) | C23: あり | D23: 情報セキュリティ管理者資格コース | E23: 45383 | F23: ～ | G23: 46112 | H23: 20 | I23: 5 | J23: 3 | K23: 0 | L23: =+H23-I23 -> 15 | M23: 15 | N23: =IF(L23=0,"-",(M23+J23)/(L23-K23+J23)*100) -> 100 | O23: 3 | P23: 13 | Q23: =IF(L23=0,"-",(P23+O23)/(L23-K23+O23)*100) -> 88.888889 | R23: 応用情報技術者試験 | S23: 20 | T23: 50
B24: 令和５ | F24: ～ | L24: =+H24-I24 -> 0 | N24: =IF(L24=0,"-",(M24+J24)/(L24-K24+J24)*100) -> - | Q24: =IF(L24=0,"-",(P24+O24)/(L24-K24+O24)*100) -> -
B25: 令和６ | F25: ～ | L25: =+H25-I25 -> 0 | N25: =IF(L25=0,"-",(M25+J25)/(L25-K25+J25)*100) -> - | Q25: =IF(L25=0,"-",(P25+O25)/(L25-K25+O25)*100) -> -
B26: 計 | C26: － | D26: － | E26: － | H26: =SUM(H24:H25) -> 0 | I26: =SUM(I24:I25) -> 0 | J26: =SUM(J24:J25) -> 0 | K26: =SUM(K24:K25) -> 0 | L26: =+H26-I26 -> 0 | M26: =SUM(M24:M25) -> 0 | N26: =IF(L26=0,"-",(M26+J26)/(L26-K26+J26)*100) -> - | O26: =SUM(O24:O25) -> 0 | P26: =SUM(P24:P25) -> 0 | Q26: =IF(L26=0,"-",(P26+O26)/(L26-K26+O26)*100) -> -
B28: ※１ | C28: 提案する科目と同じ訓練期間の直近２か年の実績を記入すること。
C29: 直近２か年の実績とは、１年間の課程は令和６年度及び令和７年度の入学生、２年間の課程は令和５年度及び令和６年度の入学生の実績をいう。
B30: ※２ | C30: 「本科の課程名」、「在学期間」には、提案する科目と同じ科目の本科の課程名、在学期間を記入すること。また、夜間・土日のみの学科は記入しないこと。
B31: ※３ | C31: ⑤卒業者数は、①入学した者のうち、②中退・留年者を除いた者
B32: ※４ | C32: 就職率＝(⑥＋③)÷(⑤－④＋③)×100
B33: ※５ | C33: 大阪府の委託訓練を受託していた入学年度は、委託訓練の訓練生のみの実績で①から⑧を記入すること。(この場合、④は０名とすること。)
B34: ※６ | C34: ⑦中退者正社員就職者数及び⑧卒業者正社員就職者数は、介護福祉士及び保育士を除く、その他の養成コースのみ記入すること。
B35: ※７ | C35: 正社員就職率＝(⑧＋⑦)÷(⑤－④＋⑦)×100
B36: ※８ | C36: 国家資格合格率は、訓練内容の該当する番号(仕様書L-13の８訓練内容（１））が１又は２である場合に記入すること。（介護福祉士及び保育士を除く、その他の養成コースのみ記入）
B37: ※９ | C37: 国家資格合格率は、全国平均の合格率と事業者の合格実績を記入すること。（介護福祉士及び保育士を除く、その他の養成コースのみ記入）
B38: ※１０ | C38: 企画提案公募要領４頁「３公募参加資格（25）①②」「３公募参加資格（26）①②」を満たさない場合は、企画提案書受付開始前までに大阪府に対して協議の申し入れを行うこと。

Sheet A-06
B1: 様式第Ａ－６号
B2: 講師名簿
B4: 科目番号： | C4: =共通入力シート!B3 -> 0 | E4: 科目名： | G4: =共通入力シート!B4
E5: 商号又は名称： | G5: =共通入力シート!B7 -> 0
E6: 訓練実施施設名： | G6: =共通入力シート!B9 -> 0
H8: =共通入力シート!B5 -> 0
B9: 担当予定科目 （注１） | D9: 講師の氏名 | E9: 常勤･ 非常勤 の別 | F9: 担当科目 講師 経験年数 （注２） | G9: 担当科目 実務 経験年数 （注３） | H9: 担当予定科目に関する 資格・免許等（注４）
B29: 注１）講師ごとの科目名の表記及び順番はカリキュラムの科目と一致させること。
B30: 注２）講師として担当予定科目に従事した年数を記入すること。
B31: 注３）職務経歴において担当予定科目に従事した実務経験があれば記入すること。
B32: 注４）担当予定科目に関係する国家資格、公的資格等及び教諭免許（職業訓練指導員免許を含む。）、 研修受講履歴、表彰履歴、職歴等のアピールポイントがある場合、記入すること。
B33: ※講師の人数に応じて行を追加すること。また、Ａ４用紙２枚以上となってもよい。
B34: ※別途必要に応じて講師歴や職歴等が確認できる書類を求める場合がある。

Sheet A-07
B1: 様式第Ａ－７号
B2: 使用教材等一覧表
B4: 科目番号： | C4: =共通入力シート!B3 -> 0 | D4: 科目名： | E4: =共通入力シート!B4
D5: 商号又は名称： | E5: =共通入力シート!B7 -> 0
D6: 訓練実施施設名： | E6: =共通入力シート!B9 -> 0
B8: （１）テキスト・参考書等
B9: 教材の名称 | E9: 使用科目 （注１） | F9: 価格(税込) | G9: 備考
B10: 1
B11: 2
B12: 3
B13: 4
B14: 5
B15: 6
B16: 7
B17: 8
B18: 9
B19: 合計金額（税込額） | F19: =SUM(F10:F18) -> 0 | G19: 円
B20: 注１）教材ごとの科目名の表記及び順番はカリキュラムの科目と一致させること。
B21: ※教材の写し（名称、出版社名及び価格が確認できる裏表紙等）を「Ｃ」のファイルへ添付すること。 ※オリジナル教材（レジュメ）等価格が明らかでないものに関しては、ページ数を備考欄に記入のうえ、 教材の表紙をコピーし、「価格表示なし」と記入の上、写しを「Ｃ」のファイルへ添付すること。 オリジナル教材等に係る印刷費用等を訓練生負担とする場合は、負担額を価格欄に記入すること。 オリジナル教材等に係る印刷費用等を訓練生負担としない場合は、「０円」と記入すること。
B23: （２）訓練生が負担するその他費用
B24: 名称 | D24: 価格(税込) | E24: 備考
B27: 合計金額（税込額） | D27: =SUM(D25:D26) -> 0 | E27: 円
B28: ※実習着、ジャージ、帽子、靴、受験料等、自己の所有に帰属するもの以外は受注者負担とすること。 職業訓練生総合保険の保険料は記入不要。
B30: 総 合 計 | D30: =SUM(F19+D27) -> 0 | E30: 円
B31: うち訓練生負担額 | E31: 円
B32: ※訓練生負担額の上限は２万円とし、上限額を超える場合は、受注者負担とすること。

Sheet A-08
B1: 様式第Ａ－８号
B2: 訓練生の自己負担となるものの一覧表（長期高度人材育成コース）
B4: 科目番号： | C4: =共通入力シート!B3 -> 0 | D4: 科目名： | E4: =共通入力シート!B4
D5: 商号又は名称： | E5: =共通入力シート!B7 -> 0
D6: 訓練実施施設名： | E6: =共通入力シート!B9 -> 0
B8: （１）テキスト・参考書等
B9: 教材の名称 | E9: 使用科目 （注１） | F9: 価格 (税込) | G9: 備考
B10: 1
B11: 2
B12: 3
B13: 4
B14: 5
B15: 6
B16: 7
B17: 8
B18: 9
B19: 10
B20: 11
B21: 12
... B24: 15
B25: 合計金額（税込額） | F25: =SUM(F10:F24) -> 0 | G25: 円
B26: 注１）教材ごとの科目名の表記及び順番はカリキュラムの科目と一致させること。
B27: ※教材の写し（名称、出版社名及び価格が確認できる裏表紙等）を「Ｃ」のファイルへ添付すること。 ※オリジナル教材（レジュメ）等価格が明らかでないものに関しては、ページ数を備考欄に記入のうえ、 教材の表紙をコピーし、「価格表示なし」と記入の上、写しを「Ｃ」のファイルへ添付すること。 オリジナル教材等に係る印刷費用等を訓練生負担とする場合は、負担額を価格欄に記入すること。 オリジナル教材等に係る印刷費用等を訓練生負担としない場合は、「０円」と記入すること。

Sheet A-09
B1: 様式第Ａ－９号
B2: 訓練生の自己負担となるものの一覧表（長期高度人材育成コース）
B4: 科目番号： | C4: =共通入力シート!B3 -> 0 | D4: 科目名： | E4: =共通入力シート!B4
D5: 商号又は名称： | E5: =共通入力シート!B7 -> 0
D6: 訓練実施施設名： | E6: =共通入力シート!B9 -> 0
B8: （２）その他（テキスト・参考書等以外で訓練生個人負担となるもの）
B9: 名称 | E9: 使用科目 （注１） | F9: 価格 (税込) | G9: 備考
B10: 1
B11: 2
B12: 3
B13: 4
B14: 5
B15: 6
B16: 7
B17: 8
B18: 9
B19: 10
B20: 11
B21: 12
... B24: 15
B25: 合計金額（税込額） | F25: =SUM(F10:F24) -> 0 | G25: 円
B26: 注１）項目ごとの科目名の表記及び順番はカリキュラムの科目と一致させること。
B27: ※実習着、ジャージ、帽子、靴、傷害保険料、生協会費・自治会費等、 通常、訓練生の所有物になる物や個人負担としているものについて、すべて記入すること。 ※国家資格の取得を修了要件とする場合は受験料や登録手数料等を記入すること。 （介護福祉士・保育士コースを含む） ※養成課程を修了するために必須の実習等で発生する健康診断等の費用は個人負担とせず、 原則として訓練実施経費に含めること。 ただし、本科生の個人負担としている場合は、別途、大阪府と協議すること。 ※個人負担となるものであっても、養成課程を修了するための必須要件とならない行事等(学園祭・卒業旅行等) に係る費用は含めないこと。 ※職業訓練生総合保険を加入必須とする場合は、必ず記入すること。
B29: 訓練生負担額計（1）+（2） | D29: ='A-08'!F25+F25 -> 0 | E29: 円

Sheet A-10～12
B1: 様式第Ａ－●号
B2: 委託訓練カリキュラム
B4: 別途カリキュラムを作成し、 当該Ａ様式ファイルにコピーまたは移動させてください。 【コピー・移動方法】 ①大阪府ホームページで公表している「知識等習得コース」「企業実習付コース」「長期高度人材育成コース」の各カリキュラムで作成したExcelシート名称の上で右クリックをし、［移動またはコピー］を選択してください。
B21: ②コピーもしくは移動先ブック名を選択し、シート名称を「Ａ－１０」、「Ａ－１１」または 「Ａ－１２」へ修正してください。

Sheet A-13
B1: （知識等習得コース・長期高度人材育成コース） | J1: 様式第Ａ－13号
B2: 委託訓練カリキュラムの作成に関する調書
B4: 科目番号： | C4: =共通入力シート!B3 -> 0 | E4: 科目名： | F4: =共通入力シート!B4
E5: 商号又は名称： | F5: =共通入力シート!B7 -> 0
E6: 訓練実施施設名： | F6: =共通入力シート!B9 -> 0
B8: （※文字サイズ10.5ポイント以上、行追加可、上限Ａ４片面２枚）
B9: 訓練科目名 | C9: =共通入力シート!B4
B10: 提案カリキュラムの時間配分
B11: 学科 | D11: 時間 | E11: 実技 | G11: 時間 | H11: 就職支援 | J11: 時間
B12: １ 本科目に関連する業種・職種に応じて把握・分析した求人ニーズ・求職ニーズについて、 その裏付けとなる根拠資料（出典元等を含む）を示しながら、具体的内容を記入すること。
B13: 【求人ニーズ】 【求職ニーズ】
B14: ２ 訓練目標（仕上がり像）に対応した人材とするために、カリキュラムの設定や時間配分等をどのように工夫したのか、 １の求人・求職ニーズがカリキュラムの設定にどのように活かされているのかなどについてを具体的に記入すること。 また、訓練対象者の習熟度に応じて、どのようなフォローアップを行っているかを具体的に記入すること。
B16: ３ 本科目で主な訓練対象者として想定する者を明示するとともに、対象者として想定した理由や その者が就職できない要因について具体的に記入すること。 ※複数の対象者を想定する場合は、それぞれについて記入すること。
B17: 【訓練対象者】 【対象者として想定した理由】 【就職できない要因】
B18: ４ 就職に結びつけるために工夫する点を具体的に記入すること。

Sheet A-14
B1: （企業実習付コース） | J1: 様式第Ａ－14号
B2: 委託訓練カリキュラムの作成に関する調書
B4: 科目番号： | C4: =共通入力シート!B3 -> 0 | E4: 科目名： | F4: =共通入力シート!B4
E5: 商号又は名称： | F5: =共通入力シート!B7 -> 0
E6: 訓練実施施設名： | F6: =共通入力シート!B9 -> 0
B8: （※文字サイズ10.5ポイント以上、行追加可、上限Ａ４片面２枚）
B9: 訓練科目名 | C9: =共通入力シート!B4
B10: 提案カリキュラムの時間配分
B11: 訓練導入講習 | D11: 時間 | E11: 施設内訓練 | G11: 時間 | H11: 企業実習 | J11: 時間
B12: １ 本科目に関連する業種・職種に応じて把握・分析した求人ニーズ・求職ニーズについて、 その裏付けとなる根拠資料（出典元等を含む）を示しながら、具体的内容を記入すること。
B13: 【求人ニーズ】 【求職ニーズ】
B14: ２ 訓練目標（仕上がり像）に対応した人材とするために、カリキュラムの設定や時間配分等をどのように工夫したのか、 １の求人・求職ニーズがカリキュラムの設定にどのように活かされているのかなどについてを具体的に記入すること。 また、訓練対象者の習熟度に応じて、どのようなフォローアップを行っているかを具体的に記入すること。
B16: ３ 本科目で主な訓練対象者として想定する者を明示するとともに、対象者として想定した理由や その者が就職できない要因について具体的に記入すること。 ※複数の対象者を想定する場合は、それぞれについて記入すること。
B17: 【訓練対象者】 【対象者として想定した理由】 【就職できない要因】
B18: ４ 就職に結びつけるために工夫する点を具体的に記入すること。

Sheet A-15
J1: 様式第Ａ－15号
B2: 就職支援体制に関する調書
B4: 科目番号： | D4: =共通入力シート!B3 -> 0 | F4: 科目名： | H4: =共通入力シート!B4
F5: 商号又は名称： | H5: =共通入力シート!B7 -> 0
F6: 訓練実施施設名： | H6: =共通入力シート!B9 -> 0
B8: （※文字サイズ10.5ポイント以上、行追加可、上限Ａ４片面２枚）
B9: １ 実施を予定している就職支援項目にチェックすること。（複数選択可）
B10: □ | C10: ①キャリア・コンサルティングの実施 | G10: □ | H10: ②職務経歴書・履歴書等の作成指導
B11: □ | C11: ③面接指導 | E11: □ | F11: ④職業相談 | G11: □ | H11: ⑤求人情報の提供 | I11: □ | J11: ⑥求人企業の開拓
B12: □ | C12: ⑦自ら収集した求人情報の提供 | G12: □ | H12: ⑧開拓求人企業による企業説明会の実施
B13: □ | C13: ⑨企業の人事担当者等による就職講話・懇談会の実施
B14: □ | C14: ⑩その他 （項目： ）
B15: ２ 様式第Ａ－13号（Ａ－14号）の３で本科目の主な訓練対象者と想定した者に対して実施する、 上記１の就職支援項目について、チェックした項目の具体的取組内容と得られる効果を記入すること。 ※①～⑩は上記１に対応させること。
C16: 具体的内容 | I16: 得られる効果
B17: ①
B18: ②
B19: ③
B20: ④
B21: ⑤
B22: ⑥
B23: ⑦
B24: ⑧
B25: ⑨
B26: ⑩
B27: ３ 上記２のほか、充実した就職支援を行うために工夫する点を具体的に記入すること。
B29: 目標とする就職率（目標値）を記入すること。 | J29: ％

Sheet A-16
E1: 様式第Ａ－16号
B2: 大阪府委託訓練実施経費見積書
B4: 科目番号： | C4: =共通入力シート!B3 -> 0 | D4: 科目名： | E4: =共通入力シート!B4
D5: 商号又は名称： | E5: =共通入力シート!B7 -> 0
D6: 訓練実施施設名： | E6: =共通入力シート!B9 -> 0
B10: 項 目 | D10: 金 額（円） | E10: 積算内訳
B11: 指導員経費
B12: 実習費
B13: 施設設備利用料
B14: その他
B15: 経費合計 | D15: =SUM(D11:D14) -> 0
B16: １人１月当たり経費（Ａ） | D16: =IFERROR(ROUNDDOWN(D15/(B8*C8),0),"") | E16: （経費）／（定員×訓練月数）
B17: 消費税１０％（Ｂ） | D17: =IFERROR(ROUNDDOWN(D16*0.1,0),"") | E17: （Ａ）×１０／１００
B18: １人１月当たり 訓練実施経費（Ａ＋Ｂ） | D18: =SUM(D16:D17) -> 0 | E18: ※様式第Ａ－１（Ａ－２）号の 【1コース1人1月当たりの訓練実施経費】 と合致させること。
B19: ※「1人１月当たり経費（A）」、「消費税１０％（B）」欄については 端数が生じた場合、小数点以下を切り捨てること。
B21: 訓練実施に要する経費として、上記のとおり見積ります。
B22: =共通入力シート!B5 -> 0
D24: 所在地： | E24: =共通入力シート!B6 -> 0
D25: 商号又は名称： | E25: =共通入力シート!B7 -> 0
D26: 代表者職・氏名： | E26: =共通入力シート!B8 -> 0
