Workbook

Sheet マスタ
H1: 様式３
B2: 対応状況 | D2: 令和 | E2: 月 | F2: 日 | H2: 元号 | I2: 年 | J2: 月 | K2: 日 | L2: 性別 | N2: 口座 | P2: はい・いいえ
B4: 未対応 | D4: 8 | E4: 4 | F4: 1 | H4: M | I4: 01 | J4: 04 | K4: 01 | L4: F | N4: 普通 | P4: はい
B5: 作成中 | D5: 9 | E5: 5 | F5: 2 | H5: T | I5: 02 | J5: 05 | K5: 02 | L5: M | N5: 当座 | P5: いいえ
B6: 作成完了 | D6: 10 | E6: 6 | F6: 3 | H6: S | I6: 03 | J6: 06 | K6: 03
B7: 提出完了 | D7: 11 | E7: 7 | F7: 4 | H7: H | I7: 04 | J7: 07 | K7: 04
D8: 12 | E8: 8 | F8: 5 | H8: R | I8: 05 | J8: 08 | K8: 05
D9: 13 | E9: 9 | F9: 6 | I9: 06 | J9: 09 | K9: 06
D10: 14 | E10: 10 | F10: 7 | I10: 07 | J10: 10 | K10: 07
B11: 未対応 | D11: 15 | E11: 11 | F11: 8 | I11: 08 | J11: 11 | K11: 08
B12: 写し作成済 | D12: 16 | E12: 12 | F12: 9 | I12: 09 | J12: 12 | K12: 09
B13: 提出完了 | D13: 17 | E13: 1 | F13: 10 | I13: 10 | J13: 01 | K13: 10
D14: 18 | E14: 2 | F14: 11 | I14: 11 | J14: 02 | K14: 11
D15: 19 | E15: 3 | F15: 12 | I15: 12 | J15: 03 | K15: 12
D16: 20 | F16: 13 | I16: 13 | K16: 13
F17: 14 | I17: 14 | K17: 14
F18: 15 | I18: 15 | K18: 15
F19: 16 | I19: 16 | K19: 16
F20: 17 | I20: 17 | K20: 17
F21: 18 | I21: 18 | K21: 18
F22: 19 | I22: 19 | K22: 19
F23: 20 | I23: 20 | K23: 20
F24: 21 | I24: 21 | K24: 21
F25: 22 | I25: 22 | K25: 22
F26: 23 | I26: 23 | K26: 23
F27: 24 | I27: 24 | K27: 24
F28: 25 | I28: 25 | K28: 25
... F34: 31 | I34: 31 | K34: 31
I35: 32
I36: 33
I37: 34
I38: 35
I39: 36
I40: 37
I41: 38
I42: 39
I43: 40
I44: 41
I45: 42
I46: 43
... I103: 100

Sheet 様式第１号（第５条関係）事前登録書
B1: 1 | C1: 2 | D1: 3 | E1: 4 | F1: 5 | G1: 6 | H1: 7 | I1: 8 | J1: 9 | K1: 10 | L1: 11 | M1: 12 | N1: 13 | O1: 14 | P1: 13 | Q1: 12 | R1: 11 | S1: 10 | T1: 9 | U1: 8 | V1: 7 | W1: 6 | X1: 5 | Y1: 4 | Z1: 3 | AA1: 2 | AB1: 1 | AC1: 1 | AD1: 2 | AE1: 3 | AF1: 4 | AG1: 5 | AH1: 6 | AI1: 7 | AJ1: 8 | AK1: 9 | AL1: 10 | AM1: 11 | AN1: 12 | AO1: 13 | AP1: 14 | AQ1: 13 | AR1: 12 | AS1: 11 | AT1: 10 | AU1: 9 | AV1: 8 | AW1: 7 | AX1: 6 | AY1: 5 | AZ1: 4 | BA1: 3 | BB1: 2 | BC1: 1
B2: 様式第１号（第５条関係） | AC2: 様式第１号（第５条関係） | BD2: ※黄色セルを入力または選択してください
M4: 事前登録書 | AN4: 事前登録書
T5: 令和 | V5: 年 | Y5: 月 | AB5: 日 | AU5: 令和 | AV5: 8 | AW5: 年 | AX5: 9 | AZ5: 月 | BA5: 21 | BC5: 日 | BD5: ←申請日は、大阪府業施オンラインシステムの申請日としてください。
BD6: 郵送の場合は記入日としてください
L7: ＜申請者（本店等）＞ | AM7: ＜申請者（本店等）＞
N8: 所在地 | AO8: 所在地 | AQ8: 大阪府○○市○○区○○ ○丁目○番 | BD8: ←都道府県から記入してください
N10: 名 称 | AO10: 名 称 | AQ10: 株式会社〇〇〇〇 | BD10: ←㈱などの省略はしないでください
N12: 代表者 | AO12: 代表者 | AQ12: 代表取締役 〇〇 〇〇 | BD12: ←職・氏名を記入してください。
C17: １ 申請事業場 | AD17: １ 申請事業場
D18: 事 業 場 名 | AE18: 事 業 場 名 | AJ18: 株式会社〇〇〇〇 〇〇事業所
D20: 所 在 地 | AE20: 所 在 地 | AJ20: 大阪府○○市○○区○○ ○丁目○番
D22: 担 当 者 | AE22: 担 当 者 | AJ22: 〇〇 〇〇
D24: 電 話 番 号 | AE24: 電 話 番 号 | AJ24: XX-XXXX-XXXX
D26: 連絡先E-mail | AE26: 連絡先E-mail | AJ26: XXXXXX@XXXX
C30: ２ 国助成金申請状況 | AD30: ２ 国助成金申請状況
D31: 国助成金申請日 | P31: 令和 | T31: 年 | W31: 月 | Z31: 日 | AE31: 国助成金申請日 | AQ31: 令和 | AS31: 8 | AU31: 年 | AV31: 9 | AX31: 月 | AY31: 20 | BA31: 日 | BD31: ←国助成金様式１号に記載（または記載予定）の内容を記載してください。
D33: 申請コース（いずれかに〇） | AE33: 申請コース（いずれかに〇）
D35: 国助成金様式１号６国庫補助金所要額調書 （別紙１）Ｄ欄に記載の額（注） | P35: 金 | Y35: 円（Ａ） | AE35: 国助成金様式１号６国庫補助金所要額調書 （別紙１）Ｄ欄に記載の額（注） | AQ35: 金 | AS35: 2000000 | AZ35: 円（Ａ）
C37: （注）額に消費税及び地方消費税を含む場合は、右欄（Ａ）は税抜きの金額を記載すること。 | AD37: （注）額に消費税及び地方消費税を含む場合は、右欄（Ａ）は税抜きの金額を記載すること。
C40: ３ 賃金引上げ計画 | AD40: ３ 賃金引上げ計画
D41: 府補助金要綱第２条第３号及び 第４号をともに満たす労働者数（※） | P41: =賃金引上げチェックリスト!J35 -> 0 | Z41: 人 | AE41: 府補助金要綱第２条第３号及び 第４号をともに満たす労働者数（※） | AQ41: 10 | BA41: 人 | BD41: ←『賃金引上げチェックリスト』シートにより算出された人数が転記されます。
BD42: 『賃金引上げチェックリスト』シートを漏れなく作成してください。
C43: （※）別に定める要件確認シートにより算出された人数を記載してください。 | AD43: （※）別に定める要件確認シートにより算出された人数を記載してください。
C46: ４ 対象経費支出予定額 | AD46: ４ 対象経費支出予定額
D47: （Ａ）×１／４ | P47: 金 | R47: =ROUNDDOWN(R35/4,0) -> 0 | Y47: 円（Ｂ） | AE47: （Ａ）×１／４ | AQ47: 金 | AS47: =ROUNDDOWN(AS35/4,0) -> 500000 | AZ47: 円（Ｂ） | BD47: ←自動で計算されます
D49: ３賃金引上げ計画に記載の労働者数に応じて、 （別表）に定めた【府】補助上限額（※） | P49: 金 | Y49: 円（Ｃ） | AE49: ３賃金引上げ計画に記載の労働者数に応じて、 （別表）に定めた【府】補助上限額（※） | AQ49: 金 | AS49: 1000000 | AZ49: 円（Ｃ） | BD49: ←別途要件確認シートにより算出された人数を記載してください。
D51: （Ｂ）と（Ｃ）のいずれか低い額 | P51: 金 | R51: =IF(R47<R49,R47,R49) -> 0 | Y51: 円 | AE51: （Ｂ）と（Ｃ）のいずれか低い額 | AQ51: 金 | AS51: =IF(AS47<AS49,AS47,AS49) -> 500000 | AZ51: 円 | BD51: ←自動で計算されます
C53: （※）労働者数は、（別表）補助上限額（参考）【国】助成上限額のコース区分欄の人数を参照 | AD53: （※）労働者数は、（別表）補助上限額（参考）【国】助成上限額のコース区分欄の人数を参照

Sheet 賃金引上げチェックリスト
B2: 賃金引上げ計画 チェックリスト | S2: 賃金引上げ計画 チェックリスト
B4: 【手順】 | S4: 【手順】
B5: １．（１）、（２）、（３）の黄色セルに、該当する金額を入力してください。 | S5: １．（１）、（２）、（３）の黄色セルに、該当する金額を入力してください。
B6: 対象者が10名を超える場合は、別紙に記載してください。 | S6: 対象者が10名を超える場合は、別紙に記載してください。
B7: ２．（４）に『該当』、『非該当』が表示されます。 | S7: ２．（４）に『該当』、『非該当』が表示されます。
B8: 『該当』の場合、大阪府補助金の要件を満たしています。 | S8: 『該当』の場合、大阪府補助金の要件を満たしています。
B9: 『非該当』の場合、大阪府補助金の要件を満たしていません。 | S9: 『非該当』の場合、大阪府補助金の要件を満たしていません。
B11: 【項目の説明】 | S11: 【項目の説明】
B12: （１） 大阪労働局へ提出した国助成金様式１号別紙２事業実施計画書３イ⑤に記載の引上げ額 | S12: （１） 大阪労働局へ提出した国助成金様式１号別紙２事業実施計画書３イ⑤に記載の引上げ額
B13: （２） 補助金交付要綱第２条第１項第３号に基づく引上げ額 | S13: （２） 補助金交付要綱第２条第１項第３号に基づく引上げ額
B14: ※（１）を上回る引上げ額であること | S14: ※（１）を上回る引上げ額であること
B15: （３） 補助金交付要綱第２条第１項第４号に基づく賃上げ後の時間額 | S15: （３） 補助金交付要綱第２条第１項第４号に基づく賃上げ後の時間額
... B18: 両方またはどちらか要件を満たさない場合は『非該当』 | S18: 両方またはどちらか要件を満たさない場合は『非該当』
N19: 【計算用】両方プラスであれば該当 | AE19: 【計算用】両方プラスであれば該当
B20: 【チェックリスト】 | H20: （単位：円） | S20: 【チェックリスト】 | Y20: （単位：円）
B21: 氏名 | C21: （１） 大阪労働局へ提出した 計画に記載の引上げ額 | E21: （２） 賃金（時間額） の引上げ額 | G21: （３） 引上げ後の賃金 （時間額） | J21: （４） 大阪府の 支給要件 | N21: (2)-(1) | O21: (3)-③ | S21: 氏名 | T21: （１） 大阪労働局へ提出した 計画に記載の引上げ額 | V21: （２） 賃金（時間額） の引上げ額 | X21: （３） 引上げ後の賃金 （時間額） | AA21: （４） 大阪府の 支給要件 | AE21: (2)-(1) | AF21: (3)-③
C22: 引上げ額 | E22: 引上げ額 | G22: 時間額 | J22: {=IFERROR(IF(MIN(_xlfn._xlws.FILTER($H$22:$H$31-$F$22:$F$31,($H$22:$H$31<>"")*($F$22:$F$31<>"")))<$F$39,IF(AND(N22>0,O22>=0,F22>=CHOOSE($F$32,50,70,90),H22-F22>=1177,H22-F22<MIN(_xlfn._xlws.FILTER($H$22:$H$31,$H$22:$H$31<>""))),"該当","非該当"),"非該当"),"非該当")} -> 非該当 | N22: =F22-D22 -> 0 | O22: =H22-$F$40 -> -1256 | S22: 大阪太郎 | T22: 引上げ額 | U22: 75 | V22: 引上げ額 | W22: 80 | X22: 時間額 | Y22: 1255 | AA22: =IF(AE22<=0,"非該当",IF(AF22<=0,"非該当","該当")) -> 該当 | AC22: ←（１）、（２）、（３）の黄色セルに、該当する金額を入力してください。 | AE22: =W22-U22 -> 5 | AF22: =Y22-$W$40 -> 2
C23: 引上げ額 | E23: 引上げ額 | G23: 時間額 | J23: {=IFERROR(IF(MIN(_xlfn._xlws.FILTER($H$22:$H$31-$F$22:$F$31,($H$22:$H$31<>"")*($F$22:$F$31<>"")))<$F$39,IF(AND(N23>0,O23>=0,F23>=CHOOSE($F$32,50,70,90),H23-F23>=1177,H23-F23<MIN(_xlfn._xlws.FILTER($H$22:$H$31,$H$22:$H$31<>""))),"該当","非該当"),"非該当"),"非該当")} -> 非該当 | N23: =F23-D23 -> 0 | O23: =H23-$F$40 -> -1256 | S23: 大阪花子 | T23: 引上げ額 | U23: 75 | V23: 引上げ額 | W23: 80 | X23: 時間額 | Y23: 1253 | AA23: =IF(AE23<=0,"非該当",IF(AF23<=0,"非該当","該当")) -> 非該当 | AC23: 対象者が10名を超える場合は、別紙に記載してください。 | AE23: =W23-U23 -> 5 | AF23: =Y23-$W$40 -> 0
C24: 引上げ額 | E24: 引上げ額 | G24: 時間額 | J24: {=IFERROR(IF(MIN(_xlfn._xlws.FILTER($H$22:$H$31-$F$22:$F$31,($H$22:$H$31<>"")*($F$22:$F$31<>"")))<$F$39,IF(AND(N24>0,O24>=0,F24>=CHOOSE($F$32,50,70,90),H24-F24>=1177,H24-F24<MIN(_xlfn._xlws.FILTER($H$22:$H$31,$H$22:$H$31<>""))),"該当","非該当"),"非該当"),"非該当")} -> 非該当 | N24: =F24-D24 -> 0 | O24: =H24-$F$40 -> -1256 | S24: 大阪一郎 | T24: 引上げ額 | U24: 75 | V24: 引上げ額 | W24: 75 | X24: 時間額 | Y24: 1255 | AA24: =IF(AE24<=0,"非該当",IF(AF24<=0,"非該当","該当")) -> 非該当 | AC24: （４）に『該当』、『非該当』が表示されます。 | AE24: =W24-U24 -> 0 | AF24: =Y24-$W$40 -> 2
C25: 引上げ額 | E25: 引上げ額 | G25: 時間額 | J25: {=IFERROR(IF(MIN(_xlfn._xlws.FILTER($H$22:$H$31-$F$22:$F$31,($H$22:$H$31<>"")*($F$22:$F$31<>"")))<$F$39,IF(AND(N25>0,O25>=0,F25>=CHOOSE($F$32,50,70,90),H25-F25>=1177,H25-F25<MIN(_xlfn._xlws.FILTER($H$22:$H$31,$H$22:$H$31<>""))),"該当","非該当"),"非該当"),"非該当")} -> 非該当 | N25: =F25-D25 -> 0 | O25: =H25-$F$40 -> -1256 | S25: 大阪二郎 | T25: 引上げ額 | U25: 51 | V25: 引上げ額 | W25: 52 | X25: 時間額 | Y25: 1252 | AA25: =IF(AE25<=0,"非該当",IF(AF25<=0,"非該当","該当")) -> 非該当 | AE25: =W25-U25 -> 1 | AF25: =Y25-$W$40 -> -1
C26: 引上げ額 | E26: 引上げ額 | G26: 時間額 | J26: {=IFERROR(IF(MIN(_xlfn._xlws.FILTER($H$22:$H$31-$F$22:$F$31,($H$22:$H$31<>"")*($F$22:$F$31<>"")))<$F$39,IF(AND(N26>0,O26>=0,F26>=CHOOSE($F$32,50,70,90),H26-F26>=1177,H26-F26<MIN(_xlfn._xlws.FILTER($H$22:$H$31,$H$22:$H$31<>""))),"該当","非該当"),"非該当"),"非該当")} -> 非該当 | N26: =F26-D26 -> 0 | O26: =H26-$F$40 -> -1256 | S26: 大阪三郎 | T26: 引上げ額 | U26: 95 | V26: 引上げ額 | X26: 時間額 | AA26: =IF(AE26<=0,"非該当",IF(AF26<=0,"非該当","該当")) -> 非該当 | AE26: =W26-U26 -> -95 | AF26: =Y26-$W$40 -> -1253
C27: 引上げ額 | E27: 引上げ額 | G27: 時間額 | J27: {=IFERROR(IF(MIN(_xlfn._xlws.FILTER($H$22:$H$31-$F$22:$F$31,($H$22:$H$31<>"")*($F$22:$F$31<>"")))<$F$39,IF(AND(N27>0,O27>=0,F27>=CHOOSE($F$32,50,70,90),H27-F27>=1177,H27-F27<MIN(_xlfn._xlws.FILTER($H$22:$H$31,$H$22:$H$31<>""))),"該当","非該当"),"非該当"),"非該当")} -> 非該当 | N27: =F27-D27 -> 0 | O27: =H27-$F$40 -> -1256 | T27: 引上げ額 | V27: 引上げ額 | X27: 時間額 | AA27: =IF(AE27<=0,"非該当",IF(AF27<=0,"非該当","該当")) -> 非該当 | AE27: =W27-U27 -> 0 | AF27: =Y27-$W$40 -> -1253
C28: 引上げ額 | E28: 引上げ額 | G28: 時間額 | J28: {=IFERROR(IF(MIN(_xlfn._xlws.FILTER($H$22:$H$31-$F$22:$F$31,($H$22:$H$31<>"")*($F$22:$F$31<>"")))<$F$39,IF(AND(N28>0,O28>=0,F28>=CHOOSE($F$32,50,70,90),H28-F28>=1177,H28-F28<MIN(_xlfn._xlws.FILTER($H$22:$H$31,$H$22:$H$31<>""))),"該当","非該当"),"非該当"),"非該当")} -> 非該当 | N28: =F28-D28 -> 0 | O28: =H28-$F$40 -> -1256 | T28: 引上げ額 | V28: 引上げ額 | X28: 時間額 | AA28: =IF(AE28<=0,"非該当",IF(AF28<=0,"非該当","該当")) -> 非該当 | AE28: =W28-U28 -> 0 | AF28: =Y28-$W$40 -> -1253
C29: 引上げ額 | E29: 引上げ額 | G29: 時間額 | J29: {=IFERROR(IF(MIN(_xlfn._xlws.FILTER($H$22:$H$31-$F$22:$F$31,($H$22:$H$31<>"")*($F$22:$F$31<>"")))<$F$39,IF(AND(N29>0,O29>=0,F29>=CHOOSE($F$32,50,70,90),H29-F29>=1177,H29-F29<MIN(_xlfn._xlws.FILTER($H$22:$H$31,$H$22:$H$31<>""))),"該当","非該当"),"非該当"),"非該当")} -> 非該当 | N29: =F29-D29 -> 0 | O29: =H29-$F$40 -> -1256 | T29: 引上げ額 | V29: 引上げ額 | X29: 時間額 | AA29: =IF(AE29<=0,"非該当",IF(AF29<=0,"非該当","該当")) -> 非該当 | AE29: =W29-U29 -> 0 | AF29: =Y29-$W$40 -> -1253
C30: 引上げ額 | E30: 引上げ額 | G30: 時間額 | J30: {=IFERROR(IF(MIN(_xlfn._xlws.FILTER($H$22:$H$31-$F$22:$F$31,($H$22:$H$31<>"")*($F$22:$F$31<>"")))<$F$39,IF(AND(N30>0,O30>=0,F30>=CHOOSE($F$32,50,70,90),H30-F30>=1177,H30-F30<MIN(_xlfn._xlws.FILTER($H$22:$H$31,$H$22:$H$31<>""))),"該当","非該当"),"非該当"),"非該当")} -> 非該当 | N30: =F30-D30 -> 0 | O30: =H30-$F$40 -> -1256 | T30: 引上げ額 | V30: 引上げ額 | X30: 時間額 | AA30: =IF(AE30<=0,"非該当",IF(AF30<=0,"非該当","該当")) -> 非該当 | AE30: =W30-U30 -> 0 | AF30: =Y30-$W$40 -> -1253
C31: 引上げ額 | E31: 引上げ額 | G31: 時間額 | J31: {=IFERROR(IF(MIN(_xlfn._xlws.FILTER($H$22:$H$31-$F$22:$F$31,($H$22:$H$31<>"")*($F$22:$F$31<>"")))<$F$39,IF(AND(N31>0,O31>=0,F31>=CHOOSE($F$32,50,70,90),H31-F31>=1177,H31-F31<MIN(_xlfn._xlws.FILTER($H$22:$H$31,$H$22:$H$31<>""))),"該当","非該当"),"非該当"),"非該当")} -> 非該当 | N31: =F31-D31 -> 0 | O31: =H31-$F$40 -> -1256 | T31: 引上げ額 | V31: 引上げ額 | X31: 時間額 | AA31: =IF(AE31<=0,"非該当",IF(AF31<=0,"非該当","該当")) -> 非該当 | AE31: =W31-U31 -> 0 | AF31: =Y31-$W$40 -> -1253
F32: 2
I33: 該当人数 計 | J33: =COUNTIF($J$22:$J$31,"該当") -> 0 | K33: a | Z33: 該当人数 計 | AA33: =COUNTIF($J$22:$J$31,"該当") -> 0 | AB33: a
I34: 別紙 計 | J34: =賃金引上げチェックリスト_別紙!J105 -> 0 | K34: b | Z34: 別紙 計 | AA34: =賃金引上げチェックリスト_別紙!AA105 -> 0 | AB34: b
I35: 該当人数 計 | J35: =SUM(J33:J34) -> 0 | K35: c=a+b | Z35: 該当人数 計 | AA35: =SUM(AA33:AA34) -> 0 | AB35: c=a+b | AC35: ←『該当』の場合、大阪府補助金の要件を満たしています。
AC36: 『非該当』の場合、大阪府補助金の要件を満たしていません。
B37: 【参考】 | F37: （単位：円） | N37: R7最賃④ | O37: ④-① | S37: 【参考】 | W37: （単位：円） | AC37: 『該当』の人数が、様式第１号 府補助金要綱第２条第３号及び 第４号をともに満たす労働者数（※） に転記されます
B38: 令和7年度事業場内最低賃金 | G38: ① | N38: 1177 | O38: =F38-N38 -> -1177 | S38: 令和7年度最低賃金 | W38: 1177 | X38: ①
B39: 令和8年度大阪府最低賃金 | F39: 1231 | G39: ② | S39: 令和8年度最低賃金 | W39: 1227 | X39: ② | Z39: ←令和８年度大阪府最低賃金を入力してください。
B40: 令和8年度最低賃金を2％上回る額 | F40: =ROUNDUP(F39*102%,0) -> 1256 | G40: ③＝②×102％ | O40: ②-① | S40: 令和8年度最低賃金を2％上回る額 | W40: =ROUND(W39*102%,0)+1 -> 1253 | X40: ③＝②×102％
O41: =F39-F38 -> 1231

Sheet 賃金引上げチェックリスト_別紙
B1: 別紙
B2: 【チェックリスト】 | H2: （単位：円）
B3: 氏名 | C3: （１） 大阪労働局へ提出した 計画に記載の引上げ額 | E3: （２） 賃金（時間額） の引上げ額 | G3: （３） 引上げ後の賃金 （時間額） | J3: （４） 大阪府の 支給要件
C4: 引上げ額 | E4: 引上げ額 | G4: 時間額 | J4: {=IFERROR(IF(MIN(_xlfn._xlws.FILTER($H$4:$H$103-$F$4:$F$103,($H$4:$H$103<>"")*($F$4:$F$103<>"")))<$F$109,IF(AND(M4>0,N4>=0,F4>=CHOOSE(賃金引上げチェックリスト!$F$32,50,70,90),H4-F4>=1177,H4-F4<MIN(_xlfn._xlws.FILTER($H$4:$H$103,$H$4:$H$103<>""))),"該当","非該当"),"非該当"),"非該当")} -> 非該当 | M4: =F4-D4 -> 0 | N4: =H4-$F$110 -> -1256
C5: 引上げ額 | E5: 引上げ額 | G5: 時間額 | J5: {=IFERROR(IF(MIN(_xlfn._xlws.FILTER($H$4:$H$103-$F$4:$F$103,($H$4:$H$103<>"")*($F$4:$F$103<>"")))<$F$109,IF(AND(M5>0,N5>=0,F5>=CHOOSE(賃金引上げチェックリスト!$F$32,50,70,90),H5-F5>=1177,H5-F5<MIN(_xlfn._xlws.FILTER($H$4:$H$103,$H$4:$H$103<>""))),"該当","非該当"),"非該当"),"非該当")} -> 非該当 | M5: =F5-D5 -> 0 | N5: =H5-$F$110 -> -1256
C6: 引上げ額 | E6: 引上げ額 | G6: 時間額 | J6: {=IFERROR(IF(MIN(_xlfn._xlws.FILTER($H$4:$H$103-$F$4:$F$103,($H$4:$H$103<>"")*($F$4:$F$103<>"")))<$F$109,IF(AND(M6>0,N6>=0,F6>=CHOOSE(賃金引上げチェックリスト!$F$32,50,70,90),H6-F6>=1177,H6-F6<MIN(_xlfn._xlws.FILTER($H$4:$H$103,$H$4:$H$103<>""))),"該当","非該当"),"非該当"),"非該当")} -> 非該当 | M6: =F6-D6 -> 0 | N6: =H6-$F$110 -> -1256
C7: 引上げ額 | E7: 引上げ額 | G7: 時間額 | J7: {=IFERROR(IF(MIN(_xlfn._xlws.FILTER($H$4:$H$103-$F$4:$F$103,($H$4:$H$103<>"")*($F$4:$F$103<>"")))<$F$109,IF(AND(M7>0,N7>=0,F7>=CHOOSE(賃金引上げチェックリスト!$F$32,50,70,90),H7-F7>=1177,H7-F7<MIN(_xlfn._xlws.FILTER($H$4:$H$103,$H$4:$H$103<>""))),"該当","非該当"),"非該当"),"非該当")} -> 非該当 | M7: =F7-D7 -> 0 | N7: =H7-$F$110 -> -1256
C8: 引上げ額 | E8: 引上げ額 | G8: 時間額 | J8: {=IFERROR(IF(MIN(_xlfn._xlws.FILTER($H$4:$H$103-$F$4:$F$103,($H$4:$H$103<>"")*($F$4:$F$103<>"")))<$F$109,IF(AND(M8>0,N8>=0,F8>=CHOOSE(賃金引上げチェックリスト!$F$32,50,70,90),H8-F8>=1177,H8-F8<MIN(_xlfn._xlws.FILTER($H$4:$H$103,$H$4:$H$103<>""))),"該当","非該当"),"非該当"),"非該当")} -> 非該当 | M8: =F8-D8 -> 0 | N8: =H8-$F$110 -> -1256
C9: 引上げ額 | E9: 引上げ額 | G9: 時間額 | J9: {=IFERROR(IF(MIN(_xlfn._xlws.FILTER($H$4:$H$103-$F$4:$F$103,($H$4:$H$103<>"")*($F$4:$F$103<>"")))<$F$109,IF(AND(M9>0,N9>=0,F9>=CHOOSE(賃金引上げチェックリスト!$F$32,50,70,90),H9-F9>=1177,H9-F9<MIN(_xlfn._xlws.FILTER($H$4:$H$103,$H$4:$H$103<>""))),"該当","非該当"),"非該当"),"非該当")} -> 非該当 | M9: =F9-D9 -> 0 | N9: =H9-$F$110 -> -1256
C10: 引上げ額 | E10: 引上げ額 | G10: 時間額 | J10: {=IFERROR(IF(MIN(_xlfn._xlws.FILTER($H$4:$H$103-$F$4:$F$103,($H$4:$H$103<>"")*($F$4:$F$103<>"")))<$F$109,IF(AND(M10>0,N10>=0,F10>=CHOOSE(賃金引上げチェックリスト!$F$32,50,70,90),H10-F10>=1177,H10-F10<MIN(_xlfn._xlws.FILTER($H$4:$H$103,$H$4:$H$103<>""))),"該当","非該当"),"非該当"),"非該当")} -> 非該当 | M10: =F10-D10 -> 0 | N10: =H10-$F$110 -> -1256
C11: 引上げ額 | E11: 引上げ額 | G11: 時間額 | J11: {=IFERROR(IF(MIN(_xlfn._xlws.FILTER($H$4:$H$103-$F$4:$F$103,($H$4:$H$103<>"")*($F$4:$F$103<>"")))<$F$109,IF(AND(M11>0,N11>=0,F11>=CHOOSE(賃金引上げチェックリスト!$F$32,50,70,90),H11-F11>=1177,H11-F11<MIN(_xlfn._xlws.FILTER($H$4:$H$103,$H$4:$H$103<>""))),"該当","非該当"),"非該当"),"非該当")} -> 非該当 | M11: =F11-D11 -> 0 | N11: =H11-$F$110 -> -1256
C12: 引上げ額 | E12: 引上げ額 | G12: 時間額 | J12: {=IFERROR(IF(MIN(_xlfn._xlws.FILTER($H$4:$H$103-$F$4:$F$103,($H$4:$H$103<>"")*($F$4:$F$103<>"")))<$F$109,IF(AND(M12>0,N12>=0,F12>=CHOOSE(賃金引上げチェックリスト!$F$32,50,70,90),H12-F12>=1177,H12-F12<MIN(_xlfn._xlws.FILTER($H$4:$H$103,$H$4:$H$103<>""))),"該当","非該当"),"非該当"),"非該当")} -> 非該当 | M12: =F12-D12 -> 0 | N12: =H12-$F$110 -> -1256
C13: 引上げ額 | E13: 引上げ額 | G13: 時間額 | J13: {=IFERROR(IF(MIN(_xlfn._xlws.FILTER($H$4:$H$103-$F$4:$F$103,($H$4:$H$103<>"")*($F$4:$F$103<>"")))<$F$109,IF(AND(M13>0,N13>=0,F13>=CHOOSE(賃金引上げチェックリスト!$F$32,50,70,90),H13-F13>=1177,H13-F13<MIN(_xlfn._xlws.FILTER($H$4:$H$103,$H$4:$H$103<>""))),"該当","非該当"),"非該当"),"非該当")} -> 非該当 | M13: =F13-D13 -> 0 | N13: =H13-$F$110 -> -1256
C14: 引上げ額 | E14: 引上げ額 | G14: 時間額 | J14: {=IFERROR(IF(MIN(_xlfn._xlws.FILTER($H$4:$H$103-$F$4:$F$103,($H$4:$H$103<>"")*($F$4:$F$103<>"")))<$F$109,IF(AND(M14>0,N14>=0,F14>=CHOOSE(賃金引上げチェックリスト!$F$32,50,70,90),H14-F14>=1177,H14-F14<MIN(_xlfn._xlws.FILTER($H$4:$H$103,$H$4:$H$103<>""))),"該当","非該当"),"非該当"),"非該当")} -> 非該当 | M14: =F14-D14 -> 0 | N14: =H14-$F$110 -> -1256
C15: 引上げ額 | E15: 引上げ額 | G15: 時間額 | J15: {=IFERROR(IF(MIN(_xlfn._xlws.FILTER($H$4:$H$103-$F$4:$F$103,($H$4:$H$103<>"")*($F$4:$F$103<>"")))<$F$109,IF(AND(M15>0,N15>=0,F15>=CHOOSE(賃金引上げチェックリスト!$F$32,50,70,90),H15-F15>=1177,H15-F15<MIN(_xlfn._xlws.FILTER($H$4:$H$103,$H$4:$H$103<>""))),"該当","非該当"),"非該当"),"非該当")} -> 非該当 | M15: =F15-D15 -> 0 | N15: =H15-$F$110 -> -1256
... C103: 引上げ額 | E103: 引上げ額 | G103: 時間額 | J103: {=IFERROR(IF(MIN(_xlfn._xlws.FILTER($H$4:$H$103-$F$4:$F$103,($H$4:$H$103<>"")*($F$4:$F$103<>"")))<$F$109,IF(AND(M103>0,N103>=0,F103>=CHOOSE(賃金引上げチェックリスト!$F$32,50,70,90),H103-F103>=1177,H103-F103<MIN(_xlfn._xlws.FILTER($H$4:$H$103,$H$4:$H$103<>""))),"該当","非該当"),"非該当"),"非該当")} -> 非該当 | M103: =F103-D103 -> 0 | N103: =H103-$F$110 -> -1256
I105: 該当人数 計 | J105: =COUNTIF($J$4:$J$103,"該当") -> 0
B107: 【参考】 | F107: （単位：円）
B108: 令和7年度最低賃金 | F108: =賃金引上げチェックリスト!$F$38 -> 0 | G108: ①
B109: 令和8年度最低賃金 | F109: =賃金引上げチェックリスト!$F$39 -> 1231 | G109: ②
B110: 令和8年度最低賃金を2％上回る額 | F110: =賃金引上げチェックリスト!$F$40 -> 1256 | G110: ③＝②×102％

Sheet 記入例
B2: 賃金引上げ計画 チェックリスト
B4: 【手順】
B5: １．（１）、（２）、（３）の黄色セルに、該当する金額を入力してください。
B6: 対象者が10名を超える場合は、別紙に記載してください。
B7: ２．（４）に『該当』、『非該当』が表示されます。
B8: 『該当』の場合、大阪府補助金の要件を満たしています。
B9: 『非該当』の場合、大阪府補助金の要件を満たしていません。
B11: 【項目の説明】
B12: （１） 大阪労働局へ提出した国助成金様式１号別紙２事業実施計画書３イ⑤に記載の引上げ額
B13: （２） 補助金交付要綱第２条第１項第３号に基づく引上げ額
B14: ※（１）を上回る引上げ額であること
B15: （３） 補助金交付要綱第２条第１項第４号に基づく賃上げ後の時間額
... B18: 両方またはどちらか要件を満たさない場合は『非該当』
N19: 【計算用】両方プラスであれば該当
B20: 【チェックリスト】 | H20: （単位：円）
B21: 氏名 | C21: （１） 大阪労働局へ提出した 計画に記載の引上げ額 | E21: （２） 賃金（時間額） の引上げ額 | G21: （３） 引上げ後の賃金 （時間額） | J21: （４） 大阪府の 支給要件 | N21: (2)-(1) | O21: (3)-③
B22: 大阪太郎 | C22: 引上げ額 | D22: 75 | E22: 引上げ額 | F22: 80 | G22: 時間額 | H22: 1255 | J22: =IF(N22<=0,"非該当",IF(O22<=0,"非該当","該当")) -> 該当 | N22: =F22-D22 -> 5 | O22: =H22-$F$40 -> 2
B23: 大阪花子 | C23: 引上げ額 | D23: 75 | E23: 引上げ額 | F23: 80 | G23: 時間額 | H23: 1253 | J23: =IF(N23<=0,"非該当",IF(O23<=0,"非該当","該当")) -> 非該当 | N23: =F23-D23 -> 5 | O23: =H23-$F$40 -> 0
B24: 大阪一郎 | C24: 引上げ額 | D24: 75 | E24: 引上げ額 | F24: 75 | G24: 時間額 | H24: 1255 | J24: =IF(N24<=0,"非該当",IF(O24<=0,"非該当","該当")) -> 非該当 | N24: =F24-D24 -> 0 | O24: =H24-$F$40 -> 2
B25: 大阪二郎 | C25: 引上げ額 | D25: 51 | E25: 引上げ額 | F25: 52 | G25: 時間額 | H25: 1252 | J25: =IF(N25<=0,"非該当",IF(O25<=0,"非該当","該当")) -> 非該当 | N25: =F25-D25 -> 1 | O25: =H25-$F$40 -> -1
B26: 大阪三郎 | C26: 引上げ額 | D26: 95 | E26: 引上げ額 | G26: 時間額 | J26: =IF(N26<=0,"非該当",IF(O26<=0,"非該当","該当")) -> 非該当 | N26: =F26-D26 -> -95 | O26: =H26-$F$40 -> -1253
C27: 引上げ額 | E27: 引上げ額 | G27: 時間額 | J27: =IF(N27<=0,"非該当",IF(O27<=0,"非該当","該当")) -> 非該当 | N27: =F27-D27 -> 0 | O27: =H27-$F$40 -> -1253
C28: 引上げ額 | E28: 引上げ額 | G28: 時間額 | J28: =IF(N28<=0,"非該当",IF(O28<=0,"非該当","該当")) -> 非該当 | N28: =F28-D28 -> 0 | O28: =H28-$F$40 -> -1253
C29: 引上げ額 | E29: 引上げ額 | G29: 時間額 | J29: =IF(N29<=0,"非該当",IF(O29<=0,"非該当","該当")) -> 非該当 | N29: =F29-D29 -> 0 | O29: =H29-$F$40 -> -1253
C30: 引上げ額 | E30: 引上げ額 | G30: 時間額 | J30: =IF(N30<=0,"非該当",IF(O30<=0,"非該当","該当")) -> 非該当 | N30: =F30-D30 -> 0 | O30: =H30-$F$40 -> -1253
C31: 引上げ額 | E31: 引上げ額 | G31: 時間額 | J31: =IF(N31<=0,"非該当",IF(O31<=0,"非該当","該当")) -> 非該当 | N31: =F31-D31 -> 0 | O31: =H31-$F$40 -> -1253
I33: 該当人数 計 | J33: =COUNTIF($J$22:$J$31,"該当") -> 1 | K33: a
I34: 別紙 計 | J34: =賃金引上げチェックリスト_別紙!J105 -> 0 | K34: b
I35: 該当人数 計 | J35: =SUM(J33:J34) -> 1 | K35: c=a+b
B37: 【参考】 | F37: （単位：円）
B38: 令和7年度最低賃金 | F38: 1177 | G38: ①
B39: 令和8年度最低賃金 | F39: 1227 | G39: ②
B40: 令和8年度最低賃金を2％上回る額 | F40: =ROUND(F39*102%,0)+1 -> 1253 | G40: ③＝②×102％
