Workbook

Sheet 総括表
B1: 令和6年度 財政状況資料集
B2: 総括表（市町村）
B3: 都道府県名 | L3: 大阪府 | W3: 市町村類型 | AC3: Ⅱ－３ | AM3: 指定団体等の指定状況 | AY3: 区分 | BN3: 令和6年度(千円) | BV3: 令和5年度(千円) | CD3: 区分 | CT3: 令和6年度(千円･％) | DB3: 令和5年度(千円･％)
AY4: 歳入総額 | BN4: 25180662 | BV4: 23847213 | CD4: 実質収支比率 | CT4: 1.3 | DB4: 3
AM5: 財政健全化等 | AU5: × | AY5: 歳出総額 | BN5: 24784877 | BV5: 23366261 | CD5: 経常収支比率 | CT5: 97.8 | DB5: 99.3
B6: 市町村名 | L6: 四條畷市 | W6: 地方交付税種地 | AC6: 2-8 | AM6: 財源超過 | AU6: × | AY6: 歳入歳出差引 | BN6: 395785 | BV6: 480952 | CD6: (※1) | CT6: 98.2 | DB6: 99.3
AM7: 首都 | AU7: × | AY7: 翌年度に繰越すべき財源 | BN7: 232219 | BV7: 92947 | CD7: 標準財政規模 | CT7: 12996296 | DB7: 12875867
AM8: 近畿 | AU8: ○ | AY8: 実質収支 | BN8: 163566 | BV8: 388005 | CD8: 財政力指数 | CT8: 0.57 | DB8: 0.57
B9: 人口 | L9: 令和2年国調(人) | R9: 55177 | W9: 産業構造 (※5) | AM9: 中部 | AU9: × | AY9: 単年度収支 | BN9: -224439 | BV9: -243144 | CD9: 公債費負担比率 | CT9: 8.7 | DB9: 8.9
L10: 平成27年国調(人) | R10: 56075 | AM10: 過疎 | AU10: × | AY10: 積立金 | BN10: 226242 | BV10: 397183 | CD10: 健全化判断比率
L11: 増減率 (％) | R11: -1.6 | AM11: 山振 | AU11: × | AY11: 繰上償還金 | BN11: 0 | BV11: 0 | CD11: 実質赤字比率 | CT11: - | DB11: -
B12: 住民基本台帳人口 (※7) | L12: 令07.01.01(人) | R12: 53749 | W12: 区分 | AC12: 令和2年国調 | AH12: 平成27年国調 | AM12: 低開発 | AU12: × | AY12: 積立金取崩し額 | BN12: 580000 | BV12: 0 | CD12: 連結実質赤字比率 | CT12: - | DB12: -
M13: うち日本人(人) | R13: 52971 | W13: 第1次 | AC13: 120 | AH13: 141 | AM13: 指数表選定 | AU13: ○ | AY13: 実質単年度収支 | BN13: -578197 | BV13: 154039 | CD13: 実質公債費比率 | CT13: 3.2 | DB13: 3.5
L14: 令06.01.01(人) | R14: 54355 | AC14: 0.5 | AH14: 0.6 | CD14: 将来負担比率 | CT14: - | DB14: -
M15: うち日本人(人) | R15: 53641 | W15: 第2次 | AC15: 6098 | AH15: 6329 | AY15: 基準財政収入額 | BN15: 6393824 | BV15: 6347663 | CD15: 資金不足比率 (※4)
L16: 増減率 (％) | R16: -1.1 | AC16: 26.2 | AH16: 28 | AY16: 基準財政需要額 | BN16: 11250840 | BV16: 11077704
M17: うち日本人(％) | R17: -1.2 | W17: 第3次 | AC17: 17013 | AH17: 16114 | AY17: 標準税収入額等 | BN17: 8088597 | BV17: 8024602
B18: 面積 (k㎡) | L18: 18.69 | AC18: 73.2 | AH18: 71.4 | AY18: 経常経費充当一般財源等 | BN18: 13121505 | BV18: 12959400
B19: 人口密度 (人/k㎡) | L19: 2952 | AY19: 歳入一般財源等 | BN19: 15958092 | BV19: 16092661
B20: 世帯数 (世帯) | L20: 22415
B21: 職員の状況 (※8)
B22: 特別職等 | E22: 区分 | L22: 定数 | Q22: 1人あたり平均 給料月額(百円) | W22: 一般職員等(※6) | Z22: 区分 | AH22: 職員数 (人) | AM22: 給料月額 (百円) | AS22: 1人あたり平均 給料月額(百円) | AY22: 地方債現在高 | BN22: 12120881 | BV22: 12549644
AY23: うち公的資金 | BN23: 9797238 | BV23: 9891717
E24: 市区町村長 | L24: 1 | Q24: 8800 | Z24: 一般職員 | AH24: 318 | AM24: 962586 | AS24: 3027 | AY24: 地方債現在高（臨時財政対策債除き） | BN24: 5506523 | BV24: 5158768
E25: 副市区町村長 | L25: 1 | Q25: 7400 | Z25: うち消防職員 | AH25: - | AM25: - | AS25: - | AY25: 債務負担行為額（支出予定額） | BN25: 2786540 | BV25: 2304421
E26: 教育長 | L26: 1 | Q26: 6600 | Z26: うち技能労務職員 | AH26: 8 | AM26: 24272 | AS26: 3034 | AY26: 収益事業収入 | BN26: - | BV26: -
E27: 議会議長 | L27: 1 | Q27: 5600 | Z27: 教育公務員 | AH27: 15 | AM27: 53772 | AS27: 3585 | AY27: 土地開発基金現在高 | BN27: - | BV27: -
E28: 議会副議長 | L28: 1 | Q28: 5000 | Z28: 臨時職員 | AH28: - | AM28: - | AS28: - | AY28: 積立金 現在高 | BC28: 財政調整基金 | BN28: 2518057 | BV28: 2871815
E29: 議会議員 | L29: 10 | Q29: 4700 | Z29: 合計 | AH29: 333 | AM29: 1016358 | AS29: 3052 | BC29: 減債基金 | BN29: 51343 | BV29: 51317
W30: ラスパイレス指数 | AH30: 96 | BC30: その他特定目的基金 | BN30: 4109954 | BV30: 4169538
C32: 一般会計等の一覧 | U32: 事業会計の一覧 | AM32: 公営企業（法適）の一覧 | BE32: 公営企業（法非適）の一覧 | BW32: 関係する一部事務組合等一覧 | CO32: 地方公社・第三セクター等一覧
C33: 項番 | E33: 会計名 | U33: 項番 | W33: 会計名 | AM33: 項番 | AO33: 会計名 | BE33: 項番 | BG33: 会計名 | BW33: 項番 | BY33: 組合等名 | CO33: 項番 | CQ33: 団体名 | DG33: (※3)
C34: =IF(E34="","",1) -> 1 | E34: =IF('各会計、関係団体の財政状況及び健全化判断比率'!B7="","",'各会計、関係団体の財政状況及び健全化判断比率'!B7) -> 一般会計 | U34: =IF(W34="","",MAX(C34:D43)+1) -> 3 | W34: =IF('各会計、関係団体の財政状況及び健全化判断比率'!B28="","",'各会計、関係団体の財政状況及び健全化判断比率'!B28) -> 国民健康保険特別会計 | AM34: =IF(AO34="","",MAX(C34:D43,U34:V43)+1) -> 6 | AO34: =IF('各会計、関係団体の財政状況及び健全化判断比率'!B31="","",'各会計、関係団体の財政状況及び健全化判断比率'!B31) -> 下水道事業会計 | BE34: =IF(BG34="","",MAX(C34:D43,U34:V43,AM34:AN43)+1) | BW34: =IF(BY34="","",MAX(C34:D43,U34:V43,AM34:AN43,BE34:BF43)+1) -> 7 | BY34: =IF('各会計、関係団体の財政状況及び健全化判断比率'!B68="","",'各会計、関係団体の財政状況及び健全化判断比率'!B68) -> 淀川左岸水防事務組合 | CO34: =IF(CQ34="","",MAX(C34:D43,U34:V43,AM34:AN43,BE34:BF43,BW34:BX43)+1) | CQ34: =IF('各会計、関係団体の財政状況及び健全化判断比率'!BS7="","",'各会計、関係団体の財政状況及び健全化判断比率'!BS7) | DG34: =IF('各会計、関係団体の財政状況及び健全化判断比率'!BR7="","",'各会計、関係団体の財政状況及び健全化判断比率'!BR7)
C35: =IF(E35="","",C34+1) -> 2 | E35: =IF('各会計、関係団体の財政状況及び健全化判断比率'!B8="","",'各会計、関係団体の財政状況及び健全化判断比率'!B8) -> 土地取得特別会計 | U35: =IF(W35="","",U34+1) -> 4 | W35: =IF('各会計、関係団体の財政状況及び健全化判断比率'!B29="","",'各会計、関係団体の財政状況及び健全化判断比率'!B29) -> 介護保険特別会計 | AM35: =IF(AO35="","",AM34+1) | BE35: =IF(BG35="","",BE34+1) | BW35: =IF(BY35="","",BW34+1) -> 8 | BY35: =IF('各会計、関係団体の財政状況及び健全化判断比率'!B69="","",'各会計、関係団体の財政状況及び健全化判断比率'!B69) -> 飯盛霊園組合（一般会計） | CO35: =IF(CQ35="","",CO34+1) | CQ35: =IF('各会計、関係団体の財政状況及び健全化判断比率'!BS8="","",'各会計、関係団体の財政状況及び健全化判断比率'!BS8) | DG35: =IF('各会計、関係団体の財政状況及び健全化判断比率'!BR8="","",'各会計、関係団体の財政状況及び健全化判断比率'!BR8)
C36: =IF(E36="","",C35+1) | E36: =IF('各会計、関係団体の財政状況及び健全化判断比率'!B9="","",'各会計、関係団体の財政状況及び健全化判断比率'!B9) | U36: =IF(W36="","",U35+1) -> 5 | W36: =IF('各会計、関係団体の財政状況及び健全化判断比率'!B30="","",'各会計、関係団体の財政状況及び健全化判断比率'!B30) -> 後期高齢者医療特別会計 | AM36: =IF(AO36="","",AM35+1) | BE36: =IF(BG36="","",BE35+1) | BW36: =IF(BY36="","",BW35+1) -> 9 | BY36: =IF('各会計、関係団体の財政状況及び健全化判断比率'!B70="","",'各会計、関係団体の財政状況及び健全化判断比率'!B70) -> 飯盛霊園組合（霊園事業特別会計） | CO36: =IF(CQ36="","",CO35+1) | CQ36: =IF('各会計、関係団体の財政状況及び健全化判断比率'!BS9="","",'各会計、関係団体の財政状況及び健全化判断比率'!BS9) | DG36: =IF('各会計、関係団体の財政状況及び健全化判断比率'!BR9="","",'各会計、関係団体の財政状況及び健全化判断比率'!BR9)
C37: =IF(E37="","",C36+1) | E37: =IF('各会計、関係団体の財政状況及び健全化判断比率'!B10="","",'各会計、関係団体の財政状況及び健全化判断比率'!B10) | U37: =IF(W37="","",U36+1) | AM37: =IF(AO37="","",AM36+1) | BE37: =IF(BG37="","",BE36+1) | BW37: =IF(BY37="","",BW36+1) -> 10 | BY37: =IF('各会計、関係団体の財政状況及び健全化判断比率'!B71="","",'各会計、関係団体の財政状況及び健全化判断比率'!B71) -> 四條畷市交野市清掃施設組合 | CO37: =IF(CQ37="","",CO36+1) | CQ37: =IF('各会計、関係団体の財政状況及び健全化判断比率'!BS10="","",'各会計、関係団体の財政状況及び健全化判断比率'!BS10) | DG37: =IF('各会計、関係団体の財政状況及び健全化判断比率'!BR10="","",'各会計、関係団体の財政状況及び健全化判断比率'!BR10)
C38: =IF(E38="","",C37+1) | E38: =IF('各会計、関係団体の財政状況及び健全化判断比率'!B11="","",'各会計、関係団体の財政状況及び健全化判断比率'!B11) | U38: =IF(W38="","",U37+1) | AM38: =IF(AO38="","",AM37+1) | BE38: =IF(BG38="","",BE37+1) | BW38: =IF(BY38="","",BW37+1) -> 11 | BY38: =IF('各会計、関係団体の財政状況及び健全化判断比率'!B72="","",'各会計、関係団体の財政状況及び健全化判断比率'!B72) -> 北河内4市リサイクル施設組合 | CO38: =IF(CQ38="","",CO37+1) | CQ38: =IF('各会計、関係団体の財政状況及び健全化判断比率'!BS11="","",'各会計、関係団体の財政状況及び健全化判断比率'!BS11) | DG38: =IF('各会計、関係団体の財政状況及び健全化判断比率'!BR11="","",'各会計、関係団体の財政状況及び健全化判断比率'!BR11)
C39: =IF(E39="","",C38+1) | E39: =IF('各会計、関係団体の財政状況及び健全化判断比率'!B12="","",'各会計、関係団体の財政状況及び健全化判断比率'!B12) | U39: =IF(W39="","",U38+1) | AM39: =IF(AO39="","",AM38+1) | BE39: =IF(BG39="","",BE38+1) | BW39: =IF(BY39="","",BW38+1) -> 12 | BY39: =IF('各会計、関係団体の財政状況及び健全化判断比率'!B73="","",'各会計、関係団体の財政状況及び健全化判断比率'!B73) -> 大阪府後期高齢者医療広域連合（一般会計） | CO39: =IF(CQ39="","",CO38+1) | CQ39: =IF('各会計、関係団体の財政状況及び健全化判断比率'!BS12="","",'各会計、関係団体の財政状況及び健全化判断比率'!BS12) | DG39: =IF('各会計、関係団体の財政状況及び健全化判断比率'!BR12="","",'各会計、関係団体の財政状況及び健全化判断比率'!BR12)
C40: =IF(E40="","",C39+1) | E40: =IF('各会計、関係団体の財政状況及び健全化判断比率'!B13="","",'各会計、関係団体の財政状況及び健全化判断比率'!B13) | U40: =IF(W40="","",U39+1) | AM40: =IF(AO40="","",AM39+1) | BE40: =IF(BG40="","",BE39+1) | BW40: =IF(BY40="","",BW39+1) -> 13 | BY40: =IF('各会計、関係団体の財政状況及び健全化判断比率'!B74="","",'各会計、関係団体の財政状況及び健全化判断比率'!B74) -> 大阪府後期高齢者医療広域連合（後期高齢者医療特別会計） | CO40: =IF(CQ40="","",CO39+1) | CQ40: =IF('各会計、関係団体の財政状況及び健全化判断比率'!BS13="","",'各会計、関係団体の財政状況及び健全化判断比率'!BS13) | DG40: =IF('各会計、関係団体の財政状況及び健全化判断比率'!BR13="","",'各会計、関係団体の財政状況及び健全化判断比率'!BR13)
C41: =IF(E41="","",C40+1) | E41: =IF('各会計、関係団体の財政状況及び健全化判断比率'!B14="","",'各会計、関係団体の財政状況及び健全化判断比率'!B14) | U41: =IF(W41="","",U40+1) | AM41: =IF(AO41="","",AM40+1) | BE41: =IF(BG41="","",BE40+1) | BW41: =IF(BY41="","",BW40+1) -> 14 | BY41: =IF('各会計、関係団体の財政状況及び健全化判断比率'!B75="","",'各会計、関係団体の財政状況及び健全化判断比率'!B75) -> 大阪広域水道企業団（水道事業会計） | CO41: =IF(CQ41="","",CO40+1) | CQ41: =IF('各会計、関係団体の財政状況及び健全化判断比率'!BS14="","",'各会計、関係団体の財政状況及び健全化判断比率'!BS14) | DG41: =IF('各会計、関係団体の財政状況及び健全化判断比率'!BR14="","",'各会計、関係団体の財政状況及び健全化判断比率'!BR14)
...

Sheet 普通会計の状況
DH1: 令和6年度 | DP1: 大阪府四條畷市
B2: (1) 普通会計の状況（市町村）
B3: 歳入の状況（単位 千円・％） | AP3: 地方税の状況（単位 千円・％） | CD3: 歳出の状況（単位 千円・％）
B4: 区分 | R4: 決算額 | Z4: 構成比 | AD4: 経常一般財源等 | AL4: 構成比 | AP4: 区分 | BG4: 収入済額 | BO4: 構成比 | BS4: 超過課税分 | CD4: 目的別歳出の状況（単位 千円・％）
B5: 地方税 | R5: 6897488 | Z5: 27.4 | AD5: 6322782 | AL5: 47.3 | AP5: 普通税 | BG5: 6321709 | BO5: 91.7 | BS5: 73548 | CD5: 区分 | CR5: 決算額 (A) | CZ5: 構成比 | DD5: (A)のうち普通建設事業費 | DQ5: (A)のうち充当一般財源等
B6: 地方譲与税 | R6: 105378 | Z6: 0.4 | AD6: 105378 | AL6: 0.8 | AP6: 法定普通税 | BG6: 6321709 | BO6: 91.7 | BS6: 73548 | CD6: 議会費 | CR6: 176832 | CZ6: 0.7 | DD6: 1493 | DQ6: 175392
B7: 利子割交付金 | R7: 8480 | Z7: 0 | AD7: 8480 | AL7: 0.1 | AP7: 市町村民税 | BG7: 3182736 | BO7: 46.1 | BS7: 73548 | CD7: 総務費 | CR7: 3351165 | CZ7: 13.5 | DD7: 15461 | DQ7: 2606917
B8: 配当割交付金 | R8: 94178 | Z8: 0.4 | AD8: 94178 | AL8: 0.7 | AP8: 個人均等割 | BG8: 81048 | BO8: 1.2 | BS8: - | CD8: 民生費 | CR8: 11508418 | CZ8: 46.4 | DD8: 21928 | DQ8: 5471967
B9: 株式等譲渡所得割交付金 | R9: 124058 | Z9: 0.5 | AD9: 124058 | AL9: 0.9 | AP9: 所得割 | BG9: 2784610 | BO9: 40.4 | BS9: - | CD9: 衛生費 | CR9: 2148372 | CZ9: 8.7 | DD9: 1198 | DQ9: 1763778
B10: 分離課税所得割交付金 | R10: - | Z10: - | AD10: - | AL10: - | AP10: 法人均等割 | BG10: 144694 | BO10: 2.1 | BS10: 23781 | CD10: 労働費 | CR10: 91137 | CZ10: 0.4 | DD10: - | DQ10: 81570
B11: 地方消費税交付金 | R11: 1284491 | Z11: 5.1 | AD11: 1284491 | AL11: 9.6 | AP11: 法人税割 | BG11: 172384 | BO11: 2.5 | BS11: 49767 | CD11: 農林水産業費 | CR11: 47790 | CZ11: 0.2 | DD11: 3978 | DQ11: 35784
B12: ゴルフ場利用税交付金 | R12: 29681 | Z12: 0.1 | AD12: 29681 | AL12: 0.2 | AP12: 固定資産税 | BG12: 2676556 | BO12: 38.8 | BS12: - | CD12: 商工費 | CR12: 62657 | CZ12: 0.3 | DD12: - | DQ12: 62441
B13: 自動車取得税交付金 | R13: - | Z13: - | AD13: - | AL13: - | AP13: うち純固定資産税 | BG13: 2660712 | BO13: 38.6 | BS13: - | CD13: 土木費 | CR13: 1957092 | CZ13: 7.9 | DD13: 790717 | DQ13: 1182420
B14: 軽油引取税交付金 | R14: - | Z14: - | AD14: - | AL14: - | AP14: 軽自動車税 | BG14: 105497 | BO14: 1.5 | BS14: - | CD14: 消防費 | CR14: 1505640 | CZ14: 6.1 | DD14: 702473 | DQ14: 806496
B15: 自動車税環境性能割交付金 | R15: 28674 | Z15: 0.1 | AD15: 28674 | AL15: 0.2 | AP15: 市町村たばこ税 | BG15: 356920 | BO15: 5.2 | BS15: - | CD15: 教育費 | CR15: 2543161 | CZ15: 10.3 | DD15: 328449 | DQ15: 1990782
B16: 法人事業税交付金 | R16: 128573 | Z16: 0.5 | AD16: 128573 | AL16: 1 | AP16: 鉱産税 | BG16: - | BO16: - | BS16: - | CD16: 災害復旧費 | CR16: - | CZ16: - | DD16: - | DQ16: -
B17: 地方特例交付金等 | R17: 305381 | Z17: 1.2 | AD17: 305381 | AL17: 2.3 | AP17: 特別土地保有税 | BG17: - | BO17: - | BS17: - | CD17: 公債費 | CR17: 1392613 | CZ17: 5.6 | DD17: - | DQ17: 1384760
B18: 住宅借入金等特別税額控除減収補塡特例交付金 | R18: 64315 | Z18: 0.3 | AD18: 64315 | AL18: 0.5 | AP18: 法定外普通税 | BG18: - | BO18: - | BS18: - | CD18: 諸支出金 | CR18: - | CZ18: - | DD18: - | DQ18: -
B19: 定額減税減収補塡特例交付金 | R19: 240538 | Z19: 1 | AD19: 240538 | AL19: 1.8 | AP19: 目的税 | BG19: 575779 | BO19: 8.3 | BS19: - | CD19: 前年度繰上充用金 | CR19: - | CZ19: - | DD19: - | DQ19: -
B20: 新型コロナウイルス感染症対策地方税減収補塡特別交付金 | R20: 528 | Z20: 0 | AD20: 528 | AL20: 0 | AP20: 法定目的税 | BG20: 575779 | BO20: 8.3 | BS20: - | CD20: 歳出合計 | CR20: 24784877 | CZ20: 100 | DD20: 1865697 | DQ20: 15562307
B21: 地方交付税 | R21: 5301710 | Z21: 21.1 | AD21: 4857016 | AL21: 36.3 | AP21: 入湯税 | BG21: 1073 | BO21: 0 | BS21: -
B22: 普通交付税 | R22: 4857016 | Z22: 19.3 | AD22: 4857016 | AL22: 36.3 | AP22: 事業所税 | BG22: - | BO22: - | BS22: - | CD22: 性質別歳出の状況（単位 千円・％）
B23: 特別交付税 | R23: 444694 | Z23: 1.8 | AD23: - | AL23: - | AP23: 都市計画税 | BG23: 574706 | BO23: 8.3 | BS23: - | CD23: 区分 | CR23: 決算額 | CZ23: 構成比 | DD23: 充当一般財源等 | DL23: 経常経費充当一般財源等 | DW23: 経常収支比率
B24: 震災復興特別交付税 | R24: - | Z24: - | AD24: - | AL24: - | AP24: 水利地益税等 | BG24: - | BO24: - | BS24: - | CD24: 義務的経費計 | CR24: 12780239 | CZ24: 51.6 | DD24: 7022647 | DL24: 6672314 | DW24: 49.7
B25: (一般財源計) | R25: 14308092 | Z25: 56.8 | AD25: 13288692 | AL25: 99.4 | AP25: 法定外目的税 | BG25: - | BO25: - | BS25: - | CD25: 人件費 | CR25: 3825264 | CZ25: 15.4 | DD25: 3295891 | DL25: 3134273 | DW25: 23.4
B26: 交通安全対策特別交付金 | R26: 5575 | Z26: 0 | AD26: 5575 | AL26: 0 | AP26: 旧法による税 | BG26: - | BO26: - | BS26: - | CD26: うち職員給 | CR26: 2349686 | CZ26: 9.5 | DD26: 2046512 | DL26: - | DW26: -
B27: 分担金・負担金 | R27: 313493 | Z27: 1.2 | AD27: - | AL27: - | AP27: 合計 | BG27: 6897488 | BO27: 100 | BS27: 73548 | CD27: 扶助費 | CR27: 7562362 | CZ27: 30.5 | DD27: 2341996 | DL27: 2153281 | DW27: 16
B28: 使用料 | R28: 150083 | Z28: 0.6 | AD28: 62989 | AL28: 0.5 | CD28: 公債費 | CR28: 1392613 | CZ28: 5.6 | DD28: 1384760 | DL28: 1384760 | DW28: 10.3
B29: 手数料 | R29: 60693 | Z29: 0.2 | AD29: - | AL29: - | CD29: 内訳 | CF29: 元利償還金 | CR29: 1391837 | CZ29: 5.6 | DD29: 1383984 | DL29: 1383984 | DW29: 10.3
B30: 国庫支出金 | R30: 5146263 | Z30: 20.4 | AD30: - | AL30: - | AP30: 区分 | BG30: 令和6年度 | BR30: 令和5年度 | CF30: うち元金 | CR30: 1350463 | CZ30: 5.4 | DD30: 1343788 | DL30: 1343788 | DW30: 10
B31: 国有提供交付金(特別区財調交付金) | R31: - | Z31: - | AD31: - | AL31: - | AP31: 徴収率 (％) | AT31: 現年 | AX31: 合計 | BG31: 99.5 | BM31: 98.7 | BR31: 99.5 | BX31: 98.6 | CF31: うち利子 | CR31: 41374 | CZ31: 0.2 | DD31: 40196 | DL31: 40196 | DW31: 0.3
B32: 都道府県支出金 | R32: 2685084 | Z32: 10.7 | AD32: - | AL32: - | AU32: ・計 | AX32: 市町村民税 | BG32: 99.3 | BM32: 98.4 | BR32: 99.3 | BX32: 98.2 | CF32: 一時借入金利子 | CR32: 776 | CZ32: 0 | DD32: 776 | DL32: 776 | DW32: 0
B33: 財産収入 | R33: 45184 | Z33: 0.2 | AD33: 10299 | AL33: 0.1 | AX33: 純固定資産税 | BG33: 99.7 | BM33: 98.9 | BR33: 99.7 | BX33: 99 | CD33: その他の経費 | CR33: 10138941 | CZ33: 40.9 | DD33: 8209123 | DL33: 6449191 | DW33: 48.1
B34: 寄附金 | R34: 17415 | Z34: 0.1 | AD34: - | AL34: - | CD34: 物件費 | CR34: 3736740 | CZ34: 15.1 | DD34: 2987178 | DL34: 1961510 | DW34: 14.6
B35: 繰入金 | R35: 683026 | Z35: 2.7 | AD35: - | AL35: - | AQ35: 公営事業等への繰出 | BG35: 国民健康保険事業会計の状況 | CD35: 維持補修費 | CR35: 50909 | CZ35: 0.2 | DD35: 48726 | DL35: 48726 | DW35: 0.4
B36: 繰越金 | R36: 480952 | Z36: 1.9 | AD36: - | AL36: - | AQ36: 合計 | AZ36: 3198354 | BG36: 実質収支 | BV36: 49744 | CD36: 補助費等 | CR36: 3673475 | CZ36: 14.8 | DD36: 3032911 | DL36: 2683194 | DW36: 20
B37: 諸収入 | R37: 363102 | Z37: 1.4 | AD37: 21 | AL37: 0 | AQ37: 下水道 | AZ37: 779166 | BG37: 再差引収支 | BV37: -75280 | CD37: うち一部事務組合負担金 | CR37: 1559954 | CZ37: 6.3 | DD37: 1559672 | DL37: 1528494 | DW37: 11.4
B38: 地方債 | R38: 921700 | Z38: 3.7 | AD38: - | AL38: - | AQ38: 上水道 | AZ38: 11081 | BG38: 加入世帯数(世帯) | BV38: 6051 | CD38: 繰出金 | CR38: 2408107 | CZ38: 9.7 | DD38: 1880131 | DL38: 1755761 | DW38: 13.1
B39: うち減収補塡債(特例分) | R39: - | Z39: - | AD39: - | AL39: - | AQ39: 工業用水道 | AZ39: - | BG39: 被保険者数(人) | BV39: 8957 | CD39: 積立金 | CR39: 269710 | CZ39: 1.1 | DD39: 260177 | DL39: - | DW39: -
B40: うち臨時財政対策債 | R40: 50600 | Z40: 0.2 | AD40: - | AL40: - | AQ40: 交通 | AZ40: - | BG40: 被保険者 1人当り | BM40: 保険税(料)収入額 | BV40: 120 | CD40: 投資・出資金・貸付金 | CR40: - | CZ40: - | DD40: - | DL40: - | DW40: -
...

Sheet 各会計、関係団体の財政状況及び健全化判断比率
A2: (2)各会計、関係団体の財政状況及び健全化判断比率（市町村） | DJ2: 令和6年度 | DQ2: 大阪府四條畷市
A4: 一般会計等の財政状況（単位：百万円） | BQ4: 地方公社・第三セクター等の経営状況及び地方公共団体の財政的支援の状況（単位：百万円）
A5: 会計名 | Q5: 歳入 | V5: 歳出 | AA5: 形式収支 | AF5: 実質収支 | AK5: 他会計等 からの 繰入金 | AP5: 地方債 現在高 | AU5: 備考 | BQ5: 地方公社・第三セクター等名 | CH5: 経常損益 | CM5: 純資産又は 正味財産 | CR5: 当該団体 からの 出資金 | CW5: 当該団体 からの 補助金 | DB5: 当該団体 からの 貸付金 | DG5: 当該団体からの債務保証に係る債務残高 | DL5: 当該団体からの損失補償に係る債務残高 | DQ5: 一般会計等 負担見込額 | DV5: 備考
A7: 1 | B7: 一般会計 | Q7: 25195 | V7: 24799 | AA7: 396 | AF7: 164 | AK7: 683 | AP7: 11891 | BQ7: 1
A8: 2 | B8: 土地取得特別会計 | Q8: 45 | V8: 45 | AA8: - | AF8: - | AK8: 40 | AP8: 230 | BQ8: 2
A9: 3 | BQ9: 3
A10: 4 | BQ10: 4
A11: 5 | BQ11: 5
A12: 6 | BQ12: 6
A13: 7 | BQ13: 7
A14: 8 | BQ14: 8
A15: 9 | BQ15: 9
A16: 10 | BQ16: 10
A17: 11 | BQ17: 11
A18: 12 | BQ18: 12
A19: 13 | BQ19: 13
A20: 14 | BQ20: 14
A21: 15 | BQ21: 15
A22: 16 | AZ22: 実質赤字額 | BQ22: 16
A23: 計 | B23: 一般会計等（純計） | Q23: 25181 | V23: 24785 | AA23: 396 | AF23: 164 | AP23: 12121 | AZ23: - | BQ23: 17
A24: ※一般会計等（純計）は、各会計の相互間の繰入・繰出等の重複を控除したものであり、各会計の合計と一致しない場合がある。 | BQ24: 18
A25: 公営企業会計等の財政状況（単位：百万円） | BQ25: 19
A26: 会計名 | Q26: 総収益 （歳入） | V26: 総費用 （歳出） | AA26: 純損益 （形式収支） | AF26: 資金剰余額 /不足額 （実質収支） | AK26: 他会計等 からの 繰入金 | AP26: 企業債 （地方債） 現在高 | AU26: 左のうち 一般会計等 繰入見込額 | AZ26: 資金不足 比率 | BE26: 備考 | BQ26: 20
BQ27: 21
A28: 1 | B28: 国民健康保険特別会計 | Q28: 5328 | V28: 5278 | AA28: 50 | AF28: 50 | AK28: 665 | AP28: - | AU28: - | AZ28: - | BQ28: 22
A29: 2 | B29: 介護保険特別会計 | Q29: 9576 | V29: 9552 | AA29: 24 | AF29: 24 | AK29: 833 | AP29: - | AU29: - | AZ29: - | BQ29: 23
A30: 3 | B30: 後期高齢者医療特別会計 | Q30: 1072 | V30: 1063 | AA30: 9 | AF30: 9 | AK30: 212 | AP30: - | AU30: - | AZ30: - | BQ30: 24
A31: 4 | B31: 下水道事業会計 | Q31: 1962 | V31: 1850 | AA31: 112 | AF31: 323 | AK31: 779 | AP31: 10154 | AU31: 5646 | AZ31: - | BE31: 法適用企業 | BQ31: 25
A32: 5 | BQ32: 26
A33: 6 | BQ33: 27
A34: 7 | BQ34: 28
A35: 8 | BQ35: 29
A36: 9 | BQ36: 30
A37: 10 | BQ37: 31
A38: 11 | BQ38: 32
A39: 12 | BQ39: 33
A40: 13 | BQ40: 34
A41: 14 | BQ41: 35
A42: 15 | BQ42: 36
A43: 16 | BQ43: 37
...

Sheet 財政比較分析表

Sheet 経常経費分析表（経常収支比率の分析）

Sheet 経常経費分析表（人件費・公債費・普通建設事業費の分析）
A5: 人件費及び人件費に準ずる費用の分析
AK6: 人件費及び人件費に準ずる費用
AO7: 当該団体決算額 （千円） | AQ7: 人口1人当たり決算額
AP8: 当該団体（円） | AQ8: 類似団体平均（円） | AR8: 対比（％）
AK9: 人件費 | AO9: 3825264 | AP9: 71169 | AQ9: 72348 | AR9: -1.6
AK10: 一部事務組合負担金（補助費等） | AO10: 737369 | AP10: 13719 | AQ10: 6364 | AR10: 115.6
AK11: 公営企業（法適）等に対する繰出し（補助費等） | AO11: 11325 | AP11: 211 | AQ11: 1262 | AR11: -83.3
AK12: 公営企業（法適）等に対する繰出し（投資及び出資金・貸付金） | AO12: - | AP12: - | AQ12: 10 | AR12: -
AK13: 公営企業（法非適）等に対する繰出し（繰出金） | AO13: 105313 | AP13: 1959 | AQ13: 3257 | AR13: -39.9
AK14: 事業費支弁に係る職員の人件費（投資的経費） | AO14: 44023 | AP14: 819 | AQ14: 1617 | AR14: -49.4
AK15: ▲退職金 | AO15: -144448 | AP15: -2687 | AQ15: -3947 | AR15: -31.9
AK16: 合計 | AO16: 4578846 | AP16: 85189 | AQ16: 80912 | AR16: 5.3
AK19: 参考
AO20: 当該団体 | AP20: 類似団体平均 | AQ20: 対比（差引）
AK21: 人口1,000人当たり職員数（人） | AO21: 6.2 | AP21: 6.71 | AQ21: -0.51
AK22: ラスパイレス指数 | AO22: 96 | AP22: 98.3 | AQ22: -2.3
A26: （注）人口については、各調査対象年度の1月1日現在の住民基本台帳に登載されている人口に基づいている。
A28: 公債費及び公債費に準ずる費用の分析
AK29: 公債費及び公債費に準ずる費用（実質公債費比率の構成要素）
AO30: 当該団体決算額 （千円） | AQ30: 人口1人当たり決算額
AP31: 当該団体（円） | AQ31: 類似団体平均（円） | AR31: 対比（％）
AK32: 元利償還金の額 （繰上償還額等を除く） | AO32: 1391837 | AP32: 25895 | AQ32: 34344 | AR32: -24.6
AK33: 積立不足額を考慮して算定した額 | AO33: - | AP33: - | AQ33: - | AR33: -
AK34: 満期一括償還地方債の一年当たりの元金償還金に相当するもの （年度割相当額） | AO34: - | AP34: - | AQ34: 3 | AR34: -
AK35: 公営企業に要する経費の財源とする地方債の償還の財源に 充てたと認められる繰入金 | AO35: 547966 | AP35: 10195 | AQ35: 7806 | AR35: 30.6
AK36: 一部事務組合等の起こした地方債に充てたと認められる 補助金又は負担金 | AO36: 344861 | AP36: 6416 | AQ36: 1690 | AR36: 279.6
AK37: 公債費に準ずる債務負担行為に係るもの | AO37: - | AP37: - | AQ37: 666 | AR37: -
AK38: 一時借入金利子 （同一団体における会計間の現金運用に係る利子は除く） | AO38: - | AP38: - | AQ38: 3 | AR38: -
AK39: ▲特定財源の額 | AO39: -465199 | AP39: -8655 | AQ39: -5822 | AR39: 48.7
AK40: ▲地方債に係る元利償還金及び準元利償還金に要する経費として 普通交付税の額の算定に用いる基準財政需要額に算入された額 | AO40: -1414420 | AP40: -26315 | AQ40: -26710 | AR40: -1.5
AK41: 合計 | AO41: 405045 | AP41: 7536 | AQ41: 11979 | AR41: -37.1
A47: （参考） 普通建設事業費の分析
AK48: 普通建設事業費
AM49: 当該団体決算額 （千円） | AN49: 人口１人当たり決算額
AN50: 当該団体(円) | AO50: 増減率(%)(A) | AP50: 類似団体平均(円) | AQ50: 増減率(%)(B) | AR50: (A)-(B)
AK51: R02 | AM51: 987219 | AN51: 17814 | AO51: 19.7 | AP51: 45483 | AQ51: -0.2 | AR51: 19.9
AL52: うち単独分 | AM52: 294020 | AN52: 5306 | AO52: -44.8 | AP52: 24241 | AQ52: 0.4 | AR52: -45.2
AK53: R03 | AM53: 1026462 | AN53: 18658 | AO53: 4.7 | AP53: 45945 | AQ53: 1 | AR53: 3.7
AL54: うち単独分 | AM54: 681159 | AN54: 12381 | AO54: 133.3 | AP54: 25180 | AQ54: 3.9 | AR54: 129.4
AK55: R04 | AM55: 830849 | AN55: 15171 | AO55: -18.7 | AP55: 44475 | AQ55: -3.2 | AR55: -15.5
...

Sheet 性質別歳出決算分析表（住民一人当たりのコスト）

Sheet 目的別歳出決算分析表（住民一人当たりのコスト）

Sheet 実質収支比率等に係る経年分析 
J45: 標準財政規模比（％）
B46: 区分 | E46: 年度 | F46: R02 | G46: R03 | H46: R04 | I46: R05 | J46: R06
C47: 財政調整基金残高 | F47: 16.63 | G47: 18.11 | H47: 19.66 | I47: 22.3 | J47: 19.38
C48: 実質収支額 | F48: 1.43 | G48: 2.27 | H48: 5.01 | I48: 3.01 | J48: 1.26
C49: 実質単年度収支 | F49: 0.31 | G49: 3.33 | H49: 3.87 | I49: 1.2 | J49: ▲ 4.45

Sheet 連結実質赤字比率に係る赤字・黒字の構成分析
J32: 標準財政規模比（％）
B33: 会計 | E33: 年度 | F33: R02 | G33: R03 | H33: R04 | I33: R05 | J33: R06
C34: 下水道事業会計 | F34: 2.58 | G34: 2.48 | H34: 2.23 | I34: 1.58 | J34: 2.48
C35: 一般会計 | F35: 1.43 | G35: 2.27 | H35: 5.01 | I35: 3.01 | J35: 1.25
C36: 国民健康保険特別会計 | F36: 0.8 | G36: 0.62 | H36: 0.66 | I36: 0.13 | J36: 0.38
C37: 介護保険特別会計 | F37: - | G37: - | H37: 0 | I37: 0 | J37: 0.18
C38: 後期高齢者医療特別会計 | F38: 0.04 | G38: 0.04 | H38: 0.04 | I38: 0.04 | J38: 0.06
C39: 土地取得特別会計 | F39: 0 | G39: 0 | H39: 0 | I39: 0 | J39: 0
C42: その他会計（赤字） | F42: - | G42: - | H42: - | I42: - | J42: -
C43: その他会計（黒字） | F43: - | G43: - | H43: - | I43: - | J43: -

Sheet 実質公債費比率（分子）の構造 
O43: （百万円）
B44: 分子の構造 | J44: 年度 | K44: R02 | L44: R03 | M44: R04 | N44: R05 | O44: R06
B45: 元利償還金等(A) | E45: 元利償還金 | K45: 1667 | L45: 1586 | M45: 1471 | N45: 1439 | O45: 1392
E46: 減債基金積立不足算定額※2 | K46: - | L46: - | M46: - | N46: - | O46: -
E47: 満期一括償還地方債に係る年度割相当額 | K47: - | L47: - | M47: - | N47: - | O47: -
E48: 公営企業債の元利償還金に対する繰入金 | K48: 588 | L48: 570 | M48: 585 | N48: 577 | O48: 548
E49: 組合等が起こした地方債の元利償還金に対する負担金等 | K49: 357 | L49: 365 | M49: 339 | N49: 334 | O49: 345
E50: 債務負担行為に基づく支出額 | K50: - | L50: - | M50: - | N50: - | O50: -
E51: 一時借入金の利子 | K51: - | L51: - | M51: - | N51: - | O51: -
B52: 算入公債費等(B) | E52: 算入公債費等 | K52: 1968 | L52: 2028 | M52: 2011 | N52: 2033 | O52: 1879
B53: (A)－(B) | E53: 実質公債費比率の分子 | K53: 644 | L53: 493 | M53: 384 | N53: 317 | O53: 406
B54: ※ 減債基金積立不足算定額=(C)×(１－(D)/(E))
B56: （参考） | O56: （百万円）
J57: 年度 | K57: R02 | L57: R03 | M57: R04 | N57: R05 | O57: R06
B58: 減債基金 積立状況等（注） | D58: 満期一括償還地方債に係る実質償還額又は理論償還額のいずれか少ない額(C) | K58: - | L58: - | M58: - | N58: - | O58: -
D59: 前年度末減債基金残高(D) | K59: - | L59: - | M59: - | N59: - | O59: -
D60: 前年度末減債基金積立相当額(E) | K60: - | L60: - | M60: - | N60: - | O60: -
D61: （注）減債基金のうち、実質公債費比率の算定に用いる満期一括償還地方債の償還の財源に係るもののみを記入。
D62: 減債基金積立金の年度を超えた一般会計又は特別会計への貸付額は控除して記入。

Sheet 将来負担比率（分子）の構造
M39: （百万円）
B40: 分子の構造 | H40: 年度 | I40: R02 | J40: R03 | K40: R04 | L40: R05 | M40: R06
B41: 将来負担額(A) | E41: 一般会計等に係る地方債の現在高 | I41: 14865 | J41: 14291 | K41: 13432 | L41: 12550 | M41: 12121
E42: 債務負担行為に基づく支出予定額 | I42: - | J42: - | K42: - | L42: - | M42: -
E43: 公営企業債等繰入見込額 | I43: 6333 | J43: 5966 | K43: 5452 | L43: 4972 | M43: 5646
E44: 組合等負担等見込額 | I44: 3454 | J44: 3138 | K44: 2818 | L44: 2553 | M44: 2341
E45: 退職手当負担見込額 | I45: 1814 | J45: 1855 | K45: 1733 | L45: 1795 | M45: 1835
E46: 設立法人等の負債額等負担見込額 | I46: - | J46: - | K46: - | L46: - | M46: -
E47: うち、健全化法施行規則附則第三条に係る負担見込額 | I47: - | J47: - | K47: - | L47: - | M47: -
E48: 連結実質赤字額 | I48: - | J48: - | K48: - | L48: - | M48: -
E49: 組合等連結実質赤字額負担見込額 | I49: - | J49: - | K49: - | L49: - | M49: -
B50: 充当可能財源等(B) | E50: 充当可能基金 | I50: 6583 | J50: 7293 | K50: 7365 | L50: 7387 | M50: 6978
E51: 充当可能特定歳入 | I51: 4654 | J51: 4083 | K51: 3612 | L51: 3211 | M51: 3553
E52: 基準財政需要額算入見込額 | I52: 19287 | J52: 18570 | K52: 17838 | L52: 16839 | M52: 16156
B53: (A)－(B) | E53: 将来負担比率の分子 | I53: -4058 | J53: -4695 | K53: -5381 | L53: -5568 | M53: -4744

Sheet 基金残高に係る経年分析
H53: （百万円）
B54: 区分 | E54: 年度 | F54: R04 | G54: R05 | H54: R06
C55: 財政調整基金 | F55: 2475 | G55: 2872 | H55: 2518
C56: 減債基金 | F56: 51 | G56: 51 | H56: 51
C57: その他特定目的基金 | F57: 4463 | G57: 4170 | H57: 4110
C58: 公共施設整備基金 | F58: 2917 | G58: 2875 | H58: 2890
C59: 退職手当基金 | F59: 748 | G59: 753 | H59: 698
C60: 福祉基金 | F60: 307 | G60: 308 | H60: 310
C61: 緑化基金 | F61: 94 | G61: 94 | H61: 94
C62: 文化財愛護基金 | F62: 53 | G62: 53 | H62: 53
C63: 基金残高合計 | F63: 6989 | G63: 7093 | H63: 6679

Sheet 公会計指標分析・財政指標組合せ分析表
B41: 将来負担比率及び有形固定資産減価償却率の組合せによる分析
AN42: 分析欄
AN43: 1960年代後半から1970年代後半にかけて建築した施設が数多くあり、減価償却が進んでいることから、有形固定資産減価償却率は年々上昇しているが、一方、将来負担比率については、計画的に市債発行や基金積立を実施してきたことから、将来負担額を充当可能財源等が上回っており算定されていない。 今後は、公共施設の老朽化対策や再編整備の実施により有形固定資産減価償却率は一定の改善が見込まれるが、将来負担比率については市債発行額の増加等による悪化が懸念されるため、それぞれの比率を注視しながら引き続き健全な財政運営に取り組んでいく。
AN49: ( 参考 ）
BP50: R02 | BX50: R03 | CF50: R04 | CN50: R05 | CV50: R06
AN51: 当該団体値 | BB51: 将来負担比率
BB53: 有形固定資産減価償却率 | BP53: 60.1 | BX53: 65.5 | CF53: 67.4 | CN53: 68.6 | CV53: 69.2
AN55: 類似団体内平均値 | BB55: 将来負担比率 | BP55: 20.4 | BX55: 11.2 | CF55: 4.6 | CN55: 4.2 | CV55: 3.6
BB57: 有形固定資産減価償却率 | BP57: 63 | BX57: 63.7 | CF57: 64.2 | CN57: 65 | CV57: 66.1
B63: 将来負担比率及び実質公債費比率の組合せによる分析
AN64: 分析欄
AN65: 将来負担比率については、持続可能な財政運営のため計画的な市債発行や基金積立を実施してきたことから、将来負担額を充当可能財源等が上回っており算定されていない。また、実質公債費比率についても、計画的な市債発行に加え、過去に発行した市債の完済により元利償還金が減少しているため、比率は年々減少している状況である。 将来負担比率、実質公債費比率ともに類似団体内平均値を下回る推移が続いており、健全な状態を維持できているが、今後は、公共施設の老朽化対策や再編整備に伴い比率の悪化が懸念されるため、交付税措置のある市債を優先して発行するなど、引き続き公債費負担が増大しないよう取り組む。
AN71: ( 参考 ）
BP72: R02 | BX72: R03 | CF72: R04 | CN72: R05 | CV72: R06
AN73: 当該団体値 | BB73: 将来負担比率
BB75: 実質公債費比率 | BP75: 5.8 | BX75: 5.5 | CF75: 4.6 | CN75: 3.5 | CV75: 3.2
AN77: 類似団体内平均値 | BB77: 将来負担比率 | BP77: 20.4 | BX77: 11.2 | CF77: 4.6 | CN77: 4.2 | CV77: 3.6
BB79: 実質公債費比率 | BP79: 6.2 | BX79: 5.7 | CF79: 5.8 | CN79: 5.8 | CV79: 5.7

Sheet 施設類型別ストック情報分析表①

Sheet 施設類型別ストック情報分析表②

Sheet データシート
D2: 当該団体(円) | F2: 類似団体内平均(円)
A3: R02 | D3: 17814 | F3: 45483
D4: 5306 | F4: 24241
A5: R03 | D5: 18658 | F5: 45945
D6: 12381 | F6: 25180
A7: R04 | D7: 15171 | F7: 44475
D8: 8179 | F8: 24780
A9: R05 | D9: 24170 | F9: 45982
D10: 12610 | F10: 25583
A11: R06 | D11: 34711 | F11: 50538
D12: 20415 | F12: 29053
D13: 22105 | F13: 46485
D14: 11778 | F14: 25767
A17: 実質収支比率等に係る経年分析
B18: =#REF! -> #REF! | C18: =#REF! -> #REF! | D18: =#REF! -> #REF! | E18: =#REF! -> #REF! | F18: =#REF! -> #REF!
A19: 実質収支額 | B19: =ROUND(VALUE(SUBSTITUTE(#REF!,"▲","-")),2) -> #REF! | C19: =ROUND(VALUE(SUBSTITUTE(#REF!,"▲","-")),2) -> #REF! | D19: =ROUND(VALUE(SUBSTITUTE(#REF!,"▲","-")),2) -> #REF! | E19: =ROUND(VALUE(SUBSTITUTE(#REF!,"▲","-")),2) -> #REF! | F19: =ROUND(VALUE(SUBSTITUTE(#REF!,"▲","-")),2) -> #REF!
A20: 財政調整基金残高 | B20: =ROUND(VALUE(SUBSTITUTE(#REF!,"▲","-")),2) -> #REF! | C20: =ROUND(VALUE(SUBSTITUTE(#REF!,"▲","-")),2) -> #REF! | D20: =ROUND(VALUE(SUBSTITUTE(#REF!,"▲","-")),2) -> #REF! | E20: =ROUND(VALUE(SUBSTITUTE(#REF!,"▲","-")),2) -> #REF! | F20: =ROUND(VALUE(SUBSTITUTE(#REF!,"▲","-")),2) -> #REF!
A21: 実質単年度収支 | B21: =IF(ISNUMBER(VALUE(SUBSTITUTE(#REF!,"▲","-"))),ROUND(VALUE(SUBSTITUTE(#REF!,"▲","-")),2),NA()) -> #N/A | C21: =IF(ISNUMBER(VALUE(SUBSTITUTE(#REF!,"▲","-"))),ROUND(VALUE(SUBSTITUTE(#REF!,"▲","-")),2),NA()) -> #N/A | D21: =IF(ISNUMBER(VALUE(SUBSTITUTE(#REF!,"▲","-"))),ROUND(VALUE(SUBSTITUTE(#REF!,"▲","-")),2),NA()) -> #N/A | E21: =IF(ISNUMBER(VALUE(SUBSTITUTE(#REF!,"▲","-"))),ROUND(VALUE(SUBSTITUTE(#REF!,"▲","-")),2),NA()) -> #N/A | F21: =IF(ISNUMBER(VALUE(SUBSTITUTE(#REF!,"▲","-"))),ROUND(VALUE(SUBSTITUTE(#REF!,"▲","-")),2),NA()) -> #N/A
A24: 連結実質赤字比率に係る赤字・黒字の構成分析
B25: =#REF! -> #REF! | D25: =#REF! -> #REF! | F25: =#REF! -> #REF! | H25: =#REF! -> #REF! | J25: =#REF! -> #REF!
B26: 赤字額 | C26: 黒字額 | D26: 赤字額 | E26: 黒字額 | F26: 赤字額 | G26: 黒字額 | H26: 赤字額 | I26: 黒字額 | J26: 赤字額 | K26: 黒字額
A27: =IF(#REF!="",NA(),#REF!) -> #REF! | B27: =IF(ROUND(VALUE(SUBSTITUTE(#REF!,"▲", "-")), 2) < 0, ABS(ROUND(VALUE(SUBSTITUTE(#REF!,"▲", "-")), 2)), NA()) -> #REF! | C27: =IF(ROUND(VALUE(SUBSTITUTE(#REF!,"▲", "-")), 2) >= 0, ABS(ROUND(VALUE(SUBSTITUTE(#REF!,"▲", "-")), 2)), NA()) -> #REF! | D27: =IF(ROUND(VALUE(SUBSTITUTE(#REF!,"▲", "-")), 2) < 0, ABS(ROUND(VALUE(SUBSTITUTE(#REF!,"▲", "-")), 2)), NA()) -> #REF! | E27: =IF(ROUND(VALUE(SUBSTITUTE(#REF!,"▲", "-")), 2) >= 0, ABS(ROUND(VALUE(SUBSTITUTE(#REF!,"▲", "-")), 2)), NA()) -> #REF! | F27: =IF(ROUND(VALUE(SUBSTITUTE(#REF!,"▲", "-")), 2) < 0, ABS(ROUND(VALUE(SUBSTITUTE(#REF!,"▲", "-")), 2)), NA()) -> #REF! | G27: =IF(ROUND(VALUE(SUBSTITUTE(#REF!,"▲", "-")), 2) >= 0, ABS(ROUND(VALUE(SUBSTITUTE(#REF!,"▲", "-")), 2)), NA()) -> #REF! | H27: =IF(ROUND(VALUE(SUBSTITUTE(#REF!,"▲", "-")), 2) < 0, ABS(ROUND(VALUE(SUBSTITUTE(#REF!,"▲", "-")), 2)), NA()) -> #REF! | I27: =IF(ROUND(VALUE(SUBSTITUTE(#REF!,"▲", "-")), 2) >= 0, ABS(ROUND(VALUE(SUBSTITUTE(#REF!,"▲", "-")), 2)), NA()) -> #REF! | J27: =IF(ROUND(VALUE(SUBSTITUTE(#REF!,"▲", "-")), 2) < 0, ABS(ROUND(VALUE(SUBSTITUTE(#REF!,"▲", "-")), 2)), NA()) -> #REF! | K27: =IF(ROUND(VALUE(SUBSTITUTE(#REF!,"▲", "-")), 2) >= 0, ABS(ROUND(VALUE(SUBSTITUTE(#REF!,"▲", "-")), 2)), NA()) -> #REF!
A28: =IF(#REF!="",NA(),#REF!) -> #REF! | B28: =IF(ROUND(VALUE(SUBSTITUTE(#REF!,"▲", "-")), 2) < 0, ABS(ROUND(VALUE(SUBSTITUTE(#REF!,"▲", "-")), 2)), NA()) -> #REF! | C28: =IF(ROUND(VALUE(SUBSTITUTE(#REF!,"▲", "-")), 2) >= 0, ABS(ROUND(VALUE(SUBSTITUTE(#REF!,"▲", "-")), 2)), NA()) -> #REF! | D28: =IF(ROUND(VALUE(SUBSTITUTE(#REF!,"▲", "-")), 2) < 0, ABS(ROUND(VALUE(SUBSTITUTE(#REF!,"▲", "-")), 2)), NA()) -> #REF! | E28: =IF(ROUND(VALUE(SUBSTITUTE(#REF!,"▲", "-")), 2) >= 0, ABS(ROUND(VALUE(SUBSTITUTE(#REF!,"▲", "-")), 2)), NA()) -> #REF! | F28: =IF(ROUND(VALUE(SUBSTITUTE(#REF!,"▲", "-")), 2) < 0, ABS(ROUND(VALUE(SUBSTITUTE(#REF!,"▲", "-")), 2)), NA()) -> #REF! | G28: =IF(ROUND(VALUE(SUBSTITUTE(#REF!,"▲", "-")), 2) >= 0, ABS(ROUND(VALUE(SUBSTITUTE(#REF!,"▲", "-")), 2)), NA()) -> #REF! | H28: =IF(ROUND(VALUE(SUBSTITUTE(#REF!,"▲", "-")), 2) < 0, ABS(ROUND(VALUE(SUBSTITUTE(#REF!,"▲", "-")), 2)), NA()) -> #REF! | I28: =IF(ROUND(VALUE(SUBSTITUTE(#REF!,"▲", "-")), 2) >= 0, ABS(ROUND(VALUE(SUBSTITUTE(#REF!,"▲", "-")), 2)), NA()) -> #REF! | J28: =IF(ROUND(VALUE(SUBSTITUTE(#REF!,"▲", "-")), 2) < 0, ABS(ROUND(VALUE(SUBSTITUTE(#REF!,"▲", "-")), 2)), NA()) -> #REF! | K28: =IF(ROUND(VALUE(SUBSTITUTE(#REF!,"▲", "-")), 2) >= 0, ABS(ROUND(VALUE(SUBSTITUTE(#REF!,"▲", "-")), 2)), NA()) -> #REF!
A29: =IF(#REF!="",NA(),#REF!) -> #REF! | B29: =IF(ROUND(VALUE(SUBSTITUTE(#REF!,"▲", "-")), 2) < 0, ABS(ROUND(VALUE(SUBSTITUTE(#REF!,"▲", "-")), 2)), NA()) -> #REF! | C29: =IF(ROUND(VALUE(SUBSTITUTE(#REF!,"▲", "-")), 2) >= 0, ABS(ROUND(VALUE(SUBSTITUTE(#REF!,"▲", "-")), 2)), NA()) -> #REF! | D29: =IF(ROUND(VALUE(SUBSTITUTE(#REF!,"▲", "-")), 2) < 0, ABS(ROUND(VALUE(SUBSTITUTE(#REF!,"▲", "-")), 2)), NA()) -> #REF! | E29: =IF(ROUND(VALUE(SUBSTITUTE(#REF!,"▲", "-")), 2) >= 0, ABS(ROUND(VALUE(SUBSTITUTE(#REF!,"▲", "-")), 2)), NA()) -> #REF! | F29: =IF(ROUND(VALUE(SUBSTITUTE(#REF!,"▲", "-")), 2) < 0, ABS(ROUND(VALUE(SUBSTITUTE(#REF!,"▲", "-")), 2)), NA()) -> #REF! | G29: =IF(ROUND(VALUE(SUBSTITUTE(#REF!,"▲", "-")), 2) >= 0, ABS(ROUND(VALUE(SUBSTITUTE(#REF!,"▲", "-")), 2)), NA()) -> #REF! | H29: =IF(ROUND(VALUE(SUBSTITUTE(#REF!,"▲", "-")), 2) < 0, ABS(ROUND(VALUE(SUBSTITUTE(#REF!,"▲", "-")), 2)), NA()) -> #REF! | I29: =IF(ROUND(VALUE(SUBSTITUTE(#REF!,"▲", "-")), 2) >= 0, ABS(ROUND(VALUE(SUBSTITUTE(#REF!,"▲", "-")), 2)), NA()) -> #REF! | J29: =IF(ROUND(VALUE(SUBSTITUTE(#REF!,"▲", "-")), 2) < 0, ABS(ROUND(VALUE(SUBSTITUTE(#REF!,"▲", "-")), 2)), NA()) -> #REF! | K29: =IF(ROUND(VALUE(SUBSTITUTE(#REF!,"▲", "-")), 2) >= 0, ABS(ROUND(VALUE(SUBSTITUTE(#REF!,"▲", "-")), 2)), NA()) -> #REF!
A30: =IF(#REF!="",NA(),#REF!) -> #REF! | B30: =IF(ROUND(VALUE(SUBSTITUTE(#REF!,"▲", "-")), 2) < 0, ABS(ROUND(VALUE(SUBSTITUTE(#REF!,"▲", "-")), 2)), NA()) -> #REF! | C30: =IF(ROUND(VALUE(SUBSTITUTE(#REF!,"▲", "-")), 2) >= 0, ABS(ROUND(VALUE(SUBSTITUTE(#REF!,"▲", "-")), 2)), NA()) -> #REF! | D30: =IF(ROUND(VALUE(SUBSTITUTE(#REF!,"▲", "-")), 2) < 0, ABS(ROUND(VALUE(SUBSTITUTE(#REF!,"▲", "-")), 2)), NA()) -> #REF! | E30: =IF(ROUND(VALUE(SUBSTITUTE(#REF!,"▲", "-")), 2) >= 0, ABS(ROUND(VALUE(SUBSTITUTE(#REF!,"▲", "-")), 2)), NA()) -> #REF! | F30: =IF(ROUND(VALUE(SUBSTITUTE(#REF!,"▲", "-")), 2) < 0, ABS(ROUND(VALUE(SUBSTITUTE(#REF!,"▲", "-")), 2)), NA()) -> #REF! | G30: =IF(ROUND(VALUE(SUBSTITUTE(#REF!,"▲", "-")), 2) >= 0, ABS(ROUND(VALUE(SUBSTITUTE(#REF!,"▲", "-")), 2)), NA()) -> #REF! | H30: =IF(ROUND(VALUE(SUBSTITUTE(#REF!,"▲", "-")), 2) < 0, ABS(ROUND(VALUE(SUBSTITUTE(#REF!,"▲", "-")), 2)), NA()) -> #REF! | I30: =IF(ROUND(VALUE(SUBSTITUTE(#REF!,"▲", "-")), 2) >= 0, ABS(ROUND(VALUE(SUBSTITUTE(#REF!,"▲", "-")), 2)), NA()) -> #REF! | J30: =IF(ROUND(VALUE(SUBSTITUTE(#REF!,"▲", "-")), 2) < 0, ABS(ROUND(VALUE(SUBSTITUTE(#REF!,"▲", "-")), 2)), NA()) -> #REF! | K30: =IF(ROUND(VALUE(SUBSTITUTE(#REF!,"▲", "-")), 2) >= 0, ABS(ROUND(VALUE(SUBSTITUTE(#REF!,"▲", "-")), 2)), NA()) -> #REF!
A31: =IF(#REF!="",NA(),#REF!) -> #REF! | B31: =IF(ROUND(VALUE(SUBSTITUTE(#REF!,"▲", "-")), 2) < 0, ABS(ROUND(VALUE(SUBSTITUTE(#REF!,"▲", "-")), 2)), NA()) -> #REF! | C31: =IF(ROUND(VALUE(SUBSTITUTE(#REF!,"▲", "-")), 2) >= 0, ABS(ROUND(VALUE(SUBSTITUTE(#REF!,"▲", "-")), 2)), NA()) -> #REF! | D31: =IF(ROUND(VALUE(SUBSTITUTE(#REF!,"▲", "-")), 2) < 0, ABS(ROUND(VALUE(SUBSTITUTE(#REF!,"▲", "-")), 2)), NA()) -> #REF! | E31: =IF(ROUND(VALUE(SUBSTITUTE(#REF!,"▲", "-")), 2) >= 0, ABS(ROUND(VALUE(SUBSTITUTE(#REF!,"▲", "-")), 2)), NA()) -> #REF! | F31: =IF(ROUND(VALUE(SUBSTITUTE(#REF!,"▲", "-")), 2) < 0, ABS(ROUND(VALUE(SUBSTITUTE(#REF!,"▲", "-")), 2)), NA()) -> #REF! | G31: =IF(ROUND(VALUE(SUBSTITUTE(#REF!,"▲", "-")), 2) >= 0, ABS(ROUND(VALUE(SUBSTITUTE(#REF!,"▲", "-")), 2)), NA()) -> #REF! | H31: =IF(ROUND(VALUE(SUBSTITUTE(#REF!,"▲", "-")), 2) < 0, ABS(ROUND(VALUE(SUBSTITUTE(#REF!,"▲", "-")), 2)), NA()) -> #REF! | I31: =IF(ROUND(VALUE(SUBSTITUTE(#REF!,"▲", "-")), 2) >= 0, ABS(ROUND(VALUE(SUBSTITUTE(#REF!,"▲", "-")), 2)), NA()) -> #REF! | J31: =IF(ROUND(VALUE(SUBSTITUTE(#REF!,"▲", "-")), 2) < 0, ABS(ROUND(VALUE(SUBSTITUTE(#REF!,"▲", "-")), 2)), NA()) -> #REF! | K31: =IF(ROUND(VALUE(SUBSTITUTE(#REF!,"▲", "-")), 2) >= 0, ABS(ROUND(VALUE(SUBSTITUTE(#REF!,"▲", "-")), 2)), NA()) -> #REF!
A32: =IF(#REF!="",NA(),#REF!) -> #REF! | B32: =IF(ROUND(VALUE(SUBSTITUTE(#REF!,"▲", "-")), 2) < 0, ABS(ROUND(VALUE(SUBSTITUTE(#REF!,"▲", "-")), 2)), NA()) -> #REF! | C32: =IF(ROUND(VALUE(SUBSTITUTE(#REF!,"▲", "-")), 2) >= 0, ABS(ROUND(VALUE(SUBSTITUTE(#REF!,"▲", "-")), 2)), NA()) -> #REF! | D32: =IF(ROUND(VALUE(SUBSTITUTE(#REF!,"▲", "-")), 2) < 0, ABS(ROUND(VALUE(SUBSTITUTE(#REF!,"▲", "-")), 2)), NA()) -> #REF! | E32: =IF(ROUND(VALUE(SUBSTITUTE(#REF!,"▲", "-")), 2) >= 0, ABS(ROUND(VALUE(SUBSTITUTE(#REF!,"▲", "-")), 2)), NA()) -> #REF! | F32: =IF(ROUND(VALUE(SUBSTITUTE(#REF!,"▲", "-")), 2) < 0, ABS(ROUND(VALUE(SUBSTITUTE(#REF!,"▲", "-")), 2)), NA()) -> #REF! | G32: =IF(ROUND(VALUE(SUBSTITUTE(#REF!,"▲", "-")), 2) >= 0, ABS(ROUND(VALUE(SUBSTITUTE(#REF!,"▲", "-")), 2)), NA()) -> #REF! | H32: =IF(ROUND(VALUE(SUBSTITUTE(#REF!,"▲", "-")), 2) < 0, ABS(ROUND(VALUE(SUBSTITUTE(#REF!,"▲", "-")), 2)), NA()) -> #REF! | I32: =IF(ROUND(VALUE(SUBSTITUTE(#REF!,"▲", "-")), 2) >= 0, ABS(ROUND(VALUE(SUBSTITUTE(#REF!,"▲", "-")), 2)), NA()) -> #REF! | J32: =IF(ROUND(VALUE(SUBSTITUTE(#REF!,"▲", "-")), 2) < 0, ABS(ROUND(VALUE(SUBSTITUTE(#REF!,"▲", "-")), 2)), NA()) -> #REF! | K32: =IF(ROUND(VALUE(SUBSTITUTE(#REF!,"▲", "-")), 2) >= 0, ABS(ROUND(VALUE(SUBSTITUTE(#REF!,"▲", "-")), 2)), NA()) -> #REF!
A33: =IF(#REF!="",NA(),#REF!) -> #REF! | B33: =IF(ROUND(VALUE(SUBSTITUTE(#REF!,"▲", "-")), 2) < 0, ABS(ROUND(VALUE(SUBSTITUTE(#REF!,"▲", "-")), 2)), NA()) -> #REF! | C33: =IF(ROUND(VALUE(SUBSTITUTE(#REF!,"▲", "-")), 2) >= 0, ABS(ROUND(VALUE(SUBSTITUTE(#REF!,"▲", "-")), 2)), NA()) -> #REF! | D33: =IF(ROUND(VALUE(SUBSTITUTE(#REF!,"▲", "-")), 2) < 0, ABS(ROUND(VALUE(SUBSTITUTE(#REF!,"▲", "-")), 2)), NA()) -> #REF! | E33: =IF(ROUND(VALUE(SUBSTITUTE(#REF!,"▲", "-")), 2) >= 0, ABS(ROUND(VALUE(SUBSTITUTE(#REF!,"▲", "-")), 2)), NA()) -> #REF! | F33: =IF(ROUND(VALUE(SUBSTITUTE(#REF!,"▲", "-")), 2) < 0, ABS(ROUND(VALUE(SUBSTITUTE(#REF!,"▲", "-")), 2)), NA()) -> #REF! | G33: =IF(ROUND(VALUE(SUBSTITUTE(#REF!,"▲", "-")), 2) >= 0, ABS(ROUND(VALUE(SUBSTITUTE(#REF!,"▲", "-")), 2)), NA()) -> #REF! | H33: =IF(ROUND(VALUE(SUBSTITUTE(#REF!,"▲", "-")), 2) < 0, ABS(ROUND(VALUE(SUBSTITUTE(#REF!,"▲", "-")), 2)), NA()) -> #REF! | I33: =IF(ROUND(VALUE(SUBSTITUTE(#REF!,"▲", "-")), 2) >= 0, ABS(ROUND(VALUE(SUBSTITUTE(#REF!,"▲", "-")), 2)), NA()) -> #REF! | J33: =IF(ROUND(VALUE(SUBSTITUTE(#REF!,"▲", "-")), 2) < 0, ABS(ROUND(VALUE(SUBSTITUTE(#REF!,"▲", "-")), 2)), NA()) -> #REF! | K33: =IF(ROUND(VALUE(SUBSTITUTE(#REF!,"▲", "-")), 2) >= 0, ABS(ROUND(VALUE(SUBSTITUTE(#REF!,"▲", "-")), 2)), NA()) -> #REF!
A34: =IF(#REF!="",NA(),#REF!) -> #REF! | B34: =IF(ROUND(VALUE(SUBSTITUTE(#REF!,"▲", "-")), 2) < 0, ABS(ROUND(VALUE(SUBSTITUTE(#REF!,"▲", "-")), 2)), NA()) -> #REF! | C34: =IF(ROUND(VALUE(SUBSTITUTE(#REF!,"▲", "-")), 2) >= 0, ABS(ROUND(VALUE(SUBSTITUTE(#REF!,"▲", "-")), 2)), NA()) -> #REF! | D34: =IF(ROUND(VALUE(SUBSTITUTE(#REF!,"▲", "-")), 2) < 0, ABS(ROUND(VALUE(SUBSTITUTE(#REF!,"▲", "-")), 2)), NA()) -> #REF! | E34: =IF(ROUND(VALUE(SUBSTITUTE(#REF!,"▲", "-")), 2) >= 0, ABS(ROUND(VALUE(SUBSTITUTE(#REF!,"▲", "-")), 2)), NA()) -> #REF! | F34: =IF(ROUND(VALUE(SUBSTITUTE(#REF!,"▲", "-")), 2) < 0, ABS(ROUND(VALUE(SUBSTITUTE(#REF!,"▲", "-")), 2)), NA()) -> #REF! | G34: =IF(ROUND(VALUE(SUBSTITUTE(#REF!,"▲", "-")), 2) >= 0, ABS(ROUND(VALUE(SUBSTITUTE(#REF!,"▲", "-")), 2)), NA()) -> #REF! | H34: =IF(ROUND(VALUE(SUBSTITUTE(#REF!,"▲", "-")), 2) < 0, ABS(ROUND(VALUE(SUBSTITUTE(#REF!,"▲", "-")), 2)), NA()) -> #REF! | I34: =IF(ROUND(VALUE(SUBSTITUTE(#REF!,"▲", "-")), 2) >= 0, ABS(ROUND(VALUE(SUBSTITUTE(#REF!,"▲", "-")), 2)), NA()) -> #REF! | J34: =IF(ROUND(VALUE(SUBSTITUTE(#REF!,"▲", "-")), 2) < 0, ABS(ROUND(VALUE(SUBSTITUTE(#REF!,"▲", "-")), 2)), NA()) -> #REF! | K34: =IF(ROUND(VALUE(SUBSTITUTE(#REF!,"▲", "-")), 2) >= 0, ABS(ROUND(VALUE(SUBSTITUTE(#REF!,"▲", "-")), 2)), NA()) -> #REF!
A35: =IF(#REF!="",NA(),#REF!) -> #REF! | B35: =IF(ROUND(VALUE(SUBSTITUTE(#REF!,"▲", "-")), 2) < 0, ABS(ROUND(VALUE(SUBSTITUTE(#REF!,"▲", "-")), 2)), NA()) -> #REF! | C35: =IF(ROUND(VALUE(SUBSTITUTE(#REF!,"▲", "-")), 2) >= 0, ABS(ROUND(VALUE(SUBSTITUTE(#REF!,"▲", "-")), 2)), NA()) -> #REF! | D35: =IF(ROUND(VALUE(SUBSTITUTE(#REF!,"▲", "-")), 2) < 0, ABS(ROUND(VALUE(SUBSTITUTE(#REF!,"▲", "-")), 2)), NA()) -> #REF! | E35: =IF(ROUND(VALUE(SUBSTITUTE(#REF!,"▲", "-")), 2) >= 0, ABS(ROUND(VALUE(SUBSTITUTE(#REF!,"▲", "-")), 2)), NA()) -> #REF! | F35: =IF(ROUND(VALUE(SUBSTITUTE(#REF!,"▲", "-")), 2) < 0, ABS(ROUND(VALUE(SUBSTITUTE(#REF!,"▲", "-")), 2)), NA()) -> #REF! | G35: =IF(ROUND(VALUE(SUBSTITUTE(#REF!,"▲", "-")), 2) >= 0, ABS(ROUND(VALUE(SUBSTITUTE(#REF!,"▲", "-")), 2)), NA()) -> #REF! | H35: =IF(ROUND(VALUE(SUBSTITUTE(#REF!,"▲", "-")), 2) < 0, ABS(ROUND(VALUE(SUBSTITUTE(#REF!,"▲", "-")), 2)), NA()) -> #REF! | I35: =IF(ROUND(VALUE(SUBSTITUTE(#REF!,"▲", "-")), 2) >= 0, ABS(ROUND(VALUE(SUBSTITUTE(#REF!,"▲", "-")), 2)), NA()) -> #REF! | J35: =IF(ROUND(VALUE(SUBSTITUTE(#REF!,"▲", "-")), 2) < 0, ABS(ROUND(VALUE(SUBSTITUTE(#REF!,"▲", "-")), 2)), NA()) -> #REF! | K35: =IF(ROUND(VALUE(SUBSTITUTE(#REF!,"▲", "-")), 2) >= 0, ABS(ROUND(VALUE(SUBSTITUTE(#REF!,"▲", "-")), 2)), NA()) -> #REF!
A36: =IF(#REF!="",NA(),#REF!) -> #REF! | B36: =IF(ROUND(VALUE(SUBSTITUTE(#REF!,"▲", "-")), 2) < 0, ABS(ROUND(VALUE(SUBSTITUTE(#REF!,"▲", "-")), 2)), NA()) -> #REF! | C36: =IF(ROUND(VALUE(SUBSTITUTE(#REF!,"▲", "-")), 2) >= 0, ABS(ROUND(VALUE(SUBSTITUTE(#REF!,"▲", "-")), 2)), NA()) -> #REF! | D36: =IF(ROUND(VALUE(SUBSTITUTE(#REF!,"▲", "-")), 2) < 0, ABS(ROUND(VALUE(SUBSTITUTE(#REF!,"▲", "-")), 2)), NA()) -> #REF! | E36: =IF(ROUND(VALUE(SUBSTITUTE(#REF!,"▲", "-")), 2) >= 0, ABS(ROUND(VALUE(SUBSTITUTE(#REF!,"▲", "-")), 2)), NA()) -> #REF! | F36: =IF(ROUND(VALUE(SUBSTITUTE(#REF!,"▲", "-")), 2) < 0, ABS(ROUND(VALUE(SUBSTITUTE(#REF!,"▲", "-")), 2)), NA()) -> #REF! | G36: =IF(ROUND(VALUE(SUBSTITUTE(#REF!,"▲", "-")), 2) >= 0, ABS(ROUND(VALUE(SUBSTITUTE(#REF!,"▲", "-")), 2)), NA()) -> #REF! | H36: =IF(ROUND(VALUE(SUBSTITUTE(#REF!,"▲", "-")), 2) < 0, ABS(ROUND(VALUE(SUBSTITUTE(#REF!,"▲", "-")), 2)), NA()) -> #REF! | I36: =IF(ROUND(VALUE(SUBSTITUTE(#REF!,"▲", "-")), 2) >= 0, ABS(ROUND(VALUE(SUBSTITUTE(#REF!,"▲", "-")), 2)), NA()) -> #REF! | J36: =IF(ROUND(VALUE(SUBSTITUTE(#REF!,"▲", "-")), 2) < 0, ABS(ROUND(VALUE(SUBSTITUTE(#REF!,"▲", "-")), 2)), NA()) -> #REF! | K36: =IF(ROUND(VALUE(SUBSTITUTE(#REF!,"▲", "-")), 2) >= 0, ABS(ROUND(VALUE(SUBSTITUTE(#REF!,"▲", "-")), 2)), NA()) -> #REF!
A39: 実質公債費比率（分子）の構造
B40: =#REF! -> #REF! | E40: =#REF! -> #REF! | H40: =#REF! -> #REF! | K40: =#REF! -> #REF! | N40: =#REF! -> #REF!
B41: 元利償還金等 | D41: 算入公債費等 | E41: 元利償還金等 | G41: 算入公債費等 | H41: 元利償還金等 | J41: 算入公債費等 | K41: 元利償還金等 | M41: 算入公債費等 | N41: 元利償還金等 | P41: 算入公債費等
A42: 算入公債費等 | D42: =#REF! -> #REF! | G42: =#REF! -> #REF! | J42: =#REF! -> #REF! | M42: =#REF! -> #REF! | P42: =#REF! -> #REF!
A43: 一時借入金の利子 | B43: =#REF! -> #REF! | E43: =#REF! -> #REF! | H43: =#REF! -> #REF! | K43: =#REF! -> #REF! | N43: =#REF! -> #REF!
A44: 債務負担行為に基づく支出額 | B44: =#REF! -> #REF! | E44: =#REF! -> #REF! | H44: =#REF! -> #REF! | K44: =#REF! -> #REF! | N44: =#REF! -> #REF!
A45: 組合等が起こした地方債の元利償還金に対する負担金等 | B45: =#REF! -> #REF! | E45: =#REF! -> #REF! | H45: =#REF! -> #REF! | K45: =#REF! -> #REF! | N45: =#REF! -> #REF!
A46: 公営企業債の元利償還金に対する繰入金 | B46: =#REF! -> #REF! | E46: =#REF! -> #REF! | H46: =#REF! -> #REF! | K46: =#REF! -> #REF! | N46: =#REF! -> #REF!
A47: 満期一括償還地方債に係る年度割相当額 | B47: =#REF! -> #REF! | E47: =#REF! -> #REF! | H47: =#REF! -> #REF! | K47: =#REF! -> #REF! | N47: =#REF! -> #REF!
...
