Workbook

Sheet 総括表
B1: 令和6年度 財政状況資料集
B2: 総括表（市町村）
B3: 都道府県名 | L3: 大阪府 | W3: 市町村類型 | AC3: Ⅲ－３ | AM3: 指定団体等の指定状況 | AY3: 区分 | BN3: 令和6年度(千円) | BV3: 令和5年度(千円) | CD3: 区分 | CT3: 令和6年度(千円･％) | DB3: 令和5年度(千円･％)
AY4: 歳入総額 | BN4: 46014029 | BV4: 44614676 | CD4: 実質収支比率 | CT4: 0.5 | DB4: 0.4
AM5: 財政健全化等 | AU5: × | AY5: 歳出総額 | BN5: 45802609 | BV5: 44438043 | CD5: 経常収支比率 | CT5: 100.8 | DB5: 99.6
B6: 市町村名 | L6: 羽曳野市 | W6: 地方交付税種地 | AC6: 2-7 | AM6: 財源超過 | AU6: × | AY6: 歳入歳出差引 | BN6: 211420 | BV6: 176633 | CD6: (※1) | CT6: 100.8 | DB6: 99.9
AM7: 首都 | AU7: × | AY7: 翌年度に繰越すべき財源 | BN7: 90366 | BV7: 70717 | CD7: 標準財政規模 | CT7: 24999978 | DB7: 24670024
AM8: 近畿 | AU8: ○ | AY8: 実質収支 | BN8: 121054 | BV8: 105916 | CD8: 財政力指数 | CT8: 0.55 | DB8: 0.55
B9: 人口 | L9: 令和2年国調(人) | R9: 108736 | W9: 産業構造 (※5) | AM9: 中部 | AU9: × | AY9: 単年度収支 | BN9: 15138 | BV9: 173 | CD9: 公債費負担比率 | CT9: 10.9 | DB9: 13.4
L10: 平成27年国調(人) | R10: 112683 | AM10: 過疎 | AU10: × | AY10: 積立金 | BN10: 54899 | BV10: 255199 | CD10: 健全化判断比率
L11: 増減率 (％) | R11: -3.5 | AM11: 山振 | AU11: × | AY11: 繰上償還金 | BN11: 0 | BV11: 590000 | CD11: 実質赤字比率 | CT11: - | DB11: -
B12: 住民基本台帳人口 (※7) | L12: 令07.01.01(人) | R12: 107406 | W12: 区分 | AC12: 令和2年国調 | AH12: 平成27年国調 | AM12: 低開発 | AU12: × | AY12: 積立金取崩し額 | BN12: 430000 | BV12: 300000 | CD12: 連結実質赤字比率 | CT12: - | DB12: -
M13: うち日本人(人) | R13: 105679 | W13: 第1次 | AC13: 486 | AH13: 516 | AM13: 指数表選定 | AU13: ○ | AY13: 実質単年度収支 | BN13: -359963 | BV13: 545372 | CD13: 実質公債費比率 | CT13: 3.9 | DB13: 3.9
L14: 令06.01.01(人) | R14: 108213 | AC14: 1.1 | AH14: 1.1 | CD14: 将来負担比率 | CT14: - | DB14: -
M15: うち日本人(人) | R15: 106704 | W15: 第2次 | AC15: 11264 | AH15: 12226 | AY15: 基準財政収入額 | BN15: 12026140 | BV15: 12029279 | CD15: 資金不足比率 (※4)
L16: 増減率 (％) | R16: -0.7 | AC16: 24.9 | AH16: 26.5 | AY16: 基準財政需要額 | BN16: 21740545 | BV16: 21354156
M17: うち日本人(％) | R17: -1.0 | W17: 第3次 | AC17: 33508 | AH17: 33367 | AY17: 標準税収入額等 | BN17: 15163717 | BV17: 15162659
B18: 面積 (k㎡) | L18: 26.45 | AC18: 74 | AH18: 72.4 | AY18: 経常経費充当一般財源等 | BN18: 25928738 | BV18: 25032275
B19: 人口密度 (人/k㎡) | L19: 4111 | AY19: 歳入一般財源等 | BN19: 29837350 | BV19: 30011597
B20: 世帯数 (世帯) | L20: 45008
B21: 職員の状況 (※8)
B22: 特別職等 | E22: 区分 | L22: 定数 | Q22: 1人あたり平均 給料月額(百円) | W22: 一般職員等(※6) | Z22: 区分 | AH22: 職員数 (人) | AM22: 給料月額 (百円) | AS22: 1人あたり平均 給料月額(百円) | AY22: 地方債現在高 | BN22: 29390498 | BV22: 31298751
AY23: うち公的資金 | BN23: 20155784 | BV23: 21356653
E24: 市区町村長 | L24: 1 | Q24: 6930 | Z24: 一般職員 | AH24: 571 | AM24: 1819777 | AS24: 3187 | AY24: 地方債現在高（臨時財政対策債除き） | BN24: 15325688 | BV24: 15650949
E25: 副市区町村長 | L25: 2 | Q25: 7000 | Z25: うち消防職員 | AH25: - | AM25: - | AS25: - | AY25: 債務負担行為額（支出予定額） | BN25: 8506824 | BV25: 7095403
E26: 教育長 | L26: 1 | Q26: 7000 | Z26: うち技能労務職員 | AH26: - | AM26: - | AS26: - | AY26: 収益事業収入 | BN26: - | BV26: -
E27: 議会議長 | L27: 1 | Q27: 7000 | Z27: 教育公務員 | AH27: 35 | AM27: 118875 | AS27: 3396 | AY27: 土地開発基金現在高 | BN27: - | BV27: -
E28: 議会副議長 | L28: 1 | Q28: 6500 | Z28: 臨時職員 | AH28: - | AM28: - | AS28: - | AY28: 積立金 現在高 | BC28: 財政調整基金 | BN28: 4542721 | BV28: 4916616
E29: 議会議員 | L29: 16 | Q29: 6000 | Z29: 合計 | AH29: 606 | AM29: 1938652 | AS29: 3199 | BC29: 減債基金 | BN29: 22730 | BV29: 1413
W30: ラスパイレス指数 | AH30: 100.7 | BC30: その他特定目的基金 | BN30: 2971444 | BV30: 2731766
C32: 一般会計等の一覧 | U32: 事業会計の一覧 | AM32: 公営企業（法適）の一覧 | BE32: 公営企業（法非適）の一覧 | BW32: 関係する一部事務組合等一覧 | CO32: 地方公社・第三セクター等一覧
C33: 項番 | E33: 会計名 | U33: 項番 | W33: 会計名 | AM33: 項番 | AO33: 会計名 | BE33: 項番 | BG33: 会計名 | BW33: 項番 | BY33: 組合等名 | CO33: 項番 | CQ33: 団体名 | DG33: (※3)
C34: =IF(E34="","",1) -> 1 | E34: =IF('(2)各会計、関係団体の財政状況及び健全化判断比率'!B7="","",'(2)各会計、関係団体の財政状況及び健全化判断比率'!B7) -> 一般会計 | U34: =IF(W34="","",MAX(C34:D43)+1) -> 3 | W34: =IF('(2)各会計、関係団体の財政状況及び健全化判断比率'!B28="","",'(2)各会計、関係団体の財政状況及び健全化判断比率'!B28) -> 国民健康保険特別会計 | AM34: =IF(AO34="","",MAX(C34:D43,U34:V43)+1) -> 6 | AO34: =IF('(2)各会計、関係団体の財政状況及び健全化判断比率'!B31="","",'(2)各会計、関係団体の財政状況及び健全化判断比率'!B31) -> 水道事業会計 | BE34: =IF(BG34="","",MAX(C34:D43,U34:V43,AM34:AN43)+1) -> 8 | BG34: =IF('(2)各会計、関係団体の財政状況及び健全化判断比率'!B33="","",'(2)各会計、関係団体の財政状況及び健全化判断比率'!B33) -> と畜場特別会計 | BW34: =IF(BY34="","",MAX(C34:D43,U34:V43,AM34:AN43,BE34:BF43)+1) -> 9 | BY34: =IF('(2)各会計、関係団体の財政状況及び健全化判断比率'!B68="","",'(2)各会計、関係団体の財政状況及び健全化判断比率'!B68) -> 柏羽藤環境事業組合 | CO34: =IF(CQ34="","",MAX(C34:D43,U34:V43,AM34:AN43,BE34:BF43,BW34:BX43)+1) -> 15 | CQ34: =IF('(2)各会計、関係団体の財政状況及び健全化判断比率'!BS7="","",'(2)各会計、関係団体の財政状況及び健全化判断比率'!BS7) -> はびきのエル・エス | DG34: =IF('(2)各会計、関係団体の財政状況及び健全化判断比率'!BR7="","",'(2)各会計、関係団体の財政状況及び健全化判断比率'!BR7)
C35: =IF(E35="","",C34+1) -> 2 | E35: =IF('(2)各会計、関係団体の財政状況及び健全化判断比率'!B8="","",'(2)各会計、関係団体の財政状況及び健全化判断比率'!B8) -> 土地取得特別会計 | U35: =IF(W35="","",U34+1) -> 4 | W35: =IF('(2)各会計、関係団体の財政状況及び健全化判断比率'!B29="","",'(2)各会計、関係団体の財政状況及び健全化判断比率'!B29) -> 介護保険特別会計 | AM35: =IF(AO35="","",AM34+1) -> 7 | AO35: =IF('(2)各会計、関係団体の財政状況及び健全化判断比率'!B32="","",'(2)各会計、関係団体の財政状況及び健全化判断比率'!B32) -> 下水道事業会計 | BE35: =IF(BG35="","",BE34+1) | BW35: =IF(BY35="","",BW34+1) -> 10 | BY35: =IF('(2)各会計、関係団体の財政状況及び健全化判断比率'!B69="","",'(2)各会計、関係団体の財政状況及び健全化判断比率'!B69) -> 大阪南消防組合 | CO35: =IF(CQ35="","",CO34+1) -> 16 | CQ35: =IF('(2)各会計、関係団体の財政状況及び健全化判断比率'!BS8="","",'(2)各会計、関係団体の財政状況及び健全化判断比率'!BS8) -> みのりの里 | DG35: =IF('(2)各会計、関係団体の財政状況及び健全化判断比率'!BR8="","",'(2)各会計、関係団体の財政状況及び健全化判断比率'!BR8)
C36: =IF(E36="","",C35+1) | E36: =IF('(2)各会計、関係団体の財政状況及び健全化判断比率'!B9="","",'(2)各会計、関係団体の財政状況及び健全化判断比率'!B9) | U36: =IF(W36="","",U35+1) -> 5 | W36: =IF('(2)各会計、関係団体の財政状況及び健全化判断比率'!B30="","",'(2)各会計、関係団体の財政状況及び健全化判断比率'!B30) -> 後期高齢者医療特別会計 | AM36: =IF(AO36="","",AM35+1) | BE36: =IF(BG36="","",BE35+1) | BW36: =IF(BY36="","",BW35+1) -> 11 | BY36: =IF('(2)各会計、関係団体の財政状況及び健全化判断比率'!B70="","",'(2)各会計、関係団体の財政状況及び健全化判断比率'!B70) -> 大阪府後期高齢者医療広域連合（一般会計） | CO36: =IF(CQ36="","",CO35+1) -> 17 | CQ36: =IF('(2)各会計、関係団体の財政状況及び健全化判断比率'!BS9="","",'(2)各会計、関係団体の財政状況及び健全化判断比率'!BS9) -> 大阪はびきの観光局 | DG36: =IF('(2)各会計、関係団体の財政状況及び健全化判断比率'!BR9="","",'(2)各会計、関係団体の財政状況及び健全化判断比率'!BR9)
C37: =IF(E37="","",C36+1) | E37: =IF('(2)各会計、関係団体の財政状況及び健全化判断比率'!B10="","",'(2)各会計、関係団体の財政状況及び健全化判断比率'!B10) | U37: =IF(W37="","",U36+1) | AM37: =IF(AO37="","",AM36+1) | BE37: =IF(BG37="","",BE36+1) | BW37: =IF(BY37="","",BW36+1) -> 12 | BY37: =IF('(2)各会計、関係団体の財政状況及び健全化判断比率'!B71="","",'(2)各会計、関係団体の財政状況及び健全化判断比率'!B71) -> 大阪府後期高齢者医療広域連合（後期高齢者医療特別会計） | CO37: =IF(CQ37="","",CO36+1) | CQ37: =IF('(2)各会計、関係団体の財政状況及び健全化判断比率'!BS10="","",'(2)各会計、関係団体の財政状況及び健全化判断比率'!BS10) | DG37: =IF('(2)各会計、関係団体の財政状況及び健全化判断比率'!BR10="","",'(2)各会計、関係団体の財政状況及び健全化判断比率'!BR10)
C38: =IF(E38="","",C37+1) | E38: =IF('(2)各会計、関係団体の財政状況及び健全化判断比率'!B11="","",'(2)各会計、関係団体の財政状況及び健全化判断比率'!B11) | U38: =IF(W38="","",U37+1) | AM38: =IF(AO38="","",AM37+1) | BE38: =IF(BG38="","",BE37+1) | BW38: =IF(BY38="","",BW37+1) -> 13 | BY38: =IF('(2)各会計、関係団体の財政状況及び健全化判断比率'!B72="","",'(2)各会計、関係団体の財政状況及び健全化判断比率'!B72) -> 大阪広域水道企業団（水道事業会計） | CO38: =IF(CQ38="","",CO37+1) | CQ38: =IF('(2)各会計、関係団体の財政状況及び健全化判断比率'!BS11="","",'(2)各会計、関係団体の財政状況及び健全化判断比率'!BS11) | DG38: =IF('(2)各会計、関係団体の財政状況及び健全化判断比率'!BR11="","",'(2)各会計、関係団体の財政状況及び健全化判断比率'!BR11)
C39: =IF(E39="","",C38+1) | E39: =IF('(2)各会計、関係団体の財政状況及び健全化判断比率'!B12="","",'(2)各会計、関係団体の財政状況及び健全化判断比率'!B12) | U39: =IF(W39="","",U38+1) | AM39: =IF(AO39="","",AM38+1) | BE39: =IF(BG39="","",BE38+1) | BW39: =IF(BY39="","",BW38+1) -> 14 | BY39: =IF('(2)各会計、関係団体の財政状況及び健全化判断比率'!B73="","",'(2)各会計、関係団体の財政状況及び健全化判断比率'!B73) -> 大阪広域水道企業団（工業用水道事業会計） | CO39: =IF(CQ39="","",CO38+1) | CQ39: =IF('(2)各会計、関係団体の財政状況及び健全化判断比率'!BS12="","",'(2)各会計、関係団体の財政状況及び健全化判断比率'!BS12) | DG39: =IF('(2)各会計、関係団体の財政状況及び健全化判断比率'!BR12="","",'(2)各会計、関係団体の財政状況及び健全化判断比率'!BR12)
C40: =IF(E40="","",C39+1) | E40: =IF('(2)各会計、関係団体の財政状況及び健全化判断比率'!B13="","",'(2)各会計、関係団体の財政状況及び健全化判断比率'!B13) | U40: =IF(W40="","",U39+1) | AM40: =IF(AO40="","",AM39+1) | BE40: =IF(BG40="","",BE39+1) | BW40: =IF(BY40="","",BW39+1) | BY40: =IF('(2)各会計、関係団体の財政状況及び健全化判断比率'!B74="","",'(2)各会計、関係団体の財政状況及び健全化判断比率'!B74) | CO40: =IF(CQ40="","",CO39+1) | CQ40: =IF('(2)各会計、関係団体の財政状況及び健全化判断比率'!BS13="","",'(2)各会計、関係団体の財政状況及び健全化判断比率'!BS13) | DG40: =IF('(2)各会計、関係団体の財政状況及び健全化判断比率'!BR13="","",'(2)各会計、関係団体の財政状況及び健全化判断比率'!BR13)
C41: =IF(E41="","",C40+1) | E41: =IF('(2)各会計、関係団体の財政状況及び健全化判断比率'!B14="","",'(2)各会計、関係団体の財政状況及び健全化判断比率'!B14) | U41: =IF(W41="","",U40+1) | AM41: =IF(AO41="","",AM40+1) | BE41: =IF(BG41="","",BE40+1) | BW41: =IF(BY41="","",BW40+1) | BY41: =IF('(2)各会計、関係団体の財政状況及び健全化判断比率'!B75="","",'(2)各会計、関係団体の財政状況及び健全化判断比率'!B75) | CO41: =IF(CQ41="","",CO40+1) | CQ41: =IF('(2)各会計、関係団体の財政状況及び健全化判断比率'!BS14="","",'(2)各会計、関係団体の財政状況及び健全化判断比率'!BS14) | DG41: =IF('(2)各会計、関係団体の財政状況及び健全化判断比率'!BR14="","",'(2)各会計、関係団体の財政状況及び健全化判断比率'!BR14)
...

Sheet (1)普通会計の状況
DH1: 令和6年度 | DP1: 大阪府羽曳野市
B2: (1) 普通会計の状況（市町村）
B3: 歳入の状況（単位 千円・％） | AP3: 地方税の状況（単位 千円・％） | CD3: 歳出の状況（単位 千円・％）
B4: 区分 | R4: 決算額 | Z4: 構成比 | AD4: 経常一般財源等 | AL4: 構成比 | AP4: 区分 | BG4: 収入済額 | BO4: 構成比 | BS4: 超過課税分 | CD4: 目的別歳出の状況（単位 千円・％）
B5: 地方税 | R5: 12693464 | Z5: 27.6 | AD5: 11690795 | AL5: 45.5 | AP5: 普通税 | BG5: 11651209 | BO5: 91.8 | BS5: 132871 | CD5: 区分 | CR5: 決算額 (A) | CZ5: 構成比 | DD5: (A)のうち普通建設事業費 | DQ5: (A)のうち充当一般財源等
B6: 地方譲与税 | R6: 196287 | Z6: 0.4 | AD6: 196287 | AL6: 0.8 | AP6: 法定普通税 | BG6: 11651209 | BO6: 91.8 | BS6: 132871 | CD6: 議会費 | CR6: 250641 | CZ6: 0.5 | DD6: - | DQ6: 250641
B7: 利子割交付金 | R7: 15458 | Z7: 0 | AD7: 15458 | AL7: 0.1 | AP7: 市町村民税 | BG7: 5842230 | BO7: 46 | BS7: 132871 | CD7: 総務費 | CR7: 4051294 | CZ7: 8.8 | DD7: 14566 | DQ7: 3362840
B8: 配当割交付金 | R8: 171448 | Z8: 0.4 | AD8: 171448 | AL8: 0.7 | AP8: 個人均等割 | BG8: 159110 | BO8: 1.3 | BS8: - | CD8: 民生費 | CR8: 25340608 | CZ8: 55.3 | DD8: 313856 | DQ8: 12471601
B9: 株式等譲渡所得割交付金 | R9: 225613 | Z9: 0.5 | AD9: 225613 | AL9: 0.9 | AP9: 所得割 | BG9: 4996715 | BO9: 39.4 | BS9: - | CD9: 衛生費 | CR9: 3237741 | CZ9: 7.1 | DD9: 22137 | DQ9: 2879887
B10: 分離課税所得割交付金 | R10: - | Z10: - | AD10: - | AL10: - | AP10: 法人均等割 | BG10: 223638 | BO10: 1.8 | BS10: - | CD10: 労働費 | CR10: 22211 | CZ10: 0 | DD10: - | DQ10: 19985
B11: 地方消費税交付金 | R11: 2540325 | Z11: 5.5 | AD11: 2540325 | AL11: 9.9 | AP11: 法人税割 | BG11: 462767 | BO11: 3.6 | BS11: 132871 | CD11: 農林水産業費 | CR11: 141109 | CZ11: 0.3 | DD11: 2483 | DQ11: 126334
B12: ゴルフ場利用税交付金 | R12: - | Z12: - | AD12: - | AL12: - | AP12: 固定資産税 | BG12: 4910867 | BO12: 38.7 | BS12: - | CD12: 商工費 | CR12: 360192 | CZ12: 0.8 | DD12: 53195 | DQ12: 241276
B13: 自動車取得税交付金 | R13: - | Z13: - | AD13: - | AL13: - | AP13: うち純固定資産税 | BG13: 4855988 | BO13: 38.3 | BS13: - | CD13: 土木費 | CR13: 2571005 | CZ13: 5.6 | DD13: 571358 | DQ13: 1922495
B14: 軽油引取税交付金 | R14: - | Z14: - | AD14: - | AL14: - | AP14: 軽自動車税 | BG14: 246194 | BO14: 1.9 | BS14: - | CD14: 消防費 | CR14: 1410973 | CZ14: 3.1 | DD14: 33088 | DQ14: 1367380
B15: 自動車税環境性能割交付金 | R15: 53369 | Z15: 0.1 | AD15: 53369 | AL15: 0.2 | AP15: 市町村たばこ税 | BG15: 651918 | BO15: 5.1 | BS15: - | CD15: 教育費 | CR15: 5136269 | CZ15: 11.2 | DD15: 893059 | DQ15: 3740779
B16: 法人事業税交付金 | R16: 259488 | Z16: 0.6 | AD16: 259488 | AL16: 1 | AP16: 鉱産税 | BG16: - | BO16: - | BS16: - | CD16: 災害復旧費 | CR16: - | CZ16: - | DD16: - | DQ16: -
B17: 地方特例交付金等 | R17: 571700 | Z17: 1.2 | AD17: 571700 | AL17: 2.2 | AP17: 特別土地保有税 | BG17: - | BO17: - | BS17: - | CD17: 公債費 | CR17: 3280566 | CZ17: 7.2 | DD17: - | DQ17: 3242712
B18: 住宅借入金等特別税額控除減収補塡特例交付金 | R18: 114895 | Z18: 0.2 | AD18: 114895 | AL18: 0.4 | AP18: 法定外普通税 | BG18: - | BO18: - | BS18: - | CD18: 諸支出金 | CR18: - | CZ18: - | DD18: - | DQ18: -
B19: 定額減税減収補塡特例交付金 | R19: 453659 | Z19: 1 | AD19: 453659 | AL19: 1.8 | AP19: 目的税 | BG19: 1042255 | BO19: 8.2 | BS19: - | CD19: 前年度繰上充用金 | CR19: - | CZ19: - | DD19: - | DQ19: -
B20: 新型コロナウイルス感染症対策地方税減収補塡特別交付金 | R20: 3146 | Z20: 0 | AD20: 3146 | AL20: 0 | AP20: 法定目的税 | BG20: 1042255 | BO20: 8.2 | BS20: - | CD20: 歳出合計 | CR20: 45802609 | CZ20: 100 | DD20: 1903742 | DQ20: 29625930
B21: 地方交付税 | R21: 9938535 | Z21: 21.6 | AD21: 9742746 | AL21: 37.9 | AP21: 入湯税 | BG21: 39586 | BO21: 0.3 | BS21: -
B22: 普通交付税 | R22: 9742746 | Z22: 21.2 | AD22: 9742746 | AL22: 37.9 | AP22: 事業所税 | BG22: - | BO22: - | BS22: - | CD22: 性質別歳出の状況（単位 千円・％）
B23: 特別交付税 | R23: 195789 | Z23: 0.4 | AD23: - | AL23: - | AP23: 都市計画税 | BG23: 1002669 | BO23: 7.9 | BS23: - | CD23: 区分 | CR23: 決算額 | CZ23: 構成比 | DD23: 充当一般財源等 | DL23: 経常経費充当一般財源等 | DW23: 経常収支比率
B24: 震災復興特別交付税 | R24: - | Z24: - | AD24: - | AL24: - | AP24: 水利地益税等 | BG24: - | BO24: - | BS24: - | CD24: 義務的経費計 | CR24: 27533354 | CZ24: 60.1 | DD24: 15596705 | DL24: 13922405 | DW24: 54.1
B25: (一般財源計) | R25: 26665687 | Z25: 58 | AD25: 25467229 | AL25: 99.1 | AP25: 法定外目的税 | BG25: - | BO25: - | BS25: - | CD25: 人件費 | CR25: 7257948 | CZ25: 15.8 | DD25: 6516085 | DL25: 6480304 | DW25: 25.2
B26: 交通安全対策特別交付金 | R26: 12023 | Z26: 0 | AD26: 12023 | AL26: 0 | AP26: 旧法による税 | BG26: - | BO26: - | BS26: - | CD26: うち職員給 | CR26: 4021137 | CZ26: 8.8 | DD26: 3675080 | DL26: - | DW26: -
B27: 分担金・負担金 | R27: 69189 | Z27: 0.2 | AD27: - | AL27: - | AP27: 合計 | BG27: 12693464 | BO27: 100 | BS27: 132871 | CD27: 扶助費 | CR27: 16994840 | CZ27: 37.1 | DD27: 5837908 | DL27: 4199389 | DW27: 16.3
B28: 使用料 | R28: 409876 | Z28: 0.9 | AD28: 213284 | AL28: 0.8 | CD28: 公債費 | CR28: 3280566 | CZ28: 7.2 | DD28: 3242712 | DL28: 3242712 | DW28: 12.6
B29: 手数料 | R29: 60195 | Z29: 0.1 | AD29: - | AL29: - | CD29: 内訳 | CF29: 元利償還金 | CR29: 3279217 | CZ29: 7.2 | DD29: 3241363 | DL29: 3241363 | DW29: 12.6
B30: 国庫支出金 | R30: 11934913 | Z30: 25.9 | AD30: - | AL30: - | AP30: 区分 | BG30: 令和6年度 | BR30: 令和5年度 | CF30: うち元金 | CR30: 3180053 | CZ30: 6.9 | DD30: 3142199 | DL30: 3142199 | DW30: 12.2
B31: 国有提供交付金(特別区財調交付金) | R31: - | Z31: - | AD31: - | AL31: - | AP31: 徴収率 (％) | AT31: 現年 | AX31: 合計 | BG31: 99.7 | BM31: 99.3 | BR31: 99.6 | BX31: 99 | CF31: うち利子 | CR31: 99164 | CZ31: 0.2 | DD31: 99164 | DL31: 99164 | DW31: 0.4
B32: 都道府県支出金 | R32: 3842378 | Z32: 8.4 | AD32: - | AL32: - | AU32: ・計 | AX32: 市町村民税 | BG32: 99.6 | BM32: 99.1 | BR32: 99.5 | BX32: 98.5 | CF32: 一時借入金利子 | CR32: 1349 | CZ32: 0 | DD32: 1349 | DL32: 1349 | DW32: 0
B33: 財産収入 | R33: 154988 | Z33: 0.3 | AD33: 15233 | AL33: 0.1 | AX33: 純固定資産税 | BG33: 99.7 | BM33: 99.5 | BR33: 99.7 | BX33: 99.4 | CD33: その他の経費 | CR33: 16365513 | CZ33: 35.7 | DD33: 13708697 | DL33: 12006333 | DW33: 46.7
B34: 寄附金 | R34: 107877 | Z34: 0.2 | AD34: - | AL34: - | CD34: 物件費 | CR34: 5377940 | CZ34: 11.7 | DD34: 4526757 | DL34: 3901750 | DW34: 15.2
B35: 繰入金 | R35: 687626 | Z35: 1.5 | AD35: - | AL35: - | AQ35: 公営事業等への繰出 | BG35: 国民健康保険事業会計の状況 | CD35: 維持補修費 | CR35: 107169 | CZ35: 0.2 | DD35: 98104 | DL35: 98104 | DW35: 0.4
B36: 繰越金 | R36: 176633 | Z36: 0.4 | AD36: - | AL36: - | AQ36: 合計 | AZ36: 6266987 | BG36: 実質収支 | BV36: 29334 | CD36: 補助費等 | CR36: 5184252 | CZ36: 11.3 | DD36: 4599298 | DL36: 4078583 | DW36: 15.9
B37: 諸収入 | R37: 620844 | Z37: 1.3 | AD37: 3320 | AL37: 0 | AQ37: 下水道 | AZ37: 1020523 | BG37: 再差引収支 | BV37: -99402 | CD37: うち一部事務組合負担金 | CR37: 2209730 | CZ37: 4.8 | DD37: 2209407 | DL37: 2114442 | DW37: 8.2
B38: 地方債 | R38: 1271800 | Z38: 2.8 | AD38: - | AL38: - | AQ38: と畜場 | AZ38: 65537 | BG38: 加入世帯数(世帯) | BV38: 13599 | CD38: 繰出金 | CR38: 5237447 | CZ38: 11.4 | DD38: 4133900 | DL38: 3927896 | DW38: 15.3
B39: うち減収補塡債(特例分) | R39: - | Z39: - | AD39: - | AL39: - | AQ39: 上水道 | AZ39: 9017 | BG39: 被保険者数(人) | BV39: 20270 | CD39: 積立金 | CR39: 458705 | CZ39: 1 | DD39: 350638 | DL39: - | DW39: -
B40: うち臨時財政対策債 | R40: - | Z40: - | AD40: - | AL40: - | AQ40: 工業用水道 | AZ40: - | BG40: 被保険者 1人当り | BM40: 保険税(料)収入額 | BV40: 118 | CD40: 投資・出資金・貸付金 | CR40: - | CZ40: - | DD40: - | DL40: - | DW40: -
...

Sheet (2)各会計、関係団体の財政状況及び健全化判断比率
A2: (2)各会計、関係団体の財政状況及び健全化判断比率（市町村） | DJ2: 令和6年度 | DQ2: 大阪府羽曳野市
A4: 一般会計等の財政状況（単位：百万円） | BQ4: 地方公社・第三セクター等の経営状況及び地方公共団体の財政的支援の状況（単位：百万円）
A5: 会計名 | Q5: 歳入 | V5: 歳出 | AA5: 形式収支 | AF5: 実質収支 | AK5: 他会計等 からの 繰入金 | AP5: 地方債 現在高 | AU5: 備考 | BQ5: 地方公社・第三セクター等名 | CH5: 経常損益 | CM5: 純資産又は 正味財産 | CR5: 当該団体 からの 出資金 | CW5: 当該団体 からの 補助金 | DB5: 当該団体 からの 貸付金 | DG5: 当該団体からの債務保証に係る債務残高 | DL5: 当該団体からの損失補償に係る債務残高 | DQ5: 一般会計等 負担見込額 | DV5: 備考
A7: 1 | B7: 一般会計 | Q7: 46162 | V7: 45951 | AA7: 211 | AF7: 121 | AK7: 724 | AP7: 28303 | BQ7: 1 | BS7: はびきのエル・エス | CH7: - | CM7: 10 | CR7: 10 | CW7: 302 | DB7: - | DG7: - | DL7: - | DQ7: -
A8: 2 | B8: 土地取得特別会計 | Q8: 445 | V8: 445 | AA8: 0 | AF8: - | AK8: 232 | AP8: 1087 | BQ8: 2 | BS8: みのりの里 | CH8: -7 | CM8: 0 | CR8: 21 | CW8: - | DB8: - | DG8: - | DL8: - | DQ8: -
A9: 3 | BQ9: 3 | BS9: 大阪はびきの観光局 | CH9: 0 | CM9: 21 | CR9: 5 | CW9: 56 | DB9: - | DG9: - | DL9: - | DQ9: -
A10: 4 | BQ10: 4
A11: 5 | BQ11: 5
A12: 6 | BQ12: 6
A13: 7 | BQ13: 7
A14: 8 | BQ14: 8
A15: 9 | BQ15: 9
A16: 10 | BQ16: 10
A17: 11 | BQ17: 11
A18: 12 | BQ18: 12
A19: 13 | BQ19: 13
A20: 14 | BQ20: 14
A21: 15 | BQ21: 15
A22: 16 | AZ22: 実質赤字額 | BQ22: 16
A23: 計 | B23: 一般会計等（純計） | Q23: 46339 | V23: 46127 | AA23: 211 | AF23: 121 | AP23: 29390 | AZ23: - | BQ23: 17
A24: ※一般会計等（純計）は、各会計の相互間の繰入・繰出等の重複を控除したものであり、各会計の合計と一致しない場合がある。 | BQ24: 18
A25: 公営企業会計等の財政状況（単位：百万円） | BQ25: 19
A26: 会計名 | Q26: 総収益 （歳入） | V26: 総費用 （歳出） | AA26: 純損益 （形式収支） | AF26: 資金剰余額 /不足額 （実質収支） | AK26: 他会計等 からの 繰入金 | AP26: 企業債 （地方債） 現在高 | AU26: 左のうち 一般会計等 繰入見込額 | AZ26: 資金不足 比率 | BE26: 備考 | BQ26: 20
BQ27: 21
A28: 1 | B28: 国民健康保険特別会計 | Q28: 12164 | V28: 12135 | AA28: 29 | AF28: 29 | AK28: 1410 | AP28: - | AU28: - | AZ28: - | BQ28: 22
A29: 2 | B29: 介護保険特別会計 | Q29: 12326 | V29: 12089 | AA29: 238 | AF29: 238 | AK29: 2188 | AP29: - | AU29: - | AZ29: - | BQ29: 23
A30: 3 | B30: 後期高齢者医療特別会計 | Q30: 2372 | V30: 2294 | AA30: 79 | AF30: 79 | AK30: 472 | AP30: - | AU30: - | AZ30: - | BQ30: 24
A31: 4 | B31: 水道事業会計 | Q31: 2252 | V31: 2004 | AA31: 249 | AF31: 1762 | AK31: 39 | AP31: 1510 | AU31: 47 | AZ31: - | BE31: 法適用企業 | BQ31: 25
A32: 5 | B32: 下水道事業会計 | Q32: 2922 | V32: 2915 | AA32: 7 | AF32: 89 | AK32: 1021 | AP32: 26110 | AU32: 15040 | AZ32: - | BE32: 法適用企業 | BQ32: 26
A33: 6 | B33: と畜場特別会計 | Q33: 187 | V33: 187 | AA33: - | AF33: - | AK33: 66 | AP33: 200 | AU33: 193 | AZ33: - | BE33: 法非適用企業 | BQ33: 27
A34: 7 | BQ34: 28
A35: 8 | BQ35: 29
A36: 9 | BQ36: 30
A37: 10 | BQ37: 31
A38: 11 | BQ38: 32
A39: 12 | BQ39: 33
A40: 13 | BQ40: 34
A41: 14 | BQ41: 35
A42: 15 | BQ42: 36
A43: 16 | BQ43: 37
...

Sheet (3)財政比較分析表

Sheet (4)-1経常経費分析表（経常収支比率の分析）

Sheet 経常経費分析表(人件費・公債費・普通建設事業費の分析)
A5: 人件費及び人件費に準ずる費用の分析
AK6: 人件費及び人件費に準ずる費用
AO7: 当該団体決算額 （千円） | AQ7: 人口1人当たり決算額
AP8: 当該団体（円） | AQ8: 類似団体平均（円） | AR8: 対比（％）
AK9: 人件費 | AO9: 7257948 | AP9: 67575 | AQ9: 68274 | AR9: -1
AK10: 一部事務組合負担金（補助費等） | AO10: 1328421 | AP10: 12368 | AQ10: 4860 | AR10: 154.5
AK11: 公営企業（法適）等に対する繰出し（補助費等） | AO11: 30616 | AP11: 285 | AQ11: 567 | AR11: -49.7
AK12: 公営企業（法適）等に対する繰出し（投資及び出資金・貸付金） | AO12: - | AP12: - | AQ12: 16 | AR12: -
AK13: 公営企業（法非適）等に対する繰出し（繰出金） | AO13: 578327 | AP13: 5384 | AQ13: 2777 | AR13: 93.9
AK14: 事業費支弁に係る職員の人件費（投資的経費） | AO14: 63402 | AP14: 590 | AQ14: 1330 | AR14: -55.6
AK15: ▲退職金 | AO15: -453672 | AP15: -4224 | AQ15: -3833 | AR15: 10.2
AK16: 合計 | AO16: 8805042 | AP16: 81979 | AQ16: 73991 | AR16: 10.8
AK19: 参考
AO20: 当該団体 | AP20: 類似団体平均 | AQ20: 対比（差引）
AK21: 人口1,000人当たり職員数（人） | AO21: 5.64 | AP21: 6.28 | AQ21: -0.64
AK22: ラスパイレス指数 | AO22: 100.7 | AP22: 98.7 | AQ22: 2
A26: （注）人口については、各調査対象年度の1月1日現在の住民基本台帳に登載されている人口に基づいている。
A28: 公債費及び公債費に準ずる費用の分析
AK29: 公債費及び公債費に準ずる費用（実質公債費比率の構成要素）
AO30: 当該団体決算額 （千円） | AQ30: 人口1人当たり決算額
AP31: 当該団体（円） | AQ31: 類似団体平均（円） | AR31: 対比（％）
AK32: 元利償還金の額 （繰上償還額等を除く） | AO32: 3280566 | AP32: 30544 | AQ32: 32402 | AR32: -5.7
AK33: 積立不足額を考慮して算定した額 | AO33: - | AP33: - | AQ33: - | AR33: -
AK34: 満期一括償還地方債の一年当たりの元金償還金に相当するもの （年度割相当額） | AO34: - | AP34: - | AQ34: 16 | AR34: -
AK35: 公営企業に要する経費の財源とする地方債の償還の財源に 充てたと認められる繰入金 | AO35: 832495 | AP35: 7751 | AQ35: 5520 | AR35: 40.4
AK36: 一部事務組合等の起こした地方債に充てたと認められる 補助金又は負担金 | AO36: 180713 | AP36: 1683 | AQ36: 1296 | AR36: 29.9
AK37: 公債費に準ずる債務負担行為に係るもの | AO37: - | AP37: - | AQ37: 571 | AR37: -
AK38: 一時借入金利子 （同一団体における会計間の現金運用に係る利子は除く） | AO38: - | AP38: - | AQ38: 0 | AR38: -
AK39: ▲特定財源の額 | AO39: -976578 | AP39: -9092 | AQ39: -6093 | AR39: 49.2
AK40: ▲地方債に係る元利償還金及び準元利償還金に要する経費として 普通交付税の額の算定に用いる基準財政需要額に算入された額 | AO40: -2645973 | AP40: -24635 | AQ40: -23816 | AR40: 3.4
AK41: 合計 | AO41: 671223 | AP41: 6249 | AQ41: 9896 | AR41: -36.9
A47: （参考） 普通建設事業費の分析
AK48: 普通建設事業費
AM49: 当該団体決算額 （千円） | AN49: 人口１人当たり決算額
AN50: 当該団体(円) | AO50: 増減率(%)(A) | AP50: 類似団体平均(円) | AQ50: 増減率(%)(B) | AR50: (A)-(B)
AK51: R02 | AM51: 2278871 | AN51: 20697 | AO51: -2.9 | AP51: 44161 | AQ51: 3.1 | AR51: -6
AL52: うち単独分 | AM52: 987170 | AN52: 8966 | AO52: -42.2 | AP52: 23644 | AQ52: 3.1 | AR52: -45.3
AK53: R03 | AM53: 2150943 | AN53: 19632 | AO53: -5.1 | AP53: 43955 | AQ53: -0.5 | AR53: -4.6
AL54: うち単独分 | AM54: 836556 | AN54: 7635 | AO54: -14.8 | AP54: 21318 | AQ54: -9.8 | AR54: -5
AK55: R04 | AM55: 2655420 | AN55: 24370 | AO55: 24.1 | AP55: 41921 | AQ55: -4.6 | AR55: 28.7
...

Sheet (5)性質別歳出決算分析表（住民一人当たりのコスト）

Sheet (6)目的別歳出決算分析表（住民一人当たりのコスト）

Sheet (7)実質収支比率等に係る経年分析
J45: 標準財政規模比（％）
B46: 区分 | E46: 年度 | F46: R02 | G46: R03 | H46: R04 | I46: R05 | J46: R06
C47: 財政調整基金残高 | F47: 16.5 | G47: 19.62 | H47: 20.58 | I47: 19.93 | J47: 18.17
C48: 実質収支額 | F48: 0.43 | G48: 2.3 | H48: 0.44 | I48: 0.43 | J48: 0.48
C49: 実質単年度収支 | F49: 0.01 | G49: 5.61 | H49: ▲ 1.49 | I49: 2.21 | J49: ▲ 1.44

Sheet (8)連結実質赤字比率に係る赤字・黒字の構成分析
J32: 標準財政規模比（％）
B33: 会計 | E33: 年度 | F33: R02 | G33: R03 | H33: R04 | I33: R05 | J33: R06
C34: 水道事業会計 | F34: 13.13 | G34: 12.74 | H34: 12.61 | I34: 9.45 | J34: 7.04
C35: 介護保険特別会計 | F35: 1.91 | G35: 0.8 | H35: 0.71 | I35: 0.12 | J35: 0.95
C36: 一般会計 | F36: 0.43 | G36: 2.29 | H36: 0.43 | I36: 0.42 | J36: 0.48
C37: 下水道事業会計 | F37: 0 | G37: 0 | H37: 0.01 | I37: 0.1 | J37: 0.35
C38: 後期高齢者医療特別会計 | F38: 0.24 | G38: 0.24 | H38: 0.26 | I38: 0.27 | J38: 0.31
C39: 国民健康保険特別会計 | F39: 0.81 | G39: 0.69 | H39: 0.41 | I39: 0.11 | J39: 0.11
C40: 土地取得特別会計 | F40: 0 | G40: 0 | H40: 0 | I40: 0 | J40: 0
C41: と畜場特別会計 | F41: 0 | G41: 0 | H41: 0 | I41: 0 | J41: 0
C42: その他会計（赤字） | F42: - | G42: - | H42: - | I42: - | J42: -
C43: その他会計（黒字） | F43: - | G43: - | H43: - | I43: - | J43: -

Sheet (9)実質公債費比率（分子）の構造
O43: （百万円）
B44: 分子の構造 | J44: 年度 | K44: R02 | L44: R03 | M44: R04 | N44: R05 | O44: R06
B45: 元利償還金等(A) | E45: 元利償還金 | K45: 3396 | L45: 3335 | M45: 3451 | N45: 3436 | O45: 3281
E46: 減債基金積立不足算定額※2 | K46: - | L46: - | M46: - | N46: - | O46: -
E47: 満期一括償還地方債に係る年度割相当額 | K47: - | L47: - | M47: - | N47: - | O47: -
E48: 公営企業債の元利償還金に対する繰入金 | K48: 1186 | L48: 1136 | M48: 1220 | N48: 1087 | O48: 832
E49: 組合等が起こした地方債の元利償還金に対する負担金等 | K49: 120 | L49: 143 | M49: 164 | N49: 186 | O49: 181
E50: 債務負担行為に基づく支出額 | K50: - | L50: - | M50: - | N50: - | O50: -
E51: 一時借入金の利子 | K51: - | L51: - | M51: - | N51: - | O51: -
B52: 算入公債費等(B) | E52: 算入公債費等 | K52: 3964 | L52: 3938 | M52: 3855 | N52: 3822 | O52: 3623
B53: (A)－(B) | E53: 実質公債費比率の分子 | K53: 738 | L53: 676 | M53: 980 | N53: 887 | O53: 671
B54: ※ 減債基金積立不足算定額=(C)×(１－(D)/(E))
B56: （参考） | O56: （百万円）
J57: 年度 | K57: R02 | L57: R03 | M57: R04 | N57: R05 | O57: R06
B58: 減債基金 積立状況等（注） | D58: 満期一括償還地方債に係る実質償還額又は理論償還額のいずれか少ない額(C)
D59: 前年度末減債基金残高(D)
D60: 前年度末減債基金積立相当額(E)
D61: （注）減債基金のうち、実質公債費比率の算定に用いる満期一括償還地方債の償還の財源に係るもののみを記入。
D62: 減債基金積立金の年度を超えた一般会計又は特別会計への貸付額は控除して記入。

Sheet (10)将来負担比率（分子）の構造
M39: （百万円）
B40: 分子の構造 | H40: 年度 | I40: R02 | J40: R03 | K40: R04 | L40: R05 | M40: R06
B41: 将来負担額(A) | E41: 一般会計等に係る地方債の現在高 | I41: 36442 | J41: 35548 | K41: 34110 | L41: 31299 | M41: 29390
E42: 債務負担行為に基づく支出予定額 | I42: - | J42: - | K42: - | L42: - | M42: -
E43: 公営企業債等繰入見込額 | I43: 18844 | J43: 17879 | K43: 17209 | L43: 16180 | M43: 15279
E44: 組合等負担等見込額 | I44: 1089 | J44: 1100 | K44: 1086 | L44: 1844 | M44: 1448
E45: 退職手当負担見込額 | I45: 4456 | J45: 4482 | K45: 4469 | L45: 4576 | M45: 4528
E46: 設立法人等の負債額等負担見込額 | I46: 0 | J46: 0 | K46: 0 | L46: 0 | M46: 0
E47: うち、健全化法施行規則附則第三条に係る負担見込額 | I47: - | J47: - | K47: - | L47: - | M47: -
E48: 連結実質赤字額 | I48: - | J48: - | K48: - | L48: - | M48: -
E49: 組合等連結実質赤字額負担見込額 | I49: - | J49: - | K49: - | L49: - | M49: -
B50: 充当可能財源等(B) | E50: 充当可能基金 | I50: 8337 | J50: 8735 | K50: 7788 | L50: 8559 | M50: 7942
E51: 充当可能特定歳入 | I51: 12479 | J51: 12434 | K51: 12220 | L51: 12063 | M51: 13300
E52: 基準財政需要額算入見込額 | I52: 38873 | J52: 37843 | K52: 36486 | L52: 34912 | M52: 32890
B53: (A)－(B) | E53: 将来負担比率の分子 | I53: 1142 | J53: -3 | K53: 380 | L53: -1634 | M53: -3485

Sheet (11)基金残高に係る経年分析
H53: （百万円）
B54: 区分 | E54: 年度 | F54: R04 | G54: R05 | H54: R06
C55: 財政調整基金 | F55: 4961 | G55: 4917 | H55: 4543
C56: 減債基金 | F56: 591 | G56: 1 | H56: 23
C57: その他特定目的基金 | F57: 2688 | G57: 2732 | H57: 2971
C58: 公共施設整備基金 | F58: 1789 | G58: 1844 | H58: 2108
C59: 羽曳野市ファイン推進基金 | F59: 560 | G59: 560 | H59: 557
C60: 羽曳野市公営住宅整備基金 | F60: 92 | G60: 77 | H60: 77
C61: ふるさと羽曳野まちづくり基金 | F61: 92 | G61: 97 | H61: 75
C62: 羽曳野市教育振興基金 | F62: 68 | G62: 66 | H62: 64
C63: 基金残高合計 | F63: 8240 | G63: 7650 | H63: 7537

Sheet 公会計指標分析・財政指標組合せ分析表
B41: 将来負担比率及び有形固定資産減価償却率の組合せによる分析
AN42: 分析欄
AN43: 有形固定資産減価償却率は類似団体より低い水準にあり、将来負担比率は令和６年度において充当可能財源等が将来負担額を上回っていたため、算定されなかった。これは、はびきのコロセアム及びＬＩＣはびきのなどの大型施設に係る地方債の償還が進んでおり、新たな起債の発行も抑制していることによるものである。老朽化が進む施設もある中、今後の計画では庁舎の建替などの大型事業が控えており、両指標に注視しつつ、羽曳野市公共施設等総合管理計画アクションプラン等に基づき、計画的に老朽化対策等に取り組んでいく。
AN49: ( 参考 ）
BP50: R02 | BX50: R03 | CF50: R04 | CN50: R05 | CV50: R06
AN51: 当該団体値 | BB51: 将来負担比率 | BP51: 5.4 | CF51: 1.7
BB53: 有形固定資産減価償却率 | BP53: 57.4 | BX53: 58.6 | CF53: 58.3 | CN53: 60 | CV53: 60
AN55: 類似団体内平均値 | BB55: 将来負担比率 | BP55: 3.9 | BX55: 0 | CF55: 0 | CN55: 0 | CV55: 0
BB57: 有形固定資産減価償却率 | BP57: 63.1 | BX57: 63.2 | CF57: 64 | CN57: 65.5 | CV57: 66.1
B63: 将来負担比率及び実質公債費比率の組合せによる分析
AN64: 分析欄
AN65: 実質公債費比率については類似団体と比較して低くなっており、改善傾向を示している。これは、予算編成要領において、地方債の新規発行額が元金償還額を上回らないこととしており、新規発行を抑制してきたためである。今後も引き続き、両指標に注視しながら、適切な地方債の発行管理に努めていく。
AN71: ( 参考 ）
BP72: R02 | BX72: R03 | CF72: R04 | CN72: R05 | CV72: R06
AN73: 当該団体値 | BB73: 将来負担比率 | BP73: 5.4 | CF73: 1.7
BB75: 実質公債費比率 | BP75: 4.7 | BX75: 3.6 | CF75: 3.7 | CN75: 3.9 | CV75: 3.9
AN77: 類似団体内平均値 | BB77: 将来負担比率 | BP77: 3.9 | BX77: 0 | CF77: 0 | CN77: 0 | CV77: 0
BB79: 実質公債費比率 | BP79: 4.2 | BX79: 4.5 | CF79: 4.6 | CN79: 4.7 | CV79: 4.7

Sheet 施設類型別ストック情報分析表①

Sheet 施設類型別ストック情報分析表②

Sheet データシート
D2: 当該団体(円) | F2: 類似団体内平均(円)
A3: R02 | D3: 20697 | F3: 44161
D4: 8966 | F4: 23644
A5: R03 | D5: 19632 | F5: 43955
D6: 7635 | F6: 21318
A7: R04 | D7: 24370 | F7: 41921
D8: 12336 | F8: 21655
A9: R05 | D9: 13677 | F9: 44585
D10: 11914 | F10: 23077
A11: R06 | D11: 17725 | F11: 49779
D12: 14389 | F12: 28921
D13: 19220 | F13: 44880
D14: 11048 | F14: 23723
A17: 実質収支比率等に係る経年分析
B18: ='(7)実質収支比率等に係る経年分析'!F$46 -> R02 | C18: ='(7)実質収支比率等に係る経年分析'!G$46 -> R03 | D18: ='(7)実質収支比率等に係る経年分析'!H$46 -> R04 | E18: ='(7)実質収支比率等に係る経年分析'!I$46 -> R05 | F18: ='(7)実質収支比率等に係る経年分析'!J$46 -> R06
A19: 実質収支額 | B19: =ROUND(VALUE(SUBSTITUTE('(7)実質収支比率等に係る経年分析'!F$48,"▲","-")),2) -> 0.43 | C19: =ROUND(VALUE(SUBSTITUTE('(7)実質収支比率等に係る経年分析'!G$48,"▲","-")),2) -> 2.3 | D19: =ROUND(VALUE(SUBSTITUTE('(7)実質収支比率等に係る経年分析'!H$48,"▲","-")),2) -> 0.44 | E19: =ROUND(VALUE(SUBSTITUTE('(7)実質収支比率等に係る経年分析'!I$48,"▲","-")),2) -> 0.43 | F19: =ROUND(VALUE(SUBSTITUTE('(7)実質収支比率等に係る経年分析'!J$48,"▲","-")),2) -> 0.48
A20: 財政調整基金残高 | B20: =ROUND(VALUE(SUBSTITUTE('(7)実質収支比率等に係る経年分析'!F$47,"▲","-")),2) -> 16.5 | C20: =ROUND(VALUE(SUBSTITUTE('(7)実質収支比率等に係る経年分析'!G$47,"▲","-")),2) -> 19.62 | D20: =ROUND(VALUE(SUBSTITUTE('(7)実質収支比率等に係る経年分析'!H$47,"▲","-")),2) -> 20.58 | E20: =ROUND(VALUE(SUBSTITUTE('(7)実質収支比率等に係る経年分析'!I$47,"▲","-")),2) -> 19.93 | F20: =ROUND(VALUE(SUBSTITUTE('(7)実質収支比率等に係る経年分析'!J$47,"▲","-")),2) -> 18.17
A21: 実質単年度収支 | B21: =IF(ISNUMBER(VALUE(SUBSTITUTE('(7)実質収支比率等に係る経年分析'!F$49,"▲","-"))),ROUND(VALUE(SUBSTITUTE('(7)実質収支比率等に係る経年分析'!F$49,"▲","-")),2),NA()) -> 0.01 | C21: =IF(ISNUMBER(VALUE(SUBSTITUTE('(7)実質収支比率等に係る経年分析'!G$49,"▲","-"))),ROUND(VALUE(SUBSTITUTE('(7)実質収支比率等に係る経年分析'!G$49,"▲","-")),2),NA()) -> 5.61 | D21: =IF(ISNUMBER(VALUE(SUBSTITUTE('(7)実質収支比率等に係る経年分析'!H$49,"▲","-"))),ROUND(VALUE(SUBSTITUTE('(7)実質収支比率等に係る経年分析'!H$49,"▲","-")),2),NA()) -> -1.49 | E21: =IF(ISNUMBER(VALUE(SUBSTITUTE('(7)実質収支比率等に係る経年分析'!I$49,"▲","-"))),ROUND(VALUE(SUBSTITUTE('(7)実質収支比率等に係る経年分析'!I$49,"▲","-")),2),NA()) -> 2.21 | F21: =IF(ISNUMBER(VALUE(SUBSTITUTE('(7)実質収支比率等に係る経年分析'!J$49,"▲","-"))),ROUND(VALUE(SUBSTITUTE('(7)実質収支比率等に係る経年分析'!J$49,"▲","-")),2),NA()) -> -1.44
A24: 連結実質赤字比率に係る赤字・黒字の構成分析
B25: ='(8)連結実質赤字比率に係る赤字・黒字の構成分析'!F$33 -> R02 | D25: ='(8)連結実質赤字比率に係る赤字・黒字の構成分析'!G$33 -> R03 | F25: ='(8)連結実質赤字比率に係る赤字・黒字の構成分析'!H$33 -> R04 | H25: ='(8)連結実質赤字比率に係る赤字・黒字の構成分析'!I$33 -> R05 | J25: ='(8)連結実質赤字比率に係る赤字・黒字の構成分析'!J$33 -> R06
B26: 赤字額 | C26: 黒字額 | D26: 赤字額 | E26: 黒字額 | F26: 赤字額 | G26: 黒字額 | H26: 赤字額 | I26: 黒字額 | J26: 赤字額 | K26: 黒字額
A27: =IF('(8)連結実質赤字比率に係る赤字・黒字の構成分析'!C$43="",NA(),'(8)連結実質赤字比率に係る赤字・黒字の構成分析'!C$43) -> その他会計（黒字） | B27: =IF(ROUND(VALUE(SUBSTITUTE('(8)連結実質赤字比率に係る赤字・黒字の構成分析'!F$43,"▲", "-")), 2) < 0, ABS(ROUND(VALUE(SUBSTITUTE('(8)連結実質赤字比率に係る赤字・黒字の構成分析'!F$43,"▲", "-")), 2)), NA()) -> #VALUE! | C27: =IF(ROUND(VALUE(SUBSTITUTE('(8)連結実質赤字比率に係る赤字・黒字の構成分析'!F$43,"▲", "-")), 2) >= 0, ABS(ROUND(VALUE(SUBSTITUTE('(8)連結実質赤字比率に係る赤字・黒字の構成分析'!F$43,"▲", "-")), 2)), NA()) -> #VALUE! | D27: =IF(ROUND(VALUE(SUBSTITUTE('(8)連結実質赤字比率に係る赤字・黒字の構成分析'!G$43,"▲", "-")), 2) < 0, ABS(ROUND(VALUE(SUBSTITUTE('(8)連結実質赤字比率に係る赤字・黒字の構成分析'!G$43,"▲", "-")), 2)), NA()) -> #VALUE! | E27: =IF(ROUND(VALUE(SUBSTITUTE('(8)連結実質赤字比率に係る赤字・黒字の構成分析'!G$43,"▲", "-")), 2) >= 0, ABS(ROUND(VALUE(SUBSTITUTE('(8)連結実質赤字比率に係る赤字・黒字の構成分析'!G$43,"▲", "-")), 2)), NA()) -> #VALUE! | F27: =IF(ROUND(VALUE(SUBSTITUTE('(8)連結実質赤字比率に係る赤字・黒字の構成分析'!H$43,"▲", "-")), 2) < 0, ABS(ROUND(VALUE(SUBSTITUTE('(8)連結実質赤字比率に係る赤字・黒字の構成分析'!H$43,"▲", "-")), 2)), NA()) -> #VALUE! | G27: =IF(ROUND(VALUE(SUBSTITUTE('(8)連結実質赤字比率に係る赤字・黒字の構成分析'!H$43,"▲", "-")), 2) >= 0, ABS(ROUND(VALUE(SUBSTITUTE('(8)連結実質赤字比率に係る赤字・黒字の構成分析'!H$43,"▲", "-")), 2)), NA()) -> #VALUE! | H27: =IF(ROUND(VALUE(SUBSTITUTE('(8)連結実質赤字比率に係る赤字・黒字の構成分析'!I$43,"▲", "-")), 2) < 0, ABS(ROUND(VALUE(SUBSTITUTE('(8)連結実質赤字比率に係る赤字・黒字の構成分析'!I$43,"▲", "-")), 2)), NA()) -> #VALUE! | I27: =IF(ROUND(VALUE(SUBSTITUTE('(8)連結実質赤字比率に係る赤字・黒字の構成分析'!I$43,"▲", "-")), 2) >= 0, ABS(ROUND(VALUE(SUBSTITUTE('(8)連結実質赤字比率に係る赤字・黒字の構成分析'!I$43,"▲", "-")), 2)), NA()) -> #VALUE! | J27: =IF(ROUND(VALUE(SUBSTITUTE('(8)連結実質赤字比率に係る赤字・黒字の構成分析'!J$43,"▲", "-")), 2) < 0, ABS(ROUND(VALUE(SUBSTITUTE('(8)連結実質赤字比率に係る赤字・黒字の構成分析'!J$43,"▲", "-")), 2)), NA()) -> #VALUE! | K27: =IF(ROUND(VALUE(SUBSTITUTE('(8)連結実質赤字比率に係る赤字・黒字の構成分析'!J$43,"▲", "-")), 2) >= 0, ABS(ROUND(VALUE(SUBSTITUTE('(8)連結実質赤字比率に係る赤字・黒字の構成分析'!J$43,"▲", "-")), 2)), NA()) -> #VALUE!
A28: =IF('(8)連結実質赤字比率に係る赤字・黒字の構成分析'!C$42="",NA(),'(8)連結実質赤字比率に係る赤字・黒字の構成分析'!C$42) -> その他会計（赤字） | B28: =IF(ROUND(VALUE(SUBSTITUTE('(8)連結実質赤字比率に係る赤字・黒字の構成分析'!F$42,"▲", "-")), 2) < 0, ABS(ROUND(VALUE(SUBSTITUTE('(8)連結実質赤字比率に係る赤字・黒字の構成分析'!F$42,"▲", "-")), 2)), NA()) -> #VALUE! | C28: =IF(ROUND(VALUE(SUBSTITUTE('(8)連結実質赤字比率に係る赤字・黒字の構成分析'!F$42,"▲", "-")), 2) >= 0, ABS(ROUND(VALUE(SUBSTITUTE('(8)連結実質赤字比率に係る赤字・黒字の構成分析'!F$42,"▲", "-")), 2)), NA()) -> #VALUE! | D28: =IF(ROUND(VALUE(SUBSTITUTE('(8)連結実質赤字比率に係る赤字・黒字の構成分析'!G$42,"▲", "-")), 2) < 0, ABS(ROUND(VALUE(SUBSTITUTE('(8)連結実質赤字比率に係る赤字・黒字の構成分析'!G$42,"▲", "-")), 2)), NA()) -> #VALUE! | E28: =IF(ROUND(VALUE(SUBSTITUTE('(8)連結実質赤字比率に係る赤字・黒字の構成分析'!G$42,"▲", "-")), 2) >= 0, ABS(ROUND(VALUE(SUBSTITUTE('(8)連結実質赤字比率に係る赤字・黒字の構成分析'!G$42,"▲", "-")), 2)), NA()) -> #VALUE! | F28: =IF(ROUND(VALUE(SUBSTITUTE('(8)連結実質赤字比率に係る赤字・黒字の構成分析'!H$42,"▲", "-")), 2) < 0, ABS(ROUND(VALUE(SUBSTITUTE('(8)連結実質赤字比率に係る赤字・黒字の構成分析'!H$42,"▲", "-")), 2)), NA()) -> #VALUE! | G28: =IF(ROUND(VALUE(SUBSTITUTE('(8)連結実質赤字比率に係る赤字・黒字の構成分析'!H$42,"▲", "-")), 2) >= 0, ABS(ROUND(VALUE(SUBSTITUTE('(8)連結実質赤字比率に係る赤字・黒字の構成分析'!H$42,"▲", "-")), 2)), NA()) -> #VALUE! | H28: =IF(ROUND(VALUE(SUBSTITUTE('(8)連結実質赤字比率に係る赤字・黒字の構成分析'!I$42,"▲", "-")), 2) < 0, ABS(ROUND(VALUE(SUBSTITUTE('(8)連結実質赤字比率に係る赤字・黒字の構成分析'!I$42,"▲", "-")), 2)), NA()) -> #VALUE! | I28: =IF(ROUND(VALUE(SUBSTITUTE('(8)連結実質赤字比率に係る赤字・黒字の構成分析'!I$42,"▲", "-")), 2) >= 0, ABS(ROUND(VALUE(SUBSTITUTE('(8)連結実質赤字比率に係る赤字・黒字の構成分析'!I$42,"▲", "-")), 2)), NA()) -> #VALUE! | J28: =IF(ROUND(VALUE(SUBSTITUTE('(8)連結実質赤字比率に係る赤字・黒字の構成分析'!J$42,"▲", "-")), 2) < 0, ABS(ROUND(VALUE(SUBSTITUTE('(8)連結実質赤字比率に係る赤字・黒字の構成分析'!J$42,"▲", "-")), 2)), NA()) -> #VALUE! | K28: =IF(ROUND(VALUE(SUBSTITUTE('(8)連結実質赤字比率に係る赤字・黒字の構成分析'!J$42,"▲", "-")), 2) >= 0, ABS(ROUND(VALUE(SUBSTITUTE('(8)連結実質赤字比率に係る赤字・黒字の構成分析'!J$42,"▲", "-")), 2)), NA()) -> #VALUE!
A29: =IF('(8)連結実質赤字比率に係る赤字・黒字の構成分析'!C$41="",NA(),'(8)連結実質赤字比率に係る赤字・黒字の構成分析'!C$41) -> と畜場特別会計 | B29: =IF(ROUND(VALUE(SUBSTITUTE('(8)連結実質赤字比率に係る赤字・黒字の構成分析'!F$41,"▲", "-")), 2) < 0, ABS(ROUND(VALUE(SUBSTITUTE('(8)連結実質赤字比率に係る赤字・黒字の構成分析'!F$41,"▲", "-")), 2)), NA()) -> #N/A | C29: =IF(ROUND(VALUE(SUBSTITUTE('(8)連結実質赤字比率に係る赤字・黒字の構成分析'!F$41,"▲", "-")), 2) >= 0, ABS(ROUND(VALUE(SUBSTITUTE('(8)連結実質赤字比率に係る赤字・黒字の構成分析'!F$41,"▲", "-")), 2)), NA()) -> 0 | D29: =IF(ROUND(VALUE(SUBSTITUTE('(8)連結実質赤字比率に係る赤字・黒字の構成分析'!G$41,"▲", "-")), 2) < 0, ABS(ROUND(VALUE(SUBSTITUTE('(8)連結実質赤字比率に係る赤字・黒字の構成分析'!G$41,"▲", "-")), 2)), NA()) -> #N/A | E29: =IF(ROUND(VALUE(SUBSTITUTE('(8)連結実質赤字比率に係る赤字・黒字の構成分析'!G$41,"▲", "-")), 2) >= 0, ABS(ROUND(VALUE(SUBSTITUTE('(8)連結実質赤字比率に係る赤字・黒字の構成分析'!G$41,"▲", "-")), 2)), NA()) -> 0 | F29: =IF(ROUND(VALUE(SUBSTITUTE('(8)連結実質赤字比率に係る赤字・黒字の構成分析'!H$41,"▲", "-")), 2) < 0, ABS(ROUND(VALUE(SUBSTITUTE('(8)連結実質赤字比率に係る赤字・黒字の構成分析'!H$41,"▲", "-")), 2)), NA()) -> #N/A | G29: =IF(ROUND(VALUE(SUBSTITUTE('(8)連結実質赤字比率に係る赤字・黒字の構成分析'!H$41,"▲", "-")), 2) >= 0, ABS(ROUND(VALUE(SUBSTITUTE('(8)連結実質赤字比率に係る赤字・黒字の構成分析'!H$41,"▲", "-")), 2)), NA()) -> 0 | H29: =IF(ROUND(VALUE(SUBSTITUTE('(8)連結実質赤字比率に係る赤字・黒字の構成分析'!I$41,"▲", "-")), 2) < 0, ABS(ROUND(VALUE(SUBSTITUTE('(8)連結実質赤字比率に係る赤字・黒字の構成分析'!I$41,"▲", "-")), 2)), NA()) -> #N/A | I29: =IF(ROUND(VALUE(SUBSTITUTE('(8)連結実質赤字比率に係る赤字・黒字の構成分析'!I$41,"▲", "-")), 2) >= 0, ABS(ROUND(VALUE(SUBSTITUTE('(8)連結実質赤字比率に係る赤字・黒字の構成分析'!I$41,"▲", "-")), 2)), NA()) -> 0 | J29: =IF(ROUND(VALUE(SUBSTITUTE('(8)連結実質赤字比率に係る赤字・黒字の構成分析'!J$41,"▲", "-")), 2) < 0, ABS(ROUND(VALUE(SUBSTITUTE('(8)連結実質赤字比率に係る赤字・黒字の構成分析'!J$41,"▲", "-")), 2)), NA()) -> #N/A | K29: =IF(ROUND(VALUE(SUBSTITUTE('(8)連結実質赤字比率に係る赤字・黒字の構成分析'!J$41,"▲", "-")), 2) >= 0, ABS(ROUND(VALUE(SUBSTITUTE('(8)連結実質赤字比率に係る赤字・黒字の構成分析'!J$41,"▲", "-")), 2)), NA()) -> 0
A30: =IF('(8)連結実質赤字比率に係る赤字・黒字の構成分析'!C$40="",NA(),'(8)連結実質赤字比率に係る赤字・黒字の構成分析'!C$40) -> 土地取得特別会計 | B30: =IF(ROUND(VALUE(SUBSTITUTE('(8)連結実質赤字比率に係る赤字・黒字の構成分析'!F$40,"▲", "-")), 2) < 0, ABS(ROUND(VALUE(SUBSTITUTE('(8)連結実質赤字比率に係る赤字・黒字の構成分析'!F$40,"▲", "-")), 2)), NA()) -> #N/A | C30: =IF(ROUND(VALUE(SUBSTITUTE('(8)連結実質赤字比率に係る赤字・黒字の構成分析'!F$40,"▲", "-")), 2) >= 0, ABS(ROUND(VALUE(SUBSTITUTE('(8)連結実質赤字比率に係る赤字・黒字の構成分析'!F$40,"▲", "-")), 2)), NA()) -> 0 | D30: =IF(ROUND(VALUE(SUBSTITUTE('(8)連結実質赤字比率に係る赤字・黒字の構成分析'!G$40,"▲", "-")), 2) < 0, ABS(ROUND(VALUE(SUBSTITUTE('(8)連結実質赤字比率に係る赤字・黒字の構成分析'!G$40,"▲", "-")), 2)), NA()) -> #N/A | E30: =IF(ROUND(VALUE(SUBSTITUTE('(8)連結実質赤字比率に係る赤字・黒字の構成分析'!G$40,"▲", "-")), 2) >= 0, ABS(ROUND(VALUE(SUBSTITUTE('(8)連結実質赤字比率に係る赤字・黒字の構成分析'!G$40,"▲", "-")), 2)), NA()) -> 0 | F30: =IF(ROUND(VALUE(SUBSTITUTE('(8)連結実質赤字比率に係る赤字・黒字の構成分析'!H$40,"▲", "-")), 2) < 0, ABS(ROUND(VALUE(SUBSTITUTE('(8)連結実質赤字比率に係る赤字・黒字の構成分析'!H$40,"▲", "-")), 2)), NA()) -> #N/A | G30: =IF(ROUND(VALUE(SUBSTITUTE('(8)連結実質赤字比率に係る赤字・黒字の構成分析'!H$40,"▲", "-")), 2) >= 0, ABS(ROUND(VALUE(SUBSTITUTE('(8)連結実質赤字比率に係る赤字・黒字の構成分析'!H$40,"▲", "-")), 2)), NA()) -> 0 | H30: =IF(ROUND(VALUE(SUBSTITUTE('(8)連結実質赤字比率に係る赤字・黒字の構成分析'!I$40,"▲", "-")), 2) < 0, ABS(ROUND(VALUE(SUBSTITUTE('(8)連結実質赤字比率に係る赤字・黒字の構成分析'!I$40,"▲", "-")), 2)), NA()) -> #N/A | I30: =IF(ROUND(VALUE(SUBSTITUTE('(8)連結実質赤字比率に係る赤字・黒字の構成分析'!I$40,"▲", "-")), 2) >= 0, ABS(ROUND(VALUE(SUBSTITUTE('(8)連結実質赤字比率に係る赤字・黒字の構成分析'!I$40,"▲", "-")), 2)), NA()) -> 0 | J30: =IF(ROUND(VALUE(SUBSTITUTE('(8)連結実質赤字比率に係る赤字・黒字の構成分析'!J$40,"▲", "-")), 2) < 0, ABS(ROUND(VALUE(SUBSTITUTE('(8)連結実質赤字比率に係る赤字・黒字の構成分析'!J$40,"▲", "-")), 2)), NA()) -> #N/A | K30: =IF(ROUND(VALUE(SUBSTITUTE('(8)連結実質赤字比率に係る赤字・黒字の構成分析'!J$40,"▲", "-")), 2) >= 0, ABS(ROUND(VALUE(SUBSTITUTE('(8)連結実質赤字比率に係る赤字・黒字の構成分析'!J$40,"▲", "-")), 2)), NA()) -> 0
A31: =IF('(8)連結実質赤字比率に係る赤字・黒字の構成分析'!C$39="",NA(),'(8)連結実質赤字比率に係る赤字・黒字の構成分析'!C$39) -> 国民健康保険特別会計 | B31: =IF(ROUND(VALUE(SUBSTITUTE('(8)連結実質赤字比率に係る赤字・黒字の構成分析'!F$39,"▲", "-")), 2) < 0, ABS(ROUND(VALUE(SUBSTITUTE('(8)連結実質赤字比率に係る赤字・黒字の構成分析'!F$39,"▲", "-")), 2)), NA()) -> #N/A | C31: =IF(ROUND(VALUE(SUBSTITUTE('(8)連結実質赤字比率に係る赤字・黒字の構成分析'!F$39,"▲", "-")), 2) >= 0, ABS(ROUND(VALUE(SUBSTITUTE('(8)連結実質赤字比率に係る赤字・黒字の構成分析'!F$39,"▲", "-")), 2)), NA()) -> 0.81 | D31: =IF(ROUND(VALUE(SUBSTITUTE('(8)連結実質赤字比率に係る赤字・黒字の構成分析'!G$39,"▲", "-")), 2) < 0, ABS(ROUND(VALUE(SUBSTITUTE('(8)連結実質赤字比率に係る赤字・黒字の構成分析'!G$39,"▲", "-")), 2)), NA()) -> #N/A | E31: =IF(ROUND(VALUE(SUBSTITUTE('(8)連結実質赤字比率に係る赤字・黒字の構成分析'!G$39,"▲", "-")), 2) >= 0, ABS(ROUND(VALUE(SUBSTITUTE('(8)連結実質赤字比率に係る赤字・黒字の構成分析'!G$39,"▲", "-")), 2)), NA()) -> 0.69 | F31: =IF(ROUND(VALUE(SUBSTITUTE('(8)連結実質赤字比率に係る赤字・黒字の構成分析'!H$39,"▲", "-")), 2) < 0, ABS(ROUND(VALUE(SUBSTITUTE('(8)連結実質赤字比率に係る赤字・黒字の構成分析'!H$39,"▲", "-")), 2)), NA()) -> #N/A | G31: =IF(ROUND(VALUE(SUBSTITUTE('(8)連結実質赤字比率に係る赤字・黒字の構成分析'!H$39,"▲", "-")), 2) >= 0, ABS(ROUND(VALUE(SUBSTITUTE('(8)連結実質赤字比率に係る赤字・黒字の構成分析'!H$39,"▲", "-")), 2)), NA()) -> 0.41 | H31: =IF(ROUND(VALUE(SUBSTITUTE('(8)連結実質赤字比率に係る赤字・黒字の構成分析'!I$39,"▲", "-")), 2) < 0, ABS(ROUND(VALUE(SUBSTITUTE('(8)連結実質赤字比率に係る赤字・黒字の構成分析'!I$39,"▲", "-")), 2)), NA()) -> #N/A | I31: =IF(ROUND(VALUE(SUBSTITUTE('(8)連結実質赤字比率に係る赤字・黒字の構成分析'!I$39,"▲", "-")), 2) >= 0, ABS(ROUND(VALUE(SUBSTITUTE('(8)連結実質赤字比率に係る赤字・黒字の構成分析'!I$39,"▲", "-")), 2)), NA()) -> 0.11 | J31: =IF(ROUND(VALUE(SUBSTITUTE('(8)連結実質赤字比率に係る赤字・黒字の構成分析'!J$39,"▲", "-")), 2) < 0, ABS(ROUND(VALUE(SUBSTITUTE('(8)連結実質赤字比率に係る赤字・黒字の構成分析'!J$39,"▲", "-")), 2)), NA()) -> #N/A | K31: =IF(ROUND(VALUE(SUBSTITUTE('(8)連結実質赤字比率に係る赤字・黒字の構成分析'!J$39,"▲", "-")), 2) >= 0, ABS(ROUND(VALUE(SUBSTITUTE('(8)連結実質赤字比率に係る赤字・黒字の構成分析'!J$39,"▲", "-")), 2)), NA()) -> 0.11
A32: =IF('(8)連結実質赤字比率に係る赤字・黒字の構成分析'!C$38="",NA(),'(8)連結実質赤字比率に係る赤字・黒字の構成分析'!C$38) -> 後期高齢者医療特別会計 | B32: =IF(ROUND(VALUE(SUBSTITUTE('(8)連結実質赤字比率に係る赤字・黒字の構成分析'!F$38,"▲", "-")), 2) < 0, ABS(ROUND(VALUE(SUBSTITUTE('(8)連結実質赤字比率に係る赤字・黒字の構成分析'!F$38,"▲", "-")), 2)), NA()) -> #N/A | C32: =IF(ROUND(VALUE(SUBSTITUTE('(8)連結実質赤字比率に係る赤字・黒字の構成分析'!F$38,"▲", "-")), 2) >= 0, ABS(ROUND(VALUE(SUBSTITUTE('(8)連結実質赤字比率に係る赤字・黒字の構成分析'!F$38,"▲", "-")), 2)), NA()) -> 0.24 | D32: =IF(ROUND(VALUE(SUBSTITUTE('(8)連結実質赤字比率に係る赤字・黒字の構成分析'!G$38,"▲", "-")), 2) < 0, ABS(ROUND(VALUE(SUBSTITUTE('(8)連結実質赤字比率に係る赤字・黒字の構成分析'!G$38,"▲", "-")), 2)), NA()) -> #N/A | E32: =IF(ROUND(VALUE(SUBSTITUTE('(8)連結実質赤字比率に係る赤字・黒字の構成分析'!G$38,"▲", "-")), 2) >= 0, ABS(ROUND(VALUE(SUBSTITUTE('(8)連結実質赤字比率に係る赤字・黒字の構成分析'!G$38,"▲", "-")), 2)), NA()) -> 0.24 | F32: =IF(ROUND(VALUE(SUBSTITUTE('(8)連結実質赤字比率に係る赤字・黒字の構成分析'!H$38,"▲", "-")), 2) < 0, ABS(ROUND(VALUE(SUBSTITUTE('(8)連結実質赤字比率に係る赤字・黒字の構成分析'!H$38,"▲", "-")), 2)), NA()) -> #N/A | G32: =IF(ROUND(VALUE(SUBSTITUTE('(8)連結実質赤字比率に係る赤字・黒字の構成分析'!H$38,"▲", "-")), 2) >= 0, ABS(ROUND(VALUE(SUBSTITUTE('(8)連結実質赤字比率に係る赤字・黒字の構成分析'!H$38,"▲", "-")), 2)), NA()) -> 0.26 | H32: =IF(ROUND(VALUE(SUBSTITUTE('(8)連結実質赤字比率に係る赤字・黒字の構成分析'!I$38,"▲", "-")), 2) < 0, ABS(ROUND(VALUE(SUBSTITUTE('(8)連結実質赤字比率に係る赤字・黒字の構成分析'!I$38,"▲", "-")), 2)), NA()) -> #N/A | I32: =IF(ROUND(VALUE(SUBSTITUTE('(8)連結実質赤字比率に係る赤字・黒字の構成分析'!I$38,"▲", "-")), 2) >= 0, ABS(ROUND(VALUE(SUBSTITUTE('(8)連結実質赤字比率に係る赤字・黒字の構成分析'!I$38,"▲", "-")), 2)), NA()) -> 0.27 | J32: =IF(ROUND(VALUE(SUBSTITUTE('(8)連結実質赤字比率に係る赤字・黒字の構成分析'!J$38,"▲", "-")), 2) < 0, ABS(ROUND(VALUE(SUBSTITUTE('(8)連結実質赤字比率に係る赤字・黒字の構成分析'!J$38,"▲", "-")), 2)), NA()) -> #N/A | K32: =IF(ROUND(VALUE(SUBSTITUTE('(8)連結実質赤字比率に係る赤字・黒字の構成分析'!J$38,"▲", "-")), 2) >= 0, ABS(ROUND(VALUE(SUBSTITUTE('(8)連結実質赤字比率に係る赤字・黒字の構成分析'!J$38,"▲", "-")), 2)), NA()) -> 0.31
A33: =IF('(8)連結実質赤字比率に係る赤字・黒字の構成分析'!C$37="",NA(),'(8)連結実質赤字比率に係る赤字・黒字の構成分析'!C$37) -> 下水道事業会計 | B33: =IF(ROUND(VALUE(SUBSTITUTE('(8)連結実質赤字比率に係る赤字・黒字の構成分析'!F$37,"▲", "-")), 2) < 0, ABS(ROUND(VALUE(SUBSTITUTE('(8)連結実質赤字比率に係る赤字・黒字の構成分析'!F$37,"▲", "-")), 2)), NA()) -> #N/A | C33: =IF(ROUND(VALUE(SUBSTITUTE('(8)連結実質赤字比率に係る赤字・黒字の構成分析'!F$37,"▲", "-")), 2) >= 0, ABS(ROUND(VALUE(SUBSTITUTE('(8)連結実質赤字比率に係る赤字・黒字の構成分析'!F$37,"▲", "-")), 2)), NA()) -> 0 | D33: =IF(ROUND(VALUE(SUBSTITUTE('(8)連結実質赤字比率に係る赤字・黒字の構成分析'!G$37,"▲", "-")), 2) < 0, ABS(ROUND(VALUE(SUBSTITUTE('(8)連結実質赤字比率に係る赤字・黒字の構成分析'!G$37,"▲", "-")), 2)), NA()) -> #N/A | E33: =IF(ROUND(VALUE(SUBSTITUTE('(8)連結実質赤字比率に係る赤字・黒字の構成分析'!G$37,"▲", "-")), 2) >= 0, ABS(ROUND(VALUE(SUBSTITUTE('(8)連結実質赤字比率に係る赤字・黒字の構成分析'!G$37,"▲", "-")), 2)), NA()) -> 0 | F33: =IF(ROUND(VALUE(SUBSTITUTE('(8)連結実質赤字比率に係る赤字・黒字の構成分析'!H$37,"▲", "-")), 2) < 0, ABS(ROUND(VALUE(SUBSTITUTE('(8)連結実質赤字比率に係る赤字・黒字の構成分析'!H$37,"▲", "-")), 2)), NA()) -> #N/A | G33: =IF(ROUND(VALUE(SUBSTITUTE('(8)連結実質赤字比率に係る赤字・黒字の構成分析'!H$37,"▲", "-")), 2) >= 0, ABS(ROUND(VALUE(SUBSTITUTE('(8)連結実質赤字比率に係る赤字・黒字の構成分析'!H$37,"▲", "-")), 2)), NA()) -> 0.01 | H33: =IF(ROUND(VALUE(SUBSTITUTE('(8)連結実質赤字比率に係る赤字・黒字の構成分析'!I$37,"▲", "-")), 2) < 0, ABS(ROUND(VALUE(SUBSTITUTE('(8)連結実質赤字比率に係る赤字・黒字の構成分析'!I$37,"▲", "-")), 2)), NA()) -> #N/A | I33: =IF(ROUND(VALUE(SUBSTITUTE('(8)連結実質赤字比率に係る赤字・黒字の構成分析'!I$37,"▲", "-")), 2) >= 0, ABS(ROUND(VALUE(SUBSTITUTE('(8)連結実質赤字比率に係る赤字・黒字の構成分析'!I$37,"▲", "-")), 2)), NA()) -> 0.1 | J33: =IF(ROUND(VALUE(SUBSTITUTE('(8)連結実質赤字比率に係る赤字・黒字の構成分析'!J$37,"▲", "-")), 2) < 0, ABS(ROUND(VALUE(SUBSTITUTE('(8)連結実質赤字比率に係る赤字・黒字の構成分析'!J$37,"▲", "-")), 2)), NA()) -> #N/A | K33: =IF(ROUND(VALUE(SUBSTITUTE('(8)連結実質赤字比率に係る赤字・黒字の構成分析'!J$37,"▲", "-")), 2) >= 0, ABS(ROUND(VALUE(SUBSTITUTE('(8)連結実質赤字比率に係る赤字・黒字の構成分析'!J$37,"▲", "-")), 2)), NA()) -> 0.35
A34: =IF('(8)連結実質赤字比率に係る赤字・黒字の構成分析'!C$36="",NA(),'(8)連結実質赤字比率に係る赤字・黒字の構成分析'!C$36) -> 一般会計 | B34: =IF(ROUND(VALUE(SUBSTITUTE('(8)連結実質赤字比率に係る赤字・黒字の構成分析'!F$36,"▲", "-")), 2) < 0, ABS(ROUND(VALUE(SUBSTITUTE('(8)連結実質赤字比率に係る赤字・黒字の構成分析'!F$36,"▲", "-")), 2)), NA()) -> #N/A | C34: =IF(ROUND(VALUE(SUBSTITUTE('(8)連結実質赤字比率に係る赤字・黒字の構成分析'!F$36,"▲", "-")), 2) >= 0, ABS(ROUND(VALUE(SUBSTITUTE('(8)連結実質赤字比率に係る赤字・黒字の構成分析'!F$36,"▲", "-")), 2)), NA()) -> 0.43 | D34: =IF(ROUND(VALUE(SUBSTITUTE('(8)連結実質赤字比率に係る赤字・黒字の構成分析'!G$36,"▲", "-")), 2) < 0, ABS(ROUND(VALUE(SUBSTITUTE('(8)連結実質赤字比率に係る赤字・黒字の構成分析'!G$36,"▲", "-")), 2)), NA()) -> #N/A | E34: =IF(ROUND(VALUE(SUBSTITUTE('(8)連結実質赤字比率に係る赤字・黒字の構成分析'!G$36,"▲", "-")), 2) >= 0, ABS(ROUND(VALUE(SUBSTITUTE('(8)連結実質赤字比率に係る赤字・黒字の構成分析'!G$36,"▲", "-")), 2)), NA()) -> 2.29 | F34: =IF(ROUND(VALUE(SUBSTITUTE('(8)連結実質赤字比率に係る赤字・黒字の構成分析'!H$36,"▲", "-")), 2) < 0, ABS(ROUND(VALUE(SUBSTITUTE('(8)連結実質赤字比率に係る赤字・黒字の構成分析'!H$36,"▲", "-")), 2)), NA()) -> #N/A | G34: =IF(ROUND(VALUE(SUBSTITUTE('(8)連結実質赤字比率に係る赤字・黒字の構成分析'!H$36,"▲", "-")), 2) >= 0, ABS(ROUND(VALUE(SUBSTITUTE('(8)連結実質赤字比率に係る赤字・黒字の構成分析'!H$36,"▲", "-")), 2)), NA()) -> 0.43 | H34: =IF(ROUND(VALUE(SUBSTITUTE('(8)連結実質赤字比率に係る赤字・黒字の構成分析'!I$36,"▲", "-")), 2) < 0, ABS(ROUND(VALUE(SUBSTITUTE('(8)連結実質赤字比率に係る赤字・黒字の構成分析'!I$36,"▲", "-")), 2)), NA()) -> #N/A | I34: =IF(ROUND(VALUE(SUBSTITUTE('(8)連結実質赤字比率に係る赤字・黒字の構成分析'!I$36,"▲", "-")), 2) >= 0, ABS(ROUND(VALUE(SUBSTITUTE('(8)連結実質赤字比率に係る赤字・黒字の構成分析'!I$36,"▲", "-")), 2)), NA()) -> 0.42 | J34: =IF(ROUND(VALUE(SUBSTITUTE('(8)連結実質赤字比率に係る赤字・黒字の構成分析'!J$36,"▲", "-")), 2) < 0, ABS(ROUND(VALUE(SUBSTITUTE('(8)連結実質赤字比率に係る赤字・黒字の構成分析'!J$36,"▲", "-")), 2)), NA()) -> #N/A | K34: =IF(ROUND(VALUE(SUBSTITUTE('(8)連結実質赤字比率に係る赤字・黒字の構成分析'!J$36,"▲", "-")), 2) >= 0, ABS(ROUND(VALUE(SUBSTITUTE('(8)連結実質赤字比率に係る赤字・黒字の構成分析'!J$36,"▲", "-")), 2)), NA()) -> 0.48
A35: =IF('(8)連結実質赤字比率に係る赤字・黒字の構成分析'!C$35="",NA(),'(8)連結実質赤字比率に係る赤字・黒字の構成分析'!C$35) -> 介護保険特別会計 | B35: =IF(ROUND(VALUE(SUBSTITUTE('(8)連結実質赤字比率に係る赤字・黒字の構成分析'!F$35,"▲", "-")), 2) < 0, ABS(ROUND(VALUE(SUBSTITUTE('(8)連結実質赤字比率に係る赤字・黒字の構成分析'!F$35,"▲", "-")), 2)), NA()) -> #N/A | C35: =IF(ROUND(VALUE(SUBSTITUTE('(8)連結実質赤字比率に係る赤字・黒字の構成分析'!F$35,"▲", "-")), 2) >= 0, ABS(ROUND(VALUE(SUBSTITUTE('(8)連結実質赤字比率に係る赤字・黒字の構成分析'!F$35,"▲", "-")), 2)), NA()) -> 1.91 | D35: =IF(ROUND(VALUE(SUBSTITUTE('(8)連結実質赤字比率に係る赤字・黒字の構成分析'!G$35,"▲", "-")), 2) < 0, ABS(ROUND(VALUE(SUBSTITUTE('(8)連結実質赤字比率に係る赤字・黒字の構成分析'!G$35,"▲", "-")), 2)), NA()) -> #N/A | E35: =IF(ROUND(VALUE(SUBSTITUTE('(8)連結実質赤字比率に係る赤字・黒字の構成分析'!G$35,"▲", "-")), 2) >= 0, ABS(ROUND(VALUE(SUBSTITUTE('(8)連結実質赤字比率に係る赤字・黒字の構成分析'!G$35,"▲", "-")), 2)), NA()) -> 0.8 | F35: =IF(ROUND(VALUE(SUBSTITUTE('(8)連結実質赤字比率に係る赤字・黒字の構成分析'!H$35,"▲", "-")), 2) < 0, ABS(ROUND(VALUE(SUBSTITUTE('(8)連結実質赤字比率に係る赤字・黒字の構成分析'!H$35,"▲", "-")), 2)), NA()) -> #N/A | G35: =IF(ROUND(VALUE(SUBSTITUTE('(8)連結実質赤字比率に係る赤字・黒字の構成分析'!H$35,"▲", "-")), 2) >= 0, ABS(ROUND(VALUE(SUBSTITUTE('(8)連結実質赤字比率に係る赤字・黒字の構成分析'!H$35,"▲", "-")), 2)), NA()) -> 0.71 | H35: =IF(ROUND(VALUE(SUBSTITUTE('(8)連結実質赤字比率に係る赤字・黒字の構成分析'!I$35,"▲", "-")), 2) < 0, ABS(ROUND(VALUE(SUBSTITUTE('(8)連結実質赤字比率に係る赤字・黒字の構成分析'!I$35,"▲", "-")), 2)), NA()) -> #N/A | I35: =IF(ROUND(VALUE(SUBSTITUTE('(8)連結実質赤字比率に係る赤字・黒字の構成分析'!I$35,"▲", "-")), 2) >= 0, ABS(ROUND(VALUE(SUBSTITUTE('(8)連結実質赤字比率に係る赤字・黒字の構成分析'!I$35,"▲", "-")), 2)), NA()) -> 0.12 | J35: =IF(ROUND(VALUE(SUBSTITUTE('(8)連結実質赤字比率に係る赤字・黒字の構成分析'!J$35,"▲", "-")), 2) < 0, ABS(ROUND(VALUE(SUBSTITUTE('(8)連結実質赤字比率に係る赤字・黒字の構成分析'!J$35,"▲", "-")), 2)), NA()) -> #N/A | K35: =IF(ROUND(VALUE(SUBSTITUTE('(8)連結実質赤字比率に係る赤字・黒字の構成分析'!J$35,"▲", "-")), 2) >= 0, ABS(ROUND(VALUE(SUBSTITUTE('(8)連結実質赤字比率に係る赤字・黒字の構成分析'!J$35,"▲", "-")), 2)), NA()) -> 0.95
A36: =IF('(8)連結実質赤字比率に係る赤字・黒字の構成分析'!C$34="",NA(),'(8)連結実質赤字比率に係る赤字・黒字の構成分析'!C$34) -> 水道事業会計 | B36: =IF(ROUND(VALUE(SUBSTITUTE('(8)連結実質赤字比率に係る赤字・黒字の構成分析'!F$34,"▲", "-")), 2) < 0, ABS(ROUND(VALUE(SUBSTITUTE('(8)連結実質赤字比率に係る赤字・黒字の構成分析'!F$34,"▲", "-")), 2)), NA()) -> #N/A | C36: =IF(ROUND(VALUE(SUBSTITUTE('(8)連結実質赤字比率に係る赤字・黒字の構成分析'!F$34,"▲", "-")), 2) >= 0, ABS(ROUND(VALUE(SUBSTITUTE('(8)連結実質赤字比率に係る赤字・黒字の構成分析'!F$34,"▲", "-")), 2)), NA()) -> 13.13 | D36: =IF(ROUND(VALUE(SUBSTITUTE('(8)連結実質赤字比率に係る赤字・黒字の構成分析'!G$34,"▲", "-")), 2) < 0, ABS(ROUND(VALUE(SUBSTITUTE('(8)連結実質赤字比率に係る赤字・黒字の構成分析'!G$34,"▲", "-")), 2)), NA()) -> #N/A | E36: =IF(ROUND(VALUE(SUBSTITUTE('(8)連結実質赤字比率に係る赤字・黒字の構成分析'!G$34,"▲", "-")), 2) >= 0, ABS(ROUND(VALUE(SUBSTITUTE('(8)連結実質赤字比率に係る赤字・黒字の構成分析'!G$34,"▲", "-")), 2)), NA()) -> 12.74 | F36: =IF(ROUND(VALUE(SUBSTITUTE('(8)連結実質赤字比率に係る赤字・黒字の構成分析'!H$34,"▲", "-")), 2) < 0, ABS(ROUND(VALUE(SUBSTITUTE('(8)連結実質赤字比率に係る赤字・黒字の構成分析'!H$34,"▲", "-")), 2)), NA()) -> #N/A | G36: =IF(ROUND(VALUE(SUBSTITUTE('(8)連結実質赤字比率に係る赤字・黒字の構成分析'!H$34,"▲", "-")), 2) >= 0, ABS(ROUND(VALUE(SUBSTITUTE('(8)連結実質赤字比率に係る赤字・黒字の構成分析'!H$34,"▲", "-")), 2)), NA()) -> 12.61 | H36: =IF(ROUND(VALUE(SUBSTITUTE('(8)連結実質赤字比率に係る赤字・黒字の構成分析'!I$34,"▲", "-")), 2) < 0, ABS(ROUND(VALUE(SUBSTITUTE('(8)連結実質赤字比率に係る赤字・黒字の構成分析'!I$34,"▲", "-")), 2)), NA()) -> #N/A | I36: =IF(ROUND(VALUE(SUBSTITUTE('(8)連結実質赤字比率に係る赤字・黒字の構成分析'!I$34,"▲", "-")), 2) >= 0, ABS(ROUND(VALUE(SUBSTITUTE('(8)連結実質赤字比率に係る赤字・黒字の構成分析'!I$34,"▲", "-")), 2)), NA()) -> 9.45 | J36: =IF(ROUND(VALUE(SUBSTITUTE('(8)連結実質赤字比率に係る赤字・黒字の構成分析'!J$34,"▲", "-")), 2) < 0, ABS(ROUND(VALUE(SUBSTITUTE('(8)連結実質赤字比率に係る赤字・黒字の構成分析'!J$34,"▲", "-")), 2)), NA()) -> #N/A | K36: =IF(ROUND(VALUE(SUBSTITUTE('(8)連結実質赤字比率に係る赤字・黒字の構成分析'!J$34,"▲", "-")), 2) >= 0, ABS(ROUND(VALUE(SUBSTITUTE('(8)連結実質赤字比率に係る赤字・黒字の構成分析'!J$34,"▲", "-")), 2)), NA()) -> 7.04
A39: 実質公債費比率（分子）の構造
B40: ='(9)実質公債費比率（分子）の構造'!K$44 -> R02 | E40: ='(9)実質公債費比率（分子）の構造'!L$44 -> R03 | H40: ='(9)実質公債費比率（分子）の構造'!M$44 -> R04 | K40: ='(9)実質公債費比率（分子）の構造'!N$44 -> R05 | N40: ='(9)実質公債費比率（分子）の構造'!O$44 -> R06
B41: 元利償還金等 | D41: 算入公債費等 | E41: 元利償還金等 | G41: 算入公債費等 | H41: 元利償還金等 | J41: 算入公債費等 | K41: 元利償還金等 | M41: 算入公債費等 | N41: 元利償還金等 | P41: 算入公債費等
A42: 算入公債費等 | D42: ='(9)実質公債費比率（分子）の構造'!K$52 -> 3964 | G42: ='(9)実質公債費比率（分子）の構造'!L$52 -> 3938 | J42: ='(9)実質公債費比率（分子）の構造'!M$52 -> 3855 | M42: ='(9)実質公債費比率（分子）の構造'!N$52 -> 3822 | P42: ='(9)実質公債費比率（分子）の構造'!O$52 -> 3623
A43: 一時借入金の利子 | B43: ='(9)実質公債費比率（分子）の構造'!K$51 -> - | E43: ='(9)実質公債費比率（分子）の構造'!L$51 -> - | H43: ='(9)実質公債費比率（分子）の構造'!M$51 -> - | K43: ='(9)実質公債費比率（分子）の構造'!N$51 -> - | N43: ='(9)実質公債費比率（分子）の構造'!O$51 -> -
A44: 債務負担行為に基づく支出額 | B44: ='(9)実質公債費比率（分子）の構造'!K$50 -> - | E44: ='(9)実質公債費比率（分子）の構造'!L$50 -> - | H44: ='(9)実質公債費比率（分子）の構造'!M$50 -> - | K44: ='(9)実質公債費比率（分子）の構造'!N$50 -> - | N44: ='(9)実質公債費比率（分子）の構造'!O$50 -> -
A45: 組合等が起こした地方債の元利償還金に対する負担金等 | B45: ='(9)実質公債費比率（分子）の構造'!K$49 -> 120 | E45: ='(9)実質公債費比率（分子）の構造'!L$49 -> 143 | H45: ='(9)実質公債費比率（分子）の構造'!M$49 -> 164 | K45: ='(9)実質公債費比率（分子）の構造'!N$49 -> 186 | N45: ='(9)実質公債費比率（分子）の構造'!O$49 -> 181
A46: 公営企業債の元利償還金に対する繰入金 | B46: ='(9)実質公債費比率（分子）の構造'!K$48 -> 1186 | E46: ='(9)実質公債費比率（分子）の構造'!L$48 -> 1136 | H46: ='(9)実質公債費比率（分子）の構造'!M$48 -> 1220 | K46: ='(9)実質公債費比率（分子）の構造'!N$48 -> 1087 | N46: ='(9)実質公債費比率（分子）の構造'!O$48 -> 832
A47: 満期一括償還地方債に係る年度割相当額 | B47: ='(9)実質公債費比率（分子）の構造'!K$47 -> - | E47: ='(9)実質公債費比率（分子）の構造'!L$47 -> - | H47: ='(9)実質公債費比率（分子）の構造'!M$47 -> - | K47: ='(9)実質公債費比率（分子）の構造'!N$47 -> - | N47: ='(9)実質公債費比率（分子）の構造'!O$47 -> -
...
