Workbook

Sheet Sheet1
B1: =[1]付託案件一覧!B1 -> 令和８年２月定例会 都市住宅常任委員会
B2: 付託案件一覧表【採決結果】
B4: ○議 案
B5: 番 号 | C5: 件 名 | F5: 採決 結果 | G5: 維新 | H5: 公明 | I5: 自民
G7: ⑦ | H7: ② | I7: ①
B8: =[1]議案!B3 -> 1 | C8: =[1]議案!C3 -> 令和８年度大阪府一般会計予算の件中、関係事項 | F8: 可決 | G8: ○ | H8: ○ | I8: ○
B9: =[1]議案!B4 -> 4 | C9: =[1]議案!C4 -> 令和８年度大阪府営住宅事業特別会計予算の件 | F9: 可決 | G9: ○ | H9: ○ | I9: ○
B10: =[1]議案!B5 -> 5 | C10: =[1]議案!C5 -> 令和８年度港湾整備事業特別会計予算の件 | F10: 可決 | G10: ○ | H10: ○ | I10: ○
B11: =[1]議案!B6 -> 7 | C11: =[1]議案!C6 -> 令和８年度不動産調達特別会計予算の件中、関係事項 | F11: 可決 | G11: ○ | H11: ○ | I11: ○
B12: =[1]議案!B7 -> 17 | C12: =[1]議案!C7 -> 令和８年度大阪府流域下水道事業会計予算の件 | F12: 可決 | G12: ○ | H12: ○ | I12: ○
B13: =[1]議案!B8 -> 18 | C13: =[1]議案!C8 -> 令和８年度大阪府まちづくり促進事業会計予算の件 | F13: 可決 | G13: ○ | H13: ○ | I13: ○
B14: =[1]議案!B9 -> 22 | C14: =[1]議案!C9 -> 令和７年度大阪府一般会計補正予算（第８号）の件中、関係事項 | F14: 可決 | G14: ○ | H14: ○ | I14: ○
B15: =[1]議案!B10 -> 25 | C15: =[1]議案!C10 -> 令和７年度大阪府営住宅事業特別会計補正予算（第２号）の件 | F15: 可決 | G15: ○ | H15: ○ | I15: ○
B16: =[1]議案!B11 -> 26 | C16: =[1]議案!C11 -> 令和７年度港湾整備事業特別会計補正予算（第１号）の件 | F16: 可決 | G16: ○ | H16: ○ | I16: ○
B17: =[1]議案!B12 -> 28 | C17: =[1]議案!C12 -> 令和７年度不動産調達特別会計補正予算（第１号）の件中、関係事項 | F17: 可決 | G17: ○ | H17: ○ | I17: ○
B18: =[1]議案!B13 -> 36 | C18: =[1]議案!C13 -> 令和７年度大阪府流域下水道事業会計補正予算（第２号）の件 | F18: 可決 | G18: ○ | H18: ○ | I18: ○
B19: =[1]議案!B14 -> 37 | C19: =[1]議案!C14 -> 令和７年度大阪府まちづくり促進事業会計補正予算（第１号）の件 | F19: 可決 | G19: ○ | H19: ○ | I19: ○
... B30: =[1]議案!B25 -> 50 | C30: =[1]議案!C25 -> 工事請負契約締結の件（大阪府立支援学校施設整備事業） | F30: 可決 | G30: ○ | H30: ○ | I30: ○
B31: 番 号 | C31: 件 名 | F31: 採決 結果 | G31: 維新 | H31: 公明 | I31: 自民
G33: ⑦ | H33: ② | I33: ①
B34: =[1]議案!B26 -> 51 | C34: =[1]議案!C26 -> 工事請負契約変更の件（モノレール道整備事業） | F34: 可決 | G34: ○ | H34: ○ | I34: ○
B35: =[1]議案!B27 -> 52 | C35: =[1]議案!C27 -> 工事請負契約変更の件（津波・高潮対策事業） | F35: 可決 | G35: ○ | H35: ○ | I35: ○
B36: =[1]議案!B28 -> 53 | C36: =[1]議案!C28 -> 不動産買入れの件 | F36: 可決 | G36: ○ | H36: ○ | I36: ○
B37: =[1]議案!B29 -> 57 | C37: =[1]議案!C29 -> 大阪府営住宅の家賃及び共益費に関する債権放棄の件 | F37: 可決 | G37: ○ | H37: ○ | I37: ○
B38: =[1]議案!B30 -> 58 | C38: =[1]議案!C30 -> 大阪府営住宅の家賃及び共益費に相当する損害金に関する債権放棄の件 | F38: 可決 | G38: ○ | H38: ○ | I38: ○
B39: =[1]議案!B31 -> 59 | C39: =[1]議案!C31 -> 大阪府営住宅の駐車場使用料に関する債権放棄の件 | F39: 可決 | G39: ○ | H39: ○ | I39: ○
B40: =[1]議案!B32 -> 60 | C40: =[1]議案!C32 -> 大阪府営住宅の修繕に係る負担金に関する債権放棄の件 | F40: 可決 | G40: ○ | H40: ○ | I40: ○
B41: =[1]議案!B33 -> 99 | C41: =[1]議案!C33 -> 大阪府都市公園条例及び大阪府附属機関条例一部改正の件 | F41: 可決 | G41: ○ | H41: ○ | I41: ○
B42: =[1]議案!B34 -> 100 | C42: =[1]議案!C34 -> 大阪府建築都市行政事務手数料条例及び大阪府建築都市行政事務に係る事務処理の特例に関する条例一部改正の件 | F42: 可決 | G42: ○ | H42: ○ | I42: ○
B43: =[1]議案!B35 -> 101 | C43: =[1]議案!C35 -> 大阪府建築基準法施行条例一部改正の件 | F43: 可決 | G43: ○ | H43: ○ | I43: ○
B44: =[1]議案!B36 -> 102 | C44: =[1]議案!C36 -> 大阪府営住宅条例一部改正の件 | F44: 可決 | G44: ○ | H44: ○ | I44: ○
B46: ○調査事件
B47: =[1]調査事件!B3 -> 1 | C47: =[1]調査事件!C3 -> 都市計画及び土地利用対策に関する件
B48: =[1]調査事件!B4 -> 2 | C48: =[1]調査事件!C4 -> 下水道、公園の整備に関する件
B49: =[1]調査事件!B5 -> 3 | C49: =[1]調査事件!C5 -> 道路、街路の整備に関する件
B50: =[1]調査事件!B6 -> 4 | C50: =[1]調査事件!C6 -> 交通対策に関する件
B51: =[1]調査事件!B7 -> 5 | C51: =[1]調査事件!C7 -> 治水対策に関する件
B52: =[1]調査事件!B8 -> 6 | C52: =[1]調査事件!C8 -> 港湾の整備に関する件
B53: =[1]調査事件!B9 -> 7 | C53: =[1]調査事件!C9 -> 市街地及び臨海地域のまちづくりに関する件
B54: =[1]調査事件!B10 -> 8 | C54: =[1]調査事件!C10 -> 住宅、住環境の整備に関する件
...

Sheet Sheet2
