Workbook

Sheet 採決表
B5: =[1]付託案件一覧!B1 -> 令和７年２月定例会 教育常任委員会 | L5: 不要な部分は非表示や削除して使用してください。
B6: 採決順序及び採決方法
B8: ○議 案 | K8: ○印＝起立箇所
C9: 番 号 | F9: 採 決 方 法 | H9: =[1]態度表!F5 -> 維新 | I9: =[1]態度表!G5 -> 公明 | J9: =[1]態度表!H5 -> 自民 | K9: =[1]態度表!I5 -> 大阪
B10: 順序
H11: =[1]態度表!F7 -> ⑧ | I11: =[1]態度表!G7 -> ① | J11: =[1]態度表!H7 -> ① | K11: =[1]態度表!I7 -> ①
B12: 1 | D12: 第１号関係事項、第21号関係事項、第52号、第53号、第71号、第72号、第77号及び第101号から第103号まで | F12: 可決について | G12: 簡易採決 | H12: 異 議 な し | L12: 番号は２行入力できます。 足らない場合は行を追加してください。
D13: （10件）
B15: ○請 願 | K15: ○印＝起立箇所
C16: 番 号 | F16: 採 決 方 法 | H16: =[1]態度表!F5 -> 維新 | I16: =[1]態度表!G5 -> 公明 | J16: =[1]態度表!H5 -> 自民 | K16: =[1]態度表!I5 -> 大阪
B17: 順 序
H18: =[1]態度表!F7 -> ⑧ | I18: =[1]態度表!G7 -> ① | J18: =[1]態度表!H7 -> ① | K18: =[1]態度表!I7 -> ①
B19: 1 | D19: 第17号、第21号及び第22号 | F19: 採択について | G19: 起立採決
D20: （３件）
B22: ○調査事件
C23: 件 名 | F23: 採 決 方 法 | H23: =[1]態度表!F5 -> 維新 | I23: =[1]態度表!G5 -> 公明 | J23: =[1]態度表!H5 -> 自民 | K23: =[1]態度表!I5 -> 大阪
B24: 順 序
H25: =[1]態度表!F7 -> ⑧ | I25: =[1]態度表!G7 -> ① | J25: =[1]態度表!H7 -> ① | K25: =[1]態度表!I7 -> ①
B26: 1 | D26: =[1]調査事件!C3 -> 公立大学法人の運営に関する件 | F26: 継続調査について | G26: 簡易採決 | H26: 異 議 な し
D27: =COUNT([1]調査事件!B3:B14)-1 -> 5
